Workbook

Sheet Hướng dẫn
A1: Quy trình nhập điểm Tổng kết Học phần theo tín chỉ
A2: STT | B2: Bảng tính thao tác | C2: Công việc thực hiện
A3: 1 | B3: Vào bảng tính DS LOP CAO DANG | C3: Sort theo tên lớp, sau đó chọn toàn bộ MSSV (mã số sinh viên) của lớp, nhấn phím Ctrl-C để chép mã số SV
A4: 2 | B4: Vào bảng tính HP LY THUYET cho học phần lý thuyết hay HP THUC HANH cho học phần thực hành | C4: Chép MSSV vào cột B tương ứng của bảng điểm học phần (Họ và tên sinh viên sẽ được truyền vào theo MSSV, cột số thứ tự và tên lớp sẽ được điền tự động).
C5: Lưu ý 1: Quý Thầy Cô cần chú ý danh sách học thực tế có thể khác với danh sách lớp cố định.
C6: Lưu ý 2: Trong bảng tính điểm học phần không nhất thiết sắp theo thứ tự, nhưng phải đảm bảo tính chính xác của MSSV.
C7: Nhập tên học phần; số tín chỉ (các ô có nền tương ứng).
C8: Ghi chú: Nhập đúng tên học phần và số đơn vị tín chỉ theo bảng tính TÊN HỌC PHẦN
C9: Nhập các điểm thành phần theo từng cột điểm tương ứng
C10: Lưu ý 3: Khi muốn in bảng điểm học phần, nên bỏ phần màu nền.
C11: Lưu ý 4: Đối với SV bảo lưu chỉ cần nhập điểm bảo lưu vào ô Điểm bảo lưu của từng bảng điểm học phần. Các cột còn lại để trống.
B12: Để thống nhất trong việc quản lý điểm số của HSSV trong toàn trường, sau khi hoàn thành bảng tính, xin Quý Thầy Cô lưu lại file theo định dạng: tenlop_tenhocphan và gửi cho Phòng TS-ĐT-GTVL qua email kqht.lytutrong@gmail.com
B13: Nếu Quý Thầy Cô có vướng mắc gì, xin liên hệ trực tiếp với Phòng Tuyển sinh-Đào tạo-Giới thiệu việc làm.

Sheet TÊN HỌC PHẦN
A1: UBND THÀNH PHỐ HỒ CHÍ MINH | D1: CỘNG HÒA XÃ HỘI CHỦ NGHĨA VIỆT NAM
A2: TRƯỜNG CAO ĐẲNG KỸ THUẬT LÝ TỰ TRỌNG TP. HỒ CHÍ MINH | D2: Độc lập - Tự do - Hạnh phúc
D3: Thành phố Hồ Chí Minh, ngày tháng 12 năm 2015
A4: QUI ĐỊNH SỐ TÍN CHỈ CỦA CÁC HỌC PHẦN TRONG HỌC KỲ I / 2015 - 2016 Bậc đào tạo : Cao đẳng (Khóa 2015) | H4: STC | I4: TSM | J4: LT | K4: TH
A6: TT | B6: LỚP | C6: STT | D6: TÊN HỌC PHẦN | E6: SỐ TÍN CHỈ | G6: GHI CHÚ | I6: =MAX(I8:I60) -> 9 | J6: =MAX(J8:J60) -> 8 | K6: =MAX(K8:K60) -> 2
E7: LÝ THUYẾT | F7: THỰC HÀNH
A8: 1 | B8: 15 CĐ - ĐĐT 1,2,3,4,5,6,7,8,9 | C8: 1 | D8: TOÁN CAO CẤP 1 | E8: 3 | H8: =SUM(E8:F14) -> 17 | I8: =COUNTA(D8:D14) -> 7 | J8: =COUNTA(E8:E14) -> 6
C9: 2 | D9: VẬT LÝ ĐẠI CƯƠNG 1 | E9: 3
C10: 3 | D10: GIÁO DỤC THỂ CHẤT 1 | F10: 1
C11: 4 | D11: HÓA HỌC ĐẠI CƯƠNG 1 | E11: 2
C12: 5 | D12: PHÁP LUẬT ĐẠI CƯƠNG | E12: 2
C13: 6 | D13: NHẬP MÔN TIN HỌC | E13: 2 | F13: 1
C14: 7 | D14: MẠCH ĐIỆN | E14: 3
C15: 8 | D15: AN TOÀN ĐIỆN | E15: 2
C16: 9 | D16: MẠCH ĐIỆN TỬ | E16: 2 | H16: =SUM(E16:F22) -> 16 | I16: =COUNTA(D16:D22) -> 7 | J16: =COUNTA(E16:E22) -> 6
A17: 2 | B17: 15 CĐ - ĐL 1,2,3 | C17: 1 | D17: TOÁN CAO CẤP 1 | E17: 3
C18: 2 | D18: VẬT LÝ ĐẠI CƯƠNG 1 | E18: 3
C19: 3 | D19: GIÁO DỤC THỂ CHẤT 1 | F19: 1
C20: 4 | D20: HÓA HỌC ĐẠI CƯƠNG 1 | E20: 2
C21: 5 | D21: ANH VĂN 1 | E21: 3
C22: 6 | D22: PHÁP LUẬT ĐẠI CƯƠNG | E22: 2
C23: 7 | D23: NHỮNG NGUYÊN LÝ CB CỦA CNMLN 1 | E23: 2 | H23: =SUM(E23:F31) -> 20 | I23: =COUNTA(D23:D31) -> 9 | J23: =COUNTA(E23:E31) -> 8
C24: 8 | D24: AN TOÀN LAO ĐỘNG | E24: 2
C25: 9 | D25: VẼ KỸ THUẬT | E25: 2
A26: 3 | B26: 15 CĐ-CK 1,2,3,4,5,6,7,8,9 | C26: 1 | D26: TOÁN CAO CẤP 1 | E26: 3
C27: 2 | D27: VẬT LÝ ĐẠI CƯƠNG 1 | E27: 3
C28: 3 | D28: GIÁO DỤC THỂ CHẤT 1 | F28: 1
C29: 4 | D29: HÓA HỌC ĐẠI CƯƠNG 1 | E29: 2
C30: 5 | D30: ANH VĂN 1 | E30: 3
C31: 6 | D31: PHÁP LUẬT ĐẠI CƯƠNG | E31: 2
C32: 7 | D32: NHỮNG NGUYÊN LÝ CB CỦA CNMLN 1 | E32: 2
C33: 8 | D33: NHẬP MÔN TIN HỌC | E33: 2 | F33: 1 | H33: =SUM(E33:F40) -> 19 | I33: =COUNTA(D33:D40) -> 8 | J33: =COUNTA(E33:E40) -> 7 | K33: =COUNTA(F33:F40) -> 2
C34: 9 | D34: AN TOÀN VÀ MÔI TRƯỜNG CÔNG NGHIỆP | E34: 2
A35: 4 | B35: 15 CĐ-Ô 1,2,3,4,5,6,7,8,9 | C35: 1 | D35: TOÁN CAO CẤP 1 | E35: 3
C36: 2 | D36: VẬT LÝ ĐẠI CƯƠNG 1 | E36: 3
C37: 3 | D37: GIÁO DỤC THỂ CHẤT 1 | F37: 1
C38: 4 | D38: HÓA HỌC ĐẠI CƯƠNG 1 | E38: 2
C39: 5 | D39: ANH VĂN 1 | E39: 3
C40: 6 | D40: NHỮNG NGUYÊN LÝ CB CỦA CNMLN 1 | E40: 2
C41: 7 | D41: HÌNH HỌA-VẼ KỸ THUẬT | E41: 3
C42: 8 | D42: NHẬP MÔN NGÀNH CÔNG NGHỆ Ô TÔ | E42: 2
C43: 9 | D43: THỰC TẬP KỸ THUẬT LÁI XE | F43: 1
A44: 5 | B44: 15 CĐ-MTT 1,2,3 | C44: 1 | D44: TOÁN CAO CẤP 1 | E44: 3
C45: 2 | D45: VẬT LÝ ĐẠI CƯƠNG 1 | E45: 3
C46: 3 | D46: GIÁO DỤC THỂ CHẤT 1 | F46: 1
C47: 4 | D47: HÓA HỌC ĐẠI CƯƠNG 1 | E47: 2
C48: 5 | D48: ANH VĂN 1 | E48: 3
C49: 6 | D49: NHỮNG NGUYÊN LÝ CB CỦA CNMLN 1 | E49: 2
C50: 7 | D50: THIẾT KẾ TRANG PHỤC 1 | E50: 3
C51: 8 | D51: CÔNG NGHỆ MAY TRANG PHỤC 1 | E51: 2
C52: 9 | D52: THỰC TẬP THIẾT BỊ VÀ BẢO TRÌ MAY CN | F52: 2
A53: 6 | B53: 15 CĐ-CNTT 1,2,3,4,5,6,7 | C53: 1 | D53: TOÁN CAO CẤP 1 | E53: 3
C54: 2 | D54: VẬT LÝ ĐẠI CƯƠNG 1 | E54: 3
C55: 3 | D55: GIÁO DỤC THỂ CHẤT 1 | F55: 1
C56: 4 | D56: ANH VĂN 1 | E56: 3
C57: 5 | D57: NHỮNG NGUYÊN LÝ CB CỦA CNMLN 1 | E57: 2 | H57: =SUM(E57:F60) -> 10 | I57: =COUNTA(D57:D60) -> 4 | J57: =COUNTA(E57:E60) -> 4
C58: 6 | D58: TOÁN RỜI RẠC | E58: 3
C59: 7 | D59: CƠ SỞ DỮ LIỆU | E59: 2
C60: 8 | D60: NHẬP MÔN TIN HỌC | E60: 2 | F60: 1

Sheet DS LOP CAO DANG
A1: STT | B1: MSSV | C1: Họ | D1: Tên | E1: Ngày sinh | F1: Lớp | G1: Phái | H1: Hệ | I1: ="Khoá 15CĐCN = "&COUNTIF(J:J,"15") -> Khoá 15CĐCN = 2243 | K1: DS ngày 17/12/2015
A2: 1 | B2: 15000635 | C2: Phan Thanh | D2: An | E2: 01/11/1997 | F2: 15CĐ-ĐĐT1 | H2: B | J2: =LEFT(F2,2) -> 15
A3: 2 | B3: 15000276 | C3: Phạm Đức | D3: Bình | E3: 09/12/1993 | F3: 15CĐ-ĐĐT1 | H3: A | J3: =LEFT(F3,2) -> 15
A4: 3 | B4: 15000618 | C4: Dương Thái | D4: Châu | E4: 26/06/1996 | F4: 15CĐ-ĐĐT1 | H4: B | J4: =LEFT(F4,2) -> 15
A5: 4 | B5: 15000448 | C5: Huỳnh Văn | D5: Đặng | E5: 20/06/1997 | F5: 15CĐ-ĐĐT1 | H5: B | J5: =LEFT(F5,2) -> 15
A6: 5 | B6: 15000579 | C6: Cao Văn | D6: Đạt | E6: 25/03/1997 | F6: 15CĐ-ĐĐT1 | H6: B | J6: =LEFT(F6,2) -> 15
A7: 6 | B7: 15000773 | C7: Trần Tiến | D7: Đạt | E7: 01/05/1997 | F7: 15CĐ-ĐĐT1 | H7: A | J7: =LEFT(F7,2) -> 15
A8: 7 | B8: 15000615 | C8: Trương Gia | D8: Đạt | E8: 06/03/1997 | F8: 15CĐ-ĐĐT1 | H8: B | J8: =LEFT(F8,2) -> 15
A9: 8 | B9: 15003055 | C9: Trần Đức | D9: Diệu | E9: 26/06/1997 | F9: 15CĐ-ĐĐT1 | G9: LPKL | H9: B | J9: =LEFT(F9,2) -> 15
A10: 9 | B10: 15000566 | C10: Nguyễn Tấn | D10: Đức | E10: 29/08/1997 | F10: 15CĐ-ĐĐT1 | H10: B | J10: =LEFT(F10,2) -> 15
A11: 10 | B11: 15000645 | C11: Đỗ Hoàng | D11: Duy | E11: 06/04/1997 | F11: 15CĐ-ĐĐT1 | H11: B | J11: =LEFT(F11,2) -> 15
A12: 11 | B12: 15000650 | C12: Nguyễn Đình | D12: Duy | E12: 07/03/1995 | F12: 15CĐ-ĐĐT1 | H12: B | J12: =LEFT(F12,2) -> 15
A13: 12 | B13: 15000664 | C13: Nguyễn Khương | D13: Duy | E13: 10/03/1996 | F13: 15CĐ-ĐĐT1 | H13: B | J13: =LEFT(F13,2) -> 15
A14: 13 | B14: 15000616 | C14: Phan Vủ Trường | D14: Giang | E14: 03/04/1997 | F14: 15CĐ-ĐĐT1 | H14: B | J14: =LEFT(F14,2) -> 15
A15: 14 | B15: 15000191 | C15: Phạm Văn | D15: Hải | E15: 22/01/1993 | F15: 15CĐ-ĐĐT1 | H15: A | J15: =LEFT(F15,2) -> 15
A16: 15 | B16: 15000785 | C16: Đặng Minh | D16: Hiếu | E16: 30/12/1997 | F16: 15CĐ-ĐĐT1 | H16: B | J16: =LEFT(F16,2) -> 15
A17: 16 | B17: 15000572 | C17: Trương Công | D17: Hiếu | E17: 12/01/1997 | F17: 15CĐ-ĐĐT1 | H17: B | J17: =LEFT(F17,2) -> 15
A18: 17 | B18: 15000607 | C18: Lê Tuấn Anh | D18: Hoàng | E18: 01/08/1996 | F18: 15CĐ-ĐĐT1 | H18: B | J18: =LEFT(F18,2) -> 15
A19: 18 | B19: 15000675 | C19: Phạm Văn | D19: Hồng | E19: 06/09/1997 | F19: 15CĐ-ĐĐT1 | H19: B | J19: =LEFT(F19,2) -> 15
A20: 19 | B20: 15000680 | C20: Trương Quốc | D20: Huấn | E20: 19/02/1997 | F20: 15CĐ-ĐĐT1 | H20: B | J20: =LEFT(F20,2) -> 15
A21: 20 | B21: 15003065 | C21: Lý Hoàng | D21: Huy | E21: 03/12/1997 | F21: 15CĐ-ĐĐT1 | H21: B | J21: =LEFT(F21,2) -> 15
... A33: 32 | B33: 15000677 | C33: Phạm Duy | D33: Nam | E33: 03/07/1997 | F33: 15CĐ-ĐĐT1 | H33: B | J33: =LEFT(F33,2) -> 15
A34: 33 | B34: 15003469 | C34: Phan Thanh | D34: Nhật | E34: 15/02/1997 | F34: 15CĐ-ĐĐT1 | G34: LPHT | H34: B | J34: =LEFT(F34,2) -> 15
A35: 34 | B35: 15000423 | C35: Nguyễn Văn | D35: Nhiều | E35: 11/07/1997 | F35: 15CĐ-ĐĐT1 | H35: B | J35: =LEFT(F35,2) -> 15
A36: 35 | B36: 15000776 | C36: Lục Văn | D36: Nhựt | E36: 21/08/1995 | F36: 15CĐ-ĐĐT1 | H36: B | J36: =LEFT(F36,2) -> 15
A37: 36 | B37: 15000652 | C37: Đồng Văn Hoài | D37: Phong | E37: 12/11/1997 | F37: 15CĐ-ĐĐT1 | H37: B | J37: =LEFT(F37,2) -> 15
A38: 37 | B38: 15000743 | C38: Huỳnh Thanh | D38: Phong | E38: 21/06/1997 | F38: 15CĐ-ĐĐT1 | H38: B | J38: =LEFT(F38,2) -> 15
A39: 38 | B39: 15000541 | C39: Trần Triệu | D39: Phú | E39: 05/09/1997 | F39: 15CĐ-ĐĐT1 | H39: B | J39: =LEFT(F39,2) -> 15
A40: 39 | B40: 15000606 | C40: Nguyễn Hà Hoàng | D40: Phúc | E40: 13/05/1997 | F40: 15CĐ-ĐĐT1 | H40: A | J40: =LEFT(F40,2) -> 15
A41: 40 | B41: 15000622 | C41: Võ Phước | D41: Sang | E41: 03/06/1996 | F41: 15CĐ-ĐĐT1 | H41: A | J41: =LEFT(F41,2) -> 15
A42: 41 | B42: 15000611 | C42: Hà Song | D42: Tài | E42: 12/07/1997 | F42: 15CĐ-ĐĐT1 | H42: A | J42: =LEFT(F42,2) -> 15
A43: 42 | B43: 15000714 | C43: Tô Quốc | D43: Tài | E43: 12/08/1997 | F43: 15CĐ-ĐĐT1 | H43: A | J43: =LEFT(F43,2) -> 15
A44: 43 | B44: 15000352 | C44: Vũ A | D44: Thầm | E44: 30/06/1996 | F44: 15CĐ-ĐĐT1 | H44: B | J44: =LEFT(F44,2) -> 15
A45: 44 | B45: 15000568 | C45: Nguyễn Tuấn | D45: Thành | E45: 29/07/1996 | F45: 15CĐ-ĐĐT1 | H45: A | J45: =LEFT(F45,2) -> 15
A46: 45 | B46: 15000751 | C46: Trần | D46: Thiện | E46: 04/09/1997 | F46: 15CĐ-ĐĐT1 | H46: B | J46: =LEFT(F46,2) -> 15
A47: 46 | B47: 15000784 | C47: Huỳnh Thị Xuân | D47: Thời | E47: 11/05/1997 | F47: 15CĐ-ĐĐT1 | G47: Nữ | H47: B | I47: LT | J47: =LEFT(F47,2) -> 15
A48: 47 | B48: 15000580 | C48: Vương Quốc Bảo | D48: Thông | E48: 22/05/1997 | F48: 15CĐ-ĐĐT1 | H48: B | J48: =LEFT(F48,2) -> 15
A49: 48 | B49: 15003482 | C49: Nguyễn Huy | D49: Thược | E49: 20/02/1997 | F49: 15CĐ-ĐĐT1 | H49: B | J49: =LEFT(F49,2) -> 15
A50: 49 | B50: 15000428 | C50: Nguyễn Minh | D50: Tiến | E50: 13/12/1997 | F50: 15CĐ-ĐĐT1 | H50: B | J50: =LEFT(F50,2) -> 15
A51: 50 | B51: 15000501 | C51: Đặng Phước | D51: Toàn | E51: 13/12/1997 | F51: 15CĐ-ĐĐT1 | H51: B | J51: =LEFT(F51,2) -> 15
A52: 51 | B52: 15000637 | C52: Bùi Chí | D52: Trung | E52: 20/09/1997 | F52: 15CĐ-ĐĐT1 | H52: B | J52: =LEFT(F52,2) -> 15
A53: 52 | B53: 15000519 | C53: Nguyễn Anh | D53: Trung | E53: 03/11/1997 | F53: 15CĐ-ĐĐT1 | H53: A | J53: =LEFT(F53,2) -> 15
A54: 53 | B54: 15000549 | C54: Nguyễn Nhật | D54: Trường | E54: 31/05/1997 | F54: 15CĐ-ĐĐT1 | H54: B | J54: =LEFT(F54,2) -> 15
A55: 54 | B55: 15000752 | C55: Ngô Anh | D55: Tú | E55: 06/05/1996 | F55: 15CĐ-ĐĐT1 | H55: A | J55: =LEFT(F55,2) -> 15
A56: 55 | B56: 15000489 | C56: Thân Hoài | D56: Tú | E56: 29/08/1997 | F56: 15CĐ-ĐĐT1 | H56: B | J56: =LEFT(F56,2) -> 15
A57: 56 | B57: 15000723 | C57: Thái Hoàng | D57: Tùng | E57: 10/10/1997 | F57: 15CĐ-ĐĐT1 | H57: B | J57: =LEFT(F57,2) -> 15
A58: 57 | B58: 15000499 | C58: Đặng Văn | D58: Tưởng | E58: 20/01/1996 | F58: 15CĐ-ĐĐT1 | H58: B | J58: =LEFT(F58,2) -> 15
A59: 58 | B59: 15000581 | C59: Trần Xuân | D59: Tưởng | E59: 26/11/1997 | F59: 15CĐ-ĐĐT1 | H59: B | J59: =LEFT(F59,2) -> 15
A60: 59 | B60: 15000765 | C60: Hồ Quang | D60: Vũ | E60: 09/01/1997 | F60: 15CĐ-ĐĐT1 | H60: B | J60: =LEFT(F60,2) -> 15
A61: 1 | B61: 15000823 | C61: Nguyễn Hàn Lâm Phương | D61: Ánh | E61: 19/06/1997 | F61: 15CĐ-ĐĐT2 | G61: LPKL | H61: B | J61: =LEFT(F61,2) -> 15
A62: 2 | B62: 15000847 | C62: Huỳnh Minh | D62: Bảo | E62: 02/09/1995 | F62: 15CĐ-ĐĐT2 | H62: B | J62: =LEFT(F62,2) -> 15
A63: 3 | B63: 15001138 | C63: Phạm Cao | D63: Chánh | E63: 20/02/1995 | F63: 15CĐ-ĐĐT2 | H63: B | J63: =LEFT(F63,2) -> 15
A64: 4 | B64: 15000913 | C64: Bùi Văn | D64: Chung | E64: 16/05/1997 | F64: 15CĐ-ĐĐT2 | H64: B | J64: =LEFT(F64,2) -> 15
A65: 5 | B65: 15000912 | C65: Đinh Minh | D65: Đạt | E65: 14/01/1997 | F65: 15CĐ-ĐĐT2 | G65: LT | H65: A | J65: =LEFT(F65,2) -> 15
A66: 6 | B66: 15000874 | C66: Lê Phát | D66: Đạt | E66: 09/01/1996 | F66: 15CĐ-ĐĐT2 | H66: B | J66: =LEFT(F66,2) -> 15
A67: 7 | B67: 15001118 | C67: Trần Quang | D67: Đạt | E67: 04/07/1996 | F67: 15CĐ-ĐĐT2 | H67: A | J67: =LEFT(F67,2) -> 15
A68: 8 | B68: 15001112 | C68: Lê Đức | D68: Doanh | E68: 22/04/1997 | F68: 15CĐ-ĐĐT2 | H68: B | J68: =LEFT(F68,2) -> 15
A69: 9 | B69: 15001019 | C69: Văn Công | D69: Dư | E69: 24/01/1997 | F69: 15CĐ-ĐĐT2 | H69: B | J69: =LEFT(F69,2) -> 15
A70: 10 | B70: 15001106 | C70: Trần Hoàng | D70: Dũng | E70: 11/05/1996 | F70: 15CĐ-ĐĐT2 | H70: B | J70: =LEFT(F70,2) -> 15
A71: 11 | B71: 15001158 | C71: Nguyễn Văn | D71: Giang | E71: 11/03/1997 | F71: 15CĐ-ĐĐT2 | H71: B | J71: =LEFT(F71,2) -> 15
A72: 12 | B72: 15001175 | C72: Nguyễn Minh | D72: Hải | E72: 16/02/1997 | F72: 15CĐ-ĐĐT2 | H72: B | J72: =LEFT(F72,2) -> 15
A73: 13 | B73: 15001092 | C73: Nguyễn Phúc | D73: Hậu | E73: 21/01/1997 | F73: 15CĐ-ĐĐT2 | H73: A | J73: =LEFT(F73,2) -> 15
A74: 14 | B74: 15000873 | C74: Lê Trọng | D74: Hiếu | E74: 07/07/1997 | F74: 15CĐ-ĐĐT2 | H74: B | J74: =LEFT(F74,2) -> 15
A75: 15 | B75: 15000800 | C75: Lường Văn | D75: Hòa | E75: 08/08/1995 | F75: 15CĐ-ĐĐT2 | H75: B | J75: =LEFT(F75,2) -> 15
A76: 16 | B76: 15000909 | C76: Nguyễn Văn | D76: Hoàng | E76: 17/03/1997 | F76: 15CĐ-ĐĐT2 | H76: B | J76: =LEFT(F76,2) -> 15
A77: 17 | B77: 15001140 | C77: Nguyễn Thanh | D77: Hùng | E77: 29/09/1994 | F77: 15CĐ-ĐĐT2 | H77: B | J77: =LEFT(F77,2) -> 15
... A81: 21 | B81: 15000910 | C81: Trương Phi | D81: Kiệt | E81: 18/12/1997 | F81: 15CĐ-ĐĐT2 | H81: A | J81: =LEFT(F81,2) -> 15
A82: 22 | B82: 15000838 | C82: Nguyễn Phước | D82: Lộc | E82: 03/02/1995 | F82: 15CĐ-ĐĐT2 | H82: B | I82: VPNQ_ĐB_30/11/2015CC | J82: =LEFT(F82,2) -> 15
A83: 23 | B83: 15001080 | C83: Mai Ngọc | D83: Long | E83: 12/04/1997 | F83: 15CĐ-ĐĐT2 | H83: B | J83: =LEFT(F83,2) -> 15
A84: 24 | B84: 15001004 | C84: Nguyễn Thành | D84: Luân | E84: 26/09/1997 | F84: 15CĐ-ĐĐT2 | H84: B | J84: =LEFT(F84,2) -> 15
A85: 25 | B85: 15001162 | C85: Trương Minh | D85: Luân | E85: 09/11/1997 | F85: 15CĐ-ĐĐT2 | H85: A | J85: =LEFT(F85,2) -> 15
A86: 26 | B86: 15001182 | C86: Lâm Tuấn | D86: Minh | E86: 13/08/1997 | F86: 15CĐ-ĐĐT2 | H86: A | J86: =LEFT(F86,2) -> 15
A87: 27 | B87: 15000989 | C87: Nguyễn Hoàng | D87: Nam | E87: 20/09/1997 | F87: 15CĐ-ĐĐT2 | H87: A | J87: =LEFT(F87,2) -> 15
A88: 28 | B88: 15001148 | C88: Trần Văn | D88: Nghĩa | E88: 25/10/1996 | F88: 15CĐ-ĐĐT2 | H88: B | J88: =LEFT(F88,2) -> 15
A89: 29 | B89: 15000790 | C89: Nguyễn Quốc | D89: Nguyên | E89: 14/08/1996 | F89: 15CĐ-ĐĐT2 | H89: A | J89: =LEFT(F89,2) -> 15
A90: 30 | B90: 15001079 | C90: Mai Chấn | D90: Phong | E90: 19/12/1997 | F90: 15CĐ-ĐĐT2 | H90: B | J90: =LEFT(F90,2) -> 15
A91: 31 | B91: 15001015 | C91: Nguyễn Duy | D91: Phúc | E91: 20/11/1996 | F91: 15CĐ-ĐĐT2 | G91: LPHT | H91: A | J91: =LEFT(F91,2) -> 15
A92: 32 | B92: 15001179 | C92: Trần Văn | D92: Phúc | E92: 10/02/1997 | F92: 15CĐ-ĐĐT2 | H92: B | J92: =LEFT(F92,2) -> 15
A93: 33 | B93: 15000969 | C93: Nguyễn Đức | D93: Phước | E93: 23/09/1996 | F93: 15CĐ-ĐĐT2 | H93: B | J93: =LEFT(F93,2) -> 15
A94: 34 | B94: 15000921 | C94: Trần Hữu | D94: Phước | E94: 13/09/1996 | F94: 15CĐ-ĐĐT2 | H94: B | J94: =LEFT(F94,2) -> 15
A95: 35 | B95: 15000911 | C95: Nguyễn Minh | D95: Quang | E95: 25/11/1996 | F95: 15CĐ-ĐĐT2 | H95: A | J95: =LEFT(F95,2) -> 15
A96: 36 | B96: 15001010 | C96: Phù | D96: Quất | E96: 24/02/1997 | F96: 15CĐ-ĐĐT2 | H96: B | J96: =LEFT(F96,2) -> 15
A97: 37 | B97: 15000825 | C97: Nguyễn Văn Thiệu | D97: Qui | E97: 28/06/1997 | F97: 15CĐ-ĐĐT2 | H97: B | J97: =LEFT(F97,2) -> 15
A98: 38 | B98: 15000962 | C98: Lương Công | D98: Ri | E98: 12/01/1997 | F98: 15CĐ-ĐĐT2 | H98: B | J98: =LEFT(F98,2) -> 15
A99: 39 | B99: 15001034 | C99: Nguyễn Hồng | D99: Sơn | E99: 15/03/1997 | F99: 15CĐ-ĐĐT2 | H99: A | J99: =LEFT(F99,2) -> 15
A100: 40 | B100: 15001099 | C100: Phùng Văn | D100: Tâm | E100: 01/01/1997 | F100: 15CĐ-ĐĐT2 | H100: B | J100: =LEFT(F100,2) -> 15
A101: 41 | B101: 15000916 | C101: Trần Thanh | D101: Tâm | E101: 01/03/1997 | F101: 15CĐ-ĐĐT2 | H101: B | J101: =LEFT(F101,2) -> 15
A102: 42 | B102: 15000979 | C102: Lê Quí | D102: Tân | E102: 23/09/1997 | F102: 15CĐ-ĐĐT2 | H102: B | J102: =LEFT(F102,2) -> 15
A103: 43 | B103: 15001114 | C103: Lương Công | D103: Thái | E103: 24/12/1997 | F103: 15CĐ-ĐĐT2 | H103: B | J103: =LEFT(F103,2) -> 15
... A120: 3 | B120: 15002856 | C120: Lê Hà Quốc | D120: Cường | E120: 29/03/1996 | F120: 15CĐ-ĐĐT3 | H120: B | J120: =LEFT(F120,2) -> 15
A121: 4 | B121: 15003078 | C121: Văn Tuấn | D121: Cường | E121: 13/01/1997 | F121: 15CĐ-ĐĐT3 | G121: LT | H121: A | J121: =LEFT(F121,2) -> 15
A122: 5 | B122: 15001512 | C122: Nguyễn Minh | D122: Đạt | E122: 10/12/1997 | F122: 15CĐ-ĐĐT3 | H122: A | J122: =LEFT(F122,2) -> 15
A123: 6 | B123: 15003083 | C123: Phan Ngọc | D123: Điềm | E123: 18/06/1997 | F123: 15CĐ-ĐĐT3 | H123: B | J123: =LEFT(F123,2) -> 15
A124: 7 | B124: 15001280 | C124: Lê Văn | D124: Đức | E124: 20/08/1997 | F124: 15CĐ-ĐĐT3 | H124: B | J124: =LEFT(F124,2) -> 15
A125: 8 | B125: 15001254 | C125: Nguyễn Trịnh Đạo | D125: Đức | E125: 21/11/1996 | F125: 15CĐ-ĐĐT3 | H125: A | J125: =LEFT(F125,2) -> 15
A126: 9 | B126: 15003074 | C126: Nguyễn Quốc | D126: Dũng | E126: 17/10/1997 | F126: 15CĐ-ĐĐT3 | H126: B | J126: =LEFT(F126,2) -> 15
A127: 10 | B127: 15001558 | C127: Lê Đức | D127: Dương | E127: 02/02/1997 | F127: 15CĐ-ĐĐT3 | H127: B | J127: =LEFT(F127,2) -> 15
A128: 11 | B128: 15001317 | C128: Đặng Thanh | D128: Duy | E128: 04/06/1997 | F128: 15CĐ-ĐĐT3 | H128: B | J128: =LEFT(F128,2) -> 15
A129: 12 | B129: 15001526 | C129: Nguyễn Bá | D129: Duy | E129: 09/10/1997 | F129: 15CĐ-ĐĐT3 | H129: B | J129: =LEFT(F129,2) -> 15
A130: 13 | B130: 15001405 | C130: Võ Hoàng | D130: Giang | E130: 04/09/1997 | F130: 15CĐ-ĐĐT3 | H130: B | J130: =LEFT(F130,2) -> 15
...

Sheet HP LY THUYET
A1: UBND THÀNH PHỐ HỒ CHÍ MINH | G1: CỘNG HÒA XÃ HỘI CHỦ NGHĨA VIỆT NAM
A2: TRƯỜNG CAO ĐẲNG KỸ THUẬT LÝ TỰ TRỌNG TP. HỒ CHÍ MINH | G2: Độc lập - Tự do - Hạnh phúc
A3: ‾‾‾‾‾‾‾‾‾‾‾‾‾‾‾‾‾‾‾‾‾‾‾‾‾‾‾‾‾‾‾‾‾‾
A4: BẢNG ĐIỂM HỌC PHẦN LÝ THUYẾT
A5: =IF(OR(J101="",J6="",C6=""),"Điểm tổng kết chỉ hiển thị sau khi nhập tên HỌC PHẦN, Số tính chỉ và Họ tên giảng viên đầy đủ","")
B6: HỌC PHẦN: | C6: Vật lí đại cương 1 | H6: Số Tín chỉ: | J6: 3 | K6: LỚP: | L6: =IF(B11="","",IF(ISNA(VLOOKUP(B11,'DS LOP CAO DANG'!$B$2:$F$2157,5,FALSE))=TRUE,"",VLOOKUP(B11,'DS LOP CAO DANG'!$B$2:$F$2157,5,FALSE))) -> 15CĐ-CK1
C7: HỌC KỲ: | D7: I | G7: NĂM HỌC: | J7: 2015 - 2016
A8: TT | B8: MSSV | C8: Họ tên sinh viên | E8: Điểm bảo lưu | F8: LBT1 | G8: THL1 | H8: LBT2 | I8: THL2 | J8: LBT3 | K8: THL3 | L8: GHP | M8: THI CHÍNH | N8: Điểm HP | O8: XL lần I
F10: 0.2 | L10: 0.3 | M10: 0.5
A11: =IF(B11="","",SUBTOTAL(3,$B$11:B11)) -> 1 | B11: 15000277 | C11: =IF(B11="","",IF(ISNA(VLOOKUP($B11,'DS LOP CAO DANG'!$B$2:$D$2157,2,FALSE))=TRUE,"",VLOOKUP($B11,'DS LOP CAO DANG'!$B$2:$D$2157,2,FALSE))) -> Phạm Đức | D11: =IF(C11="","",IF(ISNA(VLOOKUP($B11,'DS LOP CAO DANG'!$B$2:$D$2157,3,FALSE))=TRUE,"",VLOOKUP($B11,'DS LOP CAO DANG'!$B$2:$D$2157,3,FALSE))) -> An | F11: 0 | G11: 0 | L11: 0 | M11: 0 | N11: =IF(B11="","",IF(OR($C$6="",$J$6="",$L$6="",$J$101=""),"",IF(ISNUMBER(E11)=TRUE,E11,IF(COUNT(F11:M11)=0,"",IF(COUNT(F11:K11)=0,ROUND(0.3*L11+0.5*M11,1),ROUND(0.2*(SUM(F11:K11)/COUNT(F11:K11))+0.3*L11+0.5*M11,1)))))) -> 0 | O11: =IF(B11="","",IF(OR($C$6="",$J$6="",$L$6=""),"",IF(N11="","KXL",IF(N11<4,"Kém",IF(N11<5.4,"TBY",IF(N11<7,"TB",IF(N11<8.4,"Khá","Giỏi"))))))) -> Kém
A12: =IF(B12="","",SUBTOTAL(3,$B$11:B12)) -> 2 | B12: 15000699 | C12: =IF(B12="","",IF(ISNA(VLOOKUP($B12,'DS LOP CAO DANG'!$B$2:$D$2157,2,FALSE))=TRUE,"",VLOOKUP($B12,'DS LOP CAO DANG'!$B$2:$D$2157,2,FALSE))) -> Đinh Hoàng Bảo | D12: =IF(C12="","",IF(ISNA(VLOOKUP($B12,'DS LOP CAO DANG'!$B$2:$D$2157,3,FALSE))=TRUE,"",VLOOKUP($B12,'DS LOP CAO DANG'!$B$2:$D$2157,3,FALSE))) -> Anh | F12: 5.5 | G12: 7 | L12: 4 | M12: 4.3 | N12: =IF(B12="","",IF(OR($C$6="",$J$6="",$L$6="",$J$101=""),"",IF(ISNUMBER(E12)=TRUE,E12,IF(COUNT(F12:M12)=0,"",IF(COUNT(F12:K12)=0,ROUND(0.3*L12+0.5*M12,1),ROUND(0.2*(SUM(F12:K12)/COUNT(F12:K12))+0.3*L12+0.5*M12,1)))))) -> 4.6 | O12: =IF(B12="","",IF(OR($C$6="",$J$6="",$L$6=""),"",IF(N12="","KXL",IF(N12<4,"Kém",IF(N12<5.4,"TBY",IF(N12<7,"TB",IF(N12<8.4,"Khá","Giỏi"))))))) -> TBY
A13: =IF(B13="","",SUBTOTAL(3,$B$11:B13)) -> 3 | B13: 15000793 | C13: =IF(B13="","",IF(ISNA(VLOOKUP($B13,'DS LOP CAO DANG'!$B$2:$D$2157,2,FALSE))=TRUE,"",VLOOKUP($B13,'DS LOP CAO DANG'!$B$2:$D$2157,2,FALSE))) -> Nguyễn Đình | D13: =IF(C13="","",IF(ISNA(VLOOKUP($B13,'DS LOP CAO DANG'!$B$2:$D$2157,3,FALSE))=TRUE,"",VLOOKUP($B13,'DS LOP CAO DANG'!$B$2:$D$2157,3,FALSE))) -> Bảo | F13: 0 | G13: 0 | L13: 0 | M13: 0 | N13: =IF(B13="","",IF(OR($C$6="",$J$6="",$L$6="",$J$101=""),"",IF(ISNUMBER(E13)=TRUE,E13,IF(COUNT(F13:M13)=0,"",IF(COUNT(F13:K13)=0,ROUND(0.3*L13+0.5*M13,1),ROUND(0.2*(SUM(F13:K13)/COUNT(F13:K13))+0.3*L13+0.5*M13,1)))))) -> 0 | O13: =IF(B13="","",IF(OR($C$6="",$J$6="",$L$6=""),"",IF(N13="","KXL",IF(N13<4,"Kém",IF(N13<5.4,"TBY",IF(N13<7,"TB",IF(N13<8.4,"Khá","Giỏi"))))))) -> Kém
A14: =IF(B14="","",SUBTOTAL(3,$B$11:B14)) -> 4 | B14: 15000863 | C14: =IF(B14="","",IF(ISNA(VLOOKUP($B14,'DS LOP CAO DANG'!$B$2:$D$2157,2,FALSE))=TRUE,"",VLOOKUP($B14,'DS LOP CAO DANG'!$B$2:$D$2157,2,FALSE))) -> Nguyễn Quốc | D14: =IF(C14="","",IF(ISNA(VLOOKUP($B14,'DS LOP CAO DANG'!$B$2:$D$2157,3,FALSE))=TRUE,"",VLOOKUP($B14,'DS LOP CAO DANG'!$B$2:$D$2157,3,FALSE))) -> Bảo | F14: 8.5 | G14: 9 | L14: 5 | M14: 5 | N14: =IF(B14="","",IF(OR($C$6="",$J$6="",$L$6="",$J$101=""),"",IF(ISNUMBER(E14)=TRUE,E14,IF(COUNT(F14:M14)=0,"",IF(COUNT(F14:K14)=0,ROUND(0.3*L14+0.5*M14,1),ROUND(0.2*(SUM(F14:K14)/COUNT(F14:K14))+0.3*L14+0.5*M14,1)))))) -> 5.8 | O14: =IF(B14="","",IF(OR($C$6="",$J$6="",$L$6=""),"",IF(N14="","KXL",IF(N14<4,"Kém",IF(N14<5.4,"TBY",IF(N14<7,"TB",IF(N14<8.4,"Khá","Giỏi"))))))) -> TB
A15: =IF(B15="","",SUBTOTAL(3,$B$11:B15)) -> 5 | B15: 15000530 | C15: =IF(B15="","",IF(ISNA(VLOOKUP($B15,'DS LOP CAO DANG'!$B$2:$D$2157,2,FALSE))=TRUE,"",VLOOKUP($B15,'DS LOP CAO DANG'!$B$2:$D$2157,2,FALSE))) -> Phan Chí | D15: =IF(C15="","",IF(ISNA(VLOOKUP($B15,'DS LOP CAO DANG'!$B$2:$D$2157,3,FALSE))=TRUE,"",VLOOKUP($B15,'DS LOP CAO DANG'!$B$2:$D$2157,3,FALSE))) -> Bảo | F15: 0 | G15: 0 | L15: 0 | M15: 0 | N15: =IF(B15="","",IF(OR($C$6="",$J$6="",$L$6="",$J$101=""),"",IF(ISNUMBER(E15)=TRUE,E15,IF(COUNT(F15:M15)=0,"",IF(COUNT(F15:K15)=0,ROUND(0.3*L15+0.5*M15,1),ROUND(0.2*(SUM(F15:K15)/COUNT(F15:K15))+0.3*L15+0.5*M15,1)))))) -> 0 | O15: =IF(B15="","",IF(OR($C$6="",$J$6="",$L$6=""),"",IF(N15="","KXL",IF(N15<4,"Kém",IF(N15<5.4,"TBY",IF(N15<7,"TB",IF(N15<8.4,"Khá","Giỏi"))))))) -> Kém
A16: =IF(B16="","",SUBTOTAL(3,$B$11:B16)) -> 6 | B16: 15000564 | C16: =IF(B16="","",IF(ISNA(VLOOKUP($B16,'DS LOP CAO DANG'!$B$2:$D$2157,2,FALSE))=TRUE,"",VLOOKUP($B16,'DS LOP CAO DANG'!$B$2:$D$2157,2,FALSE))) -> Trịnh Đình | D16: =IF(C16="","",IF(ISNA(VLOOKUP($B16,'DS LOP CAO DANG'!$B$2:$D$2157,3,FALSE))=TRUE,"",VLOOKUP($B16,'DS LOP CAO DANG'!$B$2:$D$2157,3,FALSE))) -> Bảo | F16: 7 | G16: 6 | L16: 6 | M16: 5 | N16: =IF(B16="","",IF(OR($C$6="",$J$6="",$L$6="",$J$101=""),"",IF(ISNUMBER(E16)=TRUE,E16,IF(COUNT(F16:M16)=0,"",IF(COUNT(F16:K16)=0,ROUND(0.3*L16+0.5*M16,1),ROUND(0.2*(SUM(F16:K16)/COUNT(F16:K16))+0.3*L16+0.5*M16,1)))))) -> 5.6 | O16: =IF(B16="","",IF(OR($C$6="",$J$6="",$L$6=""),"",IF(N16="","KXL",IF(N16<4,"Kém",IF(N16<5.4,"TBY",IF(N16<7,"TB",IF(N16<8.4,"Khá","Giỏi"))))))) -> TB
A17: =IF(B17="","",SUBTOTAL(3,$B$11:B17)) -> 7 | B17: 15000542 | C17: =IF(B17="","",IF(ISNA(VLOOKUP($B17,'DS LOP CAO DANG'!$B$2:$D$2157,2,FALSE))=TRUE,"",VLOOKUP($B17,'DS LOP CAO DANG'!$B$2:$D$2157,2,FALSE))) -> Trần Thanh | D17: =IF(C17="","",IF(ISNA(VLOOKUP($B17,'DS LOP CAO DANG'!$B$2:$D$2157,3,FALSE))=TRUE,"",VLOOKUP($B17,'DS LOP CAO DANG'!$B$2:$D$2157,3,FALSE))) -> Bình | F17: 8 | G17: 6 | L17: 3 | M17: 0.3 | N17: =IF(B17="","",IF(OR($C$6="",$J$6="",$L$6="",$J$101=""),"",IF(ISNUMBER(E17)=TRUE,E17,IF(COUNT(F17:M17)=0,"",IF(COUNT(F17:K17)=0,ROUND(0.3*L17+0.5*M17,1),ROUND(0.2*(SUM(F17:K17)/COUNT(F17:K17))+0.3*L17+0.5*M17,1)))))) -> 2.5 | O17: =IF(B17="","",IF(OR($C$6="",$J$6="",$L$6=""),"",IF(N17="","KXL",IF(N17<4,"Kém",IF(N17<5.4,"TBY",IF(N17<7,"TB",IF(N17<8.4,"Khá","Giỏi"))))))) -> Kém
A18: =IF(B18="","",SUBTOTAL(3,$B$11:B18)) -> 8 | B18: 15003079 | C18: =IF(B18="","",IF(ISNA(VLOOKUP($B18,'DS LOP CAO DANG'!$B$2:$D$2157,2,FALSE))=TRUE,"",VLOOKUP($B18,'DS LOP CAO DANG'!$B$2:$D$2157,2,FALSE))) -> Võ Sỹ | D18: =IF(C18="","",IF(ISNA(VLOOKUP($B18,'DS LOP CAO DANG'!$B$2:$D$2157,3,FALSE))=TRUE,"",VLOOKUP($B18,'DS LOP CAO DANG'!$B$2:$D$2157,3,FALSE))) -> Bỗng | F18: 8.5 | G18: 10 | L18: 7 | M18: 9 | N18: =IF(B18="","",IF(OR($C$6="",$J$6="",$L$6="",$J$101=""),"",IF(ISNUMBER(E18)=TRUE,E18,IF(COUNT(F18:M18)=0,"",IF(COUNT(F18:K18)=0,ROUND(0.3*L18+0.5*M18,1),ROUND(0.2*(SUM(F18:K18)/COUNT(F18:K18))+0.3*L18+0.5*M18,1)))))) -> 8.5 | O18: =IF(B18="","",IF(OR($C$6="",$J$6="",$L$6=""),"",IF(N18="","KXL",IF(N18<4,"Kém",IF(N18<5.4,"TBY",IF(N18<7,"TB",IF(N18<8.4,"Khá","Giỏi"))))))) -> Giỏi
A19: =IF(B19="","",SUBTOTAL(3,$B$11:B19)) -> 9 | B19: 15000538 | C19: =IF(B19="","",IF(ISNA(VLOOKUP($B19,'DS LOP CAO DANG'!$B$2:$D$2157,2,FALSE))=TRUE,"",VLOOKUP($B19,'DS LOP CAO DANG'!$B$2:$D$2157,2,FALSE))) -> Phạm Đình | D19: =IF(C19="","",IF(ISNA(VLOOKUP($B19,'DS LOP CAO DANG'!$B$2:$D$2157,3,FALSE))=TRUE,"",VLOOKUP($B19,'DS LOP CAO DANG'!$B$2:$D$2157,3,FALSE))) -> Cường | F19: 8 | G19: 7 | L19: 7 | M19: 3.8 | N19: =IF(B19="","",IF(OR($C$6="",$J$6="",$L$6="",$J$101=""),"",IF(ISNUMBER(E19)=TRUE,E19,IF(COUNT(F19:M19)=0,"",IF(COUNT(F19:K19)=0,ROUND(0.3*L19+0.5*M19,1),ROUND(0.2*(SUM(F19:K19)/COUNT(F19:K19))+0.3*L19+0.5*M19,1)))))) -> 5.5 | O19: =IF(B19="","",IF(OR($C$6="",$J$6="",$L$6=""),"",IF(N19="","KXL",IF(N19<4,"Kém",IF(N19<5.4,"TBY",IF(N19<7,"TB",IF(N19<8.4,"Khá","Giỏi"))))))) -> TB
A20: =IF(B20="","",SUBTOTAL(3,$B$11:B20)) -> 10 | B20: 15000686 | C20: =IF(B20="","",IF(ISNA(VLOOKUP($B20,'DS LOP CAO DANG'!$B$2:$D$2157,2,FALSE))=TRUE,"",VLOOKUP($B20,'DS LOP CAO DANG'!$B$2:$D$2157,2,FALSE))) -> Phạm Công | D20: =IF(C20="","",IF(ISNA(VLOOKUP($B20,'DS LOP CAO DANG'!$B$2:$D$2157,3,FALSE))=TRUE,"",VLOOKUP($B20,'DS LOP CAO DANG'!$B$2:$D$2157,3,FALSE))) -> Danh | F20: 9 | G20: 7 | L20: 6 | M20: 5.5 | N20: =IF(B20="","",IF(OR($C$6="",$J$6="",$L$6="",$J$101=""),"",IF(ISNUMBER(E20)=TRUE,E20,IF(COUNT(F20:M20)=0,"",IF(COUNT(F20:K20)=0,ROUND(0.3*L20+0.5*M20,1),ROUND(0.2*(SUM(F20:K20)/COUNT(F20:K20))+0.3*L20+0.5*M20,1)))))) -> 6.2 | O20: =IF(B20="","",IF(OR($C$6="",$J$6="",$L$6=""),"",IF(N20="","KXL",IF(N20<4,"Kém",IF(N20<5.4,"TBY",IF(N20<7,"TB",IF(N20<8.4,"Khá","Giỏi"))))))) -> TB
A21: =IF(B21="","",SUBTOTAL(3,$B$11:B21)) -> 11 | B21: 15003060 | C21: =IF(B21="","",IF(ISNA(VLOOKUP($B21,'DS LOP CAO DANG'!$B$2:$D$2157,2,FALSE))=TRUE,"",VLOOKUP($B21,'DS LOP CAO DANG'!$B$2:$D$2157,2,FALSE))) -> Huỳnh Quang | D21: =IF(C21="","",IF(ISNA(VLOOKUP($B21,'DS LOP CAO DANG'!$B$2:$D$2157,3,FALSE))=TRUE,"",VLOOKUP($B21,'DS LOP CAO DANG'!$B$2:$D$2157,3,FALSE))) -> Điền | F21: 10 | G21: 10 | L21: 5 | M21: 6.5 | N21: =IF(B21="","",IF(OR($C$6="",$J$6="",$L$6="",$J$101=""),"",IF(ISNUMBER(E21)=TRUE,E21,IF(COUNT(F21:M21)=0,"",IF(COUNT(F21:K21)=0,ROUND(0.3*L21+0.5*M21,1),ROUND(0.2*(SUM(F21:K21)/COUNT(F21:K21))+0.3*L21+0.5*M21,1)))))) -> 6.8 | O21: =IF(B21="","",IF(OR($C$6="",$J$6="",$L$6=""),"",IF(N21="","KXL",IF(N21<4,"Kém",IF(N21<5.4,"TBY",IF(N21<7,"TB",IF(N21<8.4,"Khá","Giỏi"))))))) -> TB
A22: =IF(B22="","",SUBTOTAL(3,$B$11:B22)) -> 12 | B22: 15003427 | C22: =IF(B22="","",IF(ISNA(VLOOKUP($B22,'DS LOP CAO DANG'!$B$2:$D$2157,2,FALSE))=TRUE,"",VLOOKUP($B22,'DS LOP CAO DANG'!$B$2:$D$2157,2,FALSE))) -> Đinh Ngọc | D22: =IF(C22="","",IF(ISNA(VLOOKUP($B22,'DS LOP CAO DANG'!$B$2:$D$2157,3,FALSE))=TRUE,"",VLOOKUP($B22,'DS LOP CAO DANG'!$B$2:$D$2157,3,FALSE))) -> Điệp | F22: 10 | G22: 10 | L22: 6 | M22: 5.3 | N22: =IF(B22="","",IF(OR($C$6="",$J$6="",$L$6="",$J$101=""),"",IF(ISNUMBER(E22)=TRUE,E22,IF(COUNT(F22:M22)=0,"",IF(COUNT(F22:K22)=0,ROUND(0.3*L22+0.5*M22,1),ROUND(0.2*(SUM(F22:K22)/COUNT(F22:K22))+0.3*L22+0.5*M22,1)))))) -> 6.5 | O22: =IF(B22="","",IF(OR($C$6="",$J$6="",$L$6=""),"",IF(N22="","KXL",IF(N22<4,"Kém",IF(N22<5.4,"TBY",IF(N22<7,"TB",IF(N22<8.4,"Khá","Giỏi"))))))) -> TB
... A69: =IF(B69="","",SUBTOTAL(3,$B$11:B69)) -> 59 | B69: 15000567 | C69: =IF(B69="","",IF(ISNA(VLOOKUP($B69,'DS LOP CAO DANG'!$B$2:$D$2157,2,FALSE))=TRUE,"",VLOOKUP($B69,'DS LOP CAO DANG'!$B$2:$D$2157,2,FALSE))) -> Nguyễn Hữu | D69: =IF(C69="","",IF(ISNA(VLOOKUP($B69,'DS LOP CAO DANG'!$B$2:$D$2157,3,FALSE))=TRUE,"",VLOOKUP($B69,'DS LOP CAO DANG'!$B$2:$D$2157,3,FALSE))) -> Tuấn | F69: 0 | G69: 0 | L69: 0 | M69: 0 | N69: =IF(B69="","",IF(OR($C$6="",$J$6="",$L$6="",$J$101=""),"",IF(ISNUMBER(E69)=TRUE,E69,IF(COUNT(F69:M69)=0,"",IF(COUNT(F69:K69)=0,ROUND(0.3*L69+0.5*M69,1),ROUND(0.2*(SUM(F69:K69)/COUNT(F69:K69))+0.3*L69+0.5*M69,1)))))) -> 0 | O69: =IF(B69="","",IF(OR($C$6="",$J$6="",$L$6=""),"",IF(N69="","KXL",IF(N69<4,"Kém",IF(N69<5.4,"TBY",IF(N69<7,"TB",IF(N69<8.4,"Khá","Giỏi"))))))) -> Kém
A70: =IF(B70="","",SUBTOTAL(3,$B$11:B70)) | C70: =IF(B70="","",IF(ISNA(VLOOKUP($B70,'DS LOP CAO DANG'!$B$2:$D$2157,2,FALSE))=TRUE,"",VLOOKUP($B70,'DS LOP CAO DANG'!$B$2:$D$2157,2,FALSE))) | D70: =IF(C70="","",IF(ISNA(VLOOKUP($B70,'DS LOP CAO DANG'!$B$2:$D$2157,3,FALSE))=TRUE,"",VLOOKUP($B70,'DS LOP CAO DANG'!$B$2:$D$2157,3,FALSE))) | N70: =IF(B70="","",IF(OR($C$6="",$J$6="",$L$6="",$J$101=""),"",IF(ISNUMBER(E70)=TRUE,E70,IF(COUNT(F70:M70)=0,"",IF(COUNT(F70:K70)=0,ROUND(0.3*L70+0.5*M70,1),ROUND(0.2*(SUM(F70:K70)/COUNT(F70:K70))+0.3*L70+0.5*M70,1)))))) | O70: =IF(B70="","",IF(OR($C$6="",$J$6="",$L$6=""),"",IF(N70="","KXL",IF(N70<4,"Kém",IF(N70<5.4,"TBY",IF(N70<7,"TB",IF(N70<8.4,"Khá","Giỏi")))))))
A71: =IF(B71="","",SUBTOTAL(3,$B$11:B71)) | C71: =IF(B71="","",IF(ISNA(VLOOKUP($B71,'DS LOP CAO DANG'!$B$2:$D$2157,2,FALSE))=TRUE,"",VLOOKUP($B71,'DS LOP CAO DANG'!$B$2:$D$2157,2,FALSE))) | D71: =IF(C71="","",IF(ISNA(VLOOKUP($B71,'DS LOP CAO DANG'!$B$2:$D$2157,3,FALSE))=TRUE,"",VLOOKUP($B71,'DS LOP CAO DANG'!$B$2:$D$2157,3,FALSE))) | N71: =IF(B71="","",IF(OR($C$6="",$J$6="",$L$6="",$J$101=""),"",IF(ISNUMBER(E71)=TRUE,E71,IF(COUNT(F71:M71)=0,"",IF(COUNT(F71:K71)=0,ROUND(0.3*L71+0.5*M71,1),ROUND(0.2*(SUM(F71:K71)/COUNT(F71:K71))+0.3*L71+0.5*M71,1)))))) | O71: =IF(B71="","",IF(OR($C$6="",$J$6="",$L$6=""),"",IF(N71="","KXL",IF(N71<4,"Kém",IF(N71<5.4,"TBY",IF(N71<7,"TB",IF(N71<8.4,"Khá","Giỏi")))))))
A72: =IF(B72="","",SUBTOTAL(3,$B$11:B72)) | C72: =IF(B72="","",IF(ISNA(VLOOKUP($B72,'DS LOP CAO DANG'!$B$2:$D$2157,2,FALSE))=TRUE,"",VLOOKUP($B72,'DS LOP CAO DANG'!$B$2:$D$2157,2,FALSE))) | D72: =IF(C72="","",IF(ISNA(VLOOKUP($B72,'DS LOP CAO DANG'!$B$2:$D$2157,3,FALSE))=TRUE,"",VLOOKUP($B72,'DS LOP CAO DANG'!$B$2:$D$2157,3,FALSE))) | N72: =IF(B72="","",IF(OR($C$6="",$J$6="",$L$6="",$J$101=""),"",IF(ISNUMBER(E72)=TRUE,E72,IF(COUNT(F72:M72)=0,"",IF(COUNT(F72:K72)=0,ROUND(0.3*L72+0.5*M72,1),ROUND(0.2*(SUM(F72:K72)/COUNT(F72:K72))+0.3*L72+0.5*M72,1)))))) | O72: =IF(B72="","",IF(OR($C$6="",$J$6="",$L$6=""),"",IF(N72="","KXL",IF(N72<4,"Kém",IF(N72<5.4,"TBY",IF(N72<7,"TB",IF(N72<8.4,"Khá","Giỏi")))))))
A73: =IF(B73="","",SUBTOTAL(3,$B$11:B73)) | C73: =IF(B73="","",IF(ISNA(VLOOKUP($B73,'DS LOP CAO DANG'!$B$2:$D$2157,2,FALSE))=TRUE,"",VLOOKUP($B73,'DS LOP CAO DANG'!$B$2:$D$2157,2,FALSE))) | D73: =IF(C73="","",IF(ISNA(VLOOKUP($B73,'DS LOP CAO DANG'!$B$2:$D$2157,3,FALSE))=TRUE,"",VLOOKUP($B73,'DS LOP CAO DANG'!$B$2:$D$2157,3,FALSE))) | N73: =IF(B73="","",IF(OR($C$6="",$J$6="",$L$6="",$J$101=""),"",IF(ISNUMBER(E73)=TRUE,E73,IF(COUNT(F73:M73)=0,"",IF(COUNT(F73:K73)=0,ROUND(0.3*L73+0.5*M73,1),ROUND(0.2*(SUM(F73:K73)/COUNT(F73:K73))+0.3*L73+0.5*M73,1)))))) | O73: =IF(B73="","",IF(OR($C$6="",$J$6="",$L$6=""),"",IF(N73="","KXL",IF(N73<4,"Kém",IF(N73<5.4,"TBY",IF(N73<7,"TB",IF(N73<8.4,"Khá","Giỏi")))))))
A74: =IF(B74="","",SUBTOTAL(3,$B$11:B74)) | C74: =IF(B74="","",IF(ISNA(VLOOKUP($B74,'DS LOP CAO DANG'!$B$2:$D$2157,2,FALSE))=TRUE,"",VLOOKUP($B74,'DS LOP CAO DANG'!$B$2:$D$2157,2,FALSE))) | D74: =IF(C74="","",IF(ISNA(VLOOKUP($B74,'DS LOP CAO DANG'!$B$2:$D$2157,3,FALSE))=TRUE,"",VLOOKUP($B74,'DS LOP CAO DANG'!$B$2:$D$2157,3,FALSE))) | N74: =IF(B74="","",IF(OR($C$6="",$J$6="",$L$6="",$J$101=""),"",IF(ISNUMBER(E74)=TRUE,E74,IF(COUNT(F74:M74)=0,"",IF(COUNT(F74:K74)=0,ROUND(0.3*L74+0.5*M74,1),ROUND(0.2*(SUM(F74:K74)/COUNT(F74:K74))+0.3*L74+0.5*M74,1)))))) | O74: =IF(B74="","",IF(OR($C$6="",$J$6="",$L$6=""),"",IF(N74="","KXL",IF(N74<4,"Kém",IF(N74<5.4,"TBY",IF(N74<7,"TB",IF(N74<8.4,"Khá","Giỏi")))))))
A75: =IF(B75="","",SUBTOTAL(3,$B$11:B75)) | C75: =IF(B75="","",IF(ISNA(VLOOKUP($B75,'DS LOP CAO DANG'!$B$2:$D$2157,2,FALSE))=TRUE,"",VLOOKUP($B75,'DS LOP CAO DANG'!$B$2:$D$2157,2,FALSE))) | D75: =IF(C75="","",IF(ISNA(VLOOKUP($B75,'DS LOP CAO DANG'!$B$2:$D$2157,3,FALSE))=TRUE,"",VLOOKUP($B75,'DS LOP CAO DANG'!$B$2:$D$2157,3,FALSE))) | N75: =IF(B75="","",IF(OR($C$6="",$J$6="",$L$6="",$J$101=""),"",IF(ISNUMBER(E75)=TRUE,E75,IF(COUNT(F75:M75)=0,"",IF(COUNT(F75:K75)=0,ROUND(0.3*L75+0.5*M75,1),ROUND(0.2*(SUM(F75:K75)/COUNT(F75:K75))+0.3*L75+0.5*M75,1)))))) | O75: =IF(B75="","",IF(OR($C$6="",$J$6="",$L$6=""),"",IF(N75="","KXL",IF(N75<4,"Kém",IF(N75<5.4,"TBY",IF(N75<7,"TB",IF(N75<8.4,"Khá","Giỏi")))))))
A76: =IF(B76="","",SUBTOTAL(3,$B$11:B76)) | C76: =IF(B76="","",IF(ISNA(VLOOKUP($B76,'DS LOP CAO DANG'!$B$2:$D$2157,2,FALSE))=TRUE,"",VLOOKUP($B76,'DS LOP CAO DANG'!$B$2:$D$2157,2,FALSE))) | D76: =IF(C76="","",IF(ISNA(VLOOKUP($B76,'DS LOP CAO DANG'!$B$2:$D$2157,3,FALSE))=TRUE,"",VLOOKUP($B76,'DS LOP CAO DANG'!$B$2:$D$2157,3,FALSE))) | N76: =IF(B76="","",IF(OR($C$6="",$J$6="",$L$6="",$J$101=""),"",IF(ISNUMBER(E76)=TRUE,E76,IF(COUNT(F76:M76)=0,"",IF(COUNT(F76:K76)=0,ROUND(0.3*L76+0.5*M76,1),ROUND(0.2*(SUM(F76:K76)/COUNT(F76:K76))+0.3*L76+0.5*M76,1))))))
A77: =IF(B77="","",SUBTOTAL(3,$B$11:B77)) | C77: =IF(B77="","",IF(ISNA(VLOOKUP($B77,'DS LOP CAO DANG'!$B$2:$D$2157,2,FALSE))=TRUE,"",VLOOKUP($B77,'DS LOP CAO DANG'!$B$2:$D$2157,2,FALSE))) | D77: =IF(C77="","",IF(ISNA(VLOOKUP($B77,'DS LOP CAO DANG'!$B$2:$D$2157,3,FALSE))=TRUE,"",VLOOKUP($B77,'DS LOP CAO DANG'!$B$2:$D$2157,3,FALSE))) | N77: =IF(B77="","",IF(OR($C$6="",$J$6="",$L$6="",$J$101=""),"",IF(ISNUMBER(E77)=TRUE,E77,IF(COUNT(F77:M77)=0,"",IF(COUNT(F77:K77)=0,ROUND(0.3*L77+0.5*M77,1),ROUND(0.2*(SUM(F77:K77)/COUNT(F77:K77))+0.3*L77+0.5*M77,1))))))
A78: =IF(B78="","",SUBTOTAL(3,$B$11:B78)) | C78: =IF(B78="","",IF(ISNA(VLOOKUP($B78,'DS LOP CAO DANG'!$B$2:$D$2157,2,FALSE))=TRUE,"",VLOOKUP($B78,'DS LOP CAO DANG'!$B$2:$D$2157,2,FALSE))) | D78: =IF(C78="","",IF(ISNA(VLOOKUP($B78,'DS LOP CAO DANG'!$B$2:$D$2157,3,FALSE))=TRUE,"",VLOOKUP($B78,'DS LOP CAO DANG'!$B$2:$D$2157,3,FALSE))) | N78: =IF(B78="","",IF(OR($C$6="",$J$6="",$L$6="",$J$101=""),"",IF(ISNUMBER(E78)=TRUE,E78,IF(COUNT(F78:M78)=0,"",IF(COUNT(F78:K78)=0,ROUND(0.3*L78+0.5*M78,1),ROUND(0.2*(SUM(F78:K78)/COUNT(F78:K78))+0.3*L78+0.5*M78,1))))))
A79: =IF(B79="","",SUBTOTAL(3,$B$11:B79)) | C79: =IF(B79="","",IF(ISNA(VLOOKUP($B79,'DS LOP CAO DANG'!$B$2:$D$2157,2,FALSE))=TRUE,"",VLOOKUP($B79,'DS LOP CAO DANG'!$B$2:$D$2157,2,FALSE))) | D79: =IF(C79="","",IF(ISNA(VLOOKUP($B79,'DS LOP CAO DANG'!$B$2:$D$2157,3,FALSE))=TRUE,"",VLOOKUP($B79,'DS LOP CAO DANG'!$B$2:$D$2157,3,FALSE))) | N79: =IF(B79="","",IF(OR($C$6="",$J$6="",$L$6="",$J$101=""),"",IF(ISNUMBER(E79)=TRUE,E79,IF(COUNT(F79:M79)=0,"",IF(COUNT(F79:K79)=0,ROUND(0.3*L79+0.5*M79,1),ROUND(0.2*(SUM(F79:K79)/COUNT(F79:K79))+0.3*L79+0.5*M79,1))))))
A80: =IF(B80="","",SUBTOTAL(3,$B$11:B80)) | C80: =IF(B80="","",IF(ISNA(VLOOKUP($B80,'DS LOP CAO DANG'!$B$2:$D$2157,2,FALSE))=TRUE,"",VLOOKUP($B80,'DS LOP CAO DANG'!$B$2:$D$2157,2,FALSE))) | D80: =IF(C80="","",IF(ISNA(VLOOKUP($B80,'DS LOP CAO DANG'!$B$2:$D$2157,3,FALSE))=TRUE,"",VLOOKUP($B80,'DS LOP CAO DANG'!$B$2:$D$2157,3,FALSE))) | N80: =IF(B80="","",IF(OR($C$6="",$J$6="",$L$6="",$J$101=""),"",IF(ISNUMBER(E80)=TRUE,E80,IF(COUNT(F80:M80)=0,"",IF(COUNT(F80:K80)=0,ROUND(0.3*L80+0.5*M80,1),ROUND(0.2*(SUM(F80:K80)/COUNT(F80:K80))+0.3*L80+0.5*M80,1))))))
A81: =IF(B81="","",SUBTOTAL(3,$B$11:B81)) | C81: =IF(B81="","",IF(ISNA(VLOOKUP($B81,'DS LOP CAO DANG'!$B$2:$D$2157,2,FALSE))=TRUE,"",VLOOKUP($B81,'DS LOP CAO DANG'!$B$2:$D$2157,2,FALSE))) | D81: =IF(C81="","",IF(ISNA(VLOOKUP($B81,'DS LOP CAO DANG'!$B$2:$D$2157,3,FALSE))=TRUE,"",VLOOKUP($B81,'DS LOP CAO DANG'!$B$2:$D$2157,3,FALSE))) | N81: =IF(B81="","",IF(OR($C$6="",$J$6="",$L$6="",$J$101=""),"",IF(ISNUMBER(E81)=TRUE,E81,IF(COUNT(F81:M81)=0,"",IF(COUNT(F81:K81)=0,ROUND(0.3*L81+0.5*M81,1),ROUND(0.2*(SUM(F81:K81)/COUNT(F81:K81))+0.3*L81+0.5*M81,1))))))
A82: =IF(B82="","",SUBTOTAL(3,$B$11:B82)) | C82: =IF(B82="","",IF(ISNA(VLOOKUP($B82,'DS LOP CAO DANG'!$B$2:$D$2157,2,FALSE))=TRUE,"",VLOOKUP($B82,'DS LOP CAO DANG'!$B$2:$D$2157,2,FALSE))) | D82: =IF(C82="","",IF(ISNA(VLOOKUP($B82,'DS LOP CAO DANG'!$B$2:$D$2157,3,FALSE))=TRUE,"",VLOOKUP($B82,'DS LOP CAO DANG'!$B$2:$D$2157,3,FALSE))) | N82: =IF(B82="","",IF(OR($C$6="",$J$6="",$L$6="",$J$101=""),"",IF(ISNUMBER(E82)=TRUE,E82,IF(COUNT(F82:M82)=0,"",IF(COUNT(F82:K82)=0,ROUND(0.3*L82+0.5*M82,1),ROUND(0.2*(SUM(F82:K82)/COUNT(F82:K82))+0.3*L82+0.5*M82,1))))))
A83: =IF(B83="","",SUBTOTAL(3,$B$11:B83)) | C83: =IF(B83="","",IF(ISNA(VLOOKUP($B83,'DS LOP CAO DANG'!$B$2:$D$2157,2,FALSE))=TRUE,"",VLOOKUP($B83,'DS LOP CAO DANG'!$B$2:$D$2157,2,FALSE))) | D83: =IF(C83="","",IF(ISNA(VLOOKUP($B83,'DS LOP CAO DANG'!$B$2:$D$2157,3,FALSE))=TRUE,"",VLOOKUP($B83,'DS LOP CAO DANG'!$B$2:$D$2157,3,FALSE))) | N83: =IF(B83="","",IF(OR($C$6="",$J$6="",$L$6="",$J$101=""),"",IF(ISNUMBER(E83)=TRUE,E83,IF(COUNT(F83:M83)=0,"",IF(COUNT(F83:K83)=0,ROUND(0.3*L83+0.5*M83,1),ROUND(0.2*(SUM(F83:K83)/COUNT(F83:K83))+0.3*L83+0.5*M83,1))))))
A84: =IF(B84="","",SUBTOTAL(3,$B$11:B84)) | C84: =IF(B84="","",IF(ISNA(VLOOKUP($B84,'DS LOP CAO DANG'!$B$2:$D$2157,2,FALSE))=TRUE,"",VLOOKUP($B84,'DS LOP CAO DANG'!$B$2:$D$2157,2,FALSE))) | D84: =IF(C84="","",IF(ISNA(VLOOKUP($B84,'DS LOP CAO DANG'!$B$2:$D$2157,3,FALSE))=TRUE,"",VLOOKUP($B84,'DS LOP CAO DANG'!$B$2:$D$2157,3,FALSE))) | N84: =IF(B84="","",IF(OR($C$6="",$J$6="",$L$6="",$J$101=""),"",IF(ISNUMBER(E84)=TRUE,E84,IF(COUNT(F84:M84)=0,"",IF(COUNT(F84:K84)=0,ROUND(0.3*L84+0.5*M84,1),ROUND(0.2*(SUM(F84:K84)/COUNT(F84:K84))+0.3*L84+0.5*M84,1))))))
A85: =IF(B85="","",SUBTOTAL(3,$B$11:B85)) | C85: =IF(B85="","",IF(ISNA(VLOOKUP($B85,'DS LOP CAO DANG'!$B$2:$D$2157,2,FALSE))=TRUE,"",VLOOKUP($B85,'DS LOP CAO DANG'!$B$2:$D$2157,2,FALSE))) | D85: =IF(C85="","",IF(ISNA(VLOOKUP($B85,'DS LOP CAO DANG'!$B$2:$D$2157,3,FALSE))=TRUE,"",VLOOKUP($B85,'DS LOP CAO DANG'!$B$2:$D$2157,3,FALSE))) | N85: =IF(B85="","",IF(OR($C$6="",$J$6="",$L$6="",$J$101=""),"",IF(ISNUMBER(E85)=TRUE,E85,IF(COUNT(F85:M85)=0,"",IF(COUNT(F85:K85)=0,ROUND(0.3*L85+0.5*M85,1),ROUND(0.2*(SUM(F85:K85)/COUNT(F85:K85))+0.3*L85+0.5*M85,1))))))
A86: Yêu cầu : Khoa niêm yết cho sinh viên, lưu Giáo vụ Khoa và nộp bản chính cho Phòng TS - Đào tạo - GTVL.
B87: ="Tổng danh sách có" -> Tổng danh sách có | F87: =": "&IF(MAX($A$11:$A$85)=1,0,MAX($A$11:$A$85))&" SV" -> : 59 SV
B88: ="Tổng số SV có điểm Giỏi từ 8,5 đ đến 10 đ" -> Tổng số SV có điểm Giỏi từ 8,5 đ đến 10 đ | F88: =": "&COUNTIF($O$11:$O$85,"Giỏi")&" SV" -> : 1 SV | H88: =IF(B11="","","("&ROUND(COUNTIF($O$11:$O$75,"Giỏi")*100/MAX($A$11:$A$75),2)&"%" &")") -> (1.69%) | J88: =IF(B11="","","Tổng số SV có điểm >= 4 đ : "&COUNTIF(N11:N75,">=4")&" SV"&" ("&ROUND(COUNTIF(N11:N75,">=4")*100/MAX($A$11:$A$75),2)&"%" &")") -> Tổng số SV có điểm >= 4 đ : 32 SV (54.24%)
B89: ="Tổng số SV có điểm Khá từ 7 đ đến <8,5 đ" -> Tổng số SV có điểm Khá từ 7 đ đến <8,5 đ | F89: =": "&COUNTIF($O$11:$O$85,"Khá")&" SV" -> : 2 SV | H89: =IF(B11="","","("&ROUND(COUNTIF($O$11:$O$75,"Khá")*100/MAX($A$11:$A$75),2)&"%" &")") -> (3.39%)
B90: ="Tổng số SV có điểm Trung bình từ 5,5 đ đến <7 đ" -> Tổng số SV có điểm Trung bình từ 5,5 đ đến <7 đ | F90: =": "&COUNTIF($O$11:$O$85,"TB")&" SV" -> : 17 SV | H90: =IF(B11="","","("&ROUND(COUNTIF($O$11:$O$75,"TB")*100/MAX($A$11:$A$75),2)&"%" &")") -> (28.81%)
B91: ="Tổng số SV có điểm Trung bình yếu từ 4 đ đến <5,5 đ" -> Tổng số SV có điểm Trung bình yếu từ 4 đ đến <5,5 đ | F91: =": "&COUNTIF($O$11:$O$85,"TBY")&" SV" -> : 12 SV | H91: =IF(B11="","","("&ROUND(COUNTIF($O$11:$O$75,"TBY")*100/MAX($A$11:$A$75),2)&"%" &")") -> (20.34%) | J91: =IF(B11="","","Tổng số SV có điểm < 4 đ : "&COUNTIF(N11:N75,"<4")&" SV"&" ("&ROUND(COUNTIF(N11:N75,"<4")*100/MAX($A$11:$A$75),2)&"%" &")") -> Tổng số SV có điểm < 4 đ : 27 SV (45.76%)
B92: ="Tổng số SV có điểm kém <4 đ" -> Tổng số SV có điểm kém <4 đ | F92: =": "&COUNTIF($O$11:$O$85,"Kém")&" SV" -> : 27 SV | H92: =IF(B11="","","("&ROUND(COUNTIF($O$11:$O$75,"Kém")*100/MAX($A$11:$A$75),2)&"%"&")") -> (45.76%)
B93: ="Tổng số SV không xếp loại vì chưa đủ điều kiện" -> Tổng số SV không xếp loại vì chưa đủ điều kiện | F93: =": "&COUNTIF($O$11:$O$85,"KXL")&" SV" -> : 0 SV | H93: =IF(B11="","","("&ROUND(COUNTIF($O$11:$O$75,"KXL")*100/MAX($A$11:$A$75),2)&"%"&")") -> (0%)
F94: Thành phố Hồ Chí Minh, ngày 21 tháng 3 năm 2016
A95: TRƯỞNG KHOA | D95: TRƯỞNG BỘ MÔN | J95: GIÁO VIÊN GIẢNG DẠY
J101: Cao Đình Trung Hậu

Sheet HP THUC HANH
A1: UBND THÀNH PHỐ HỒ CHÍ MINH | G1: CỘNG HÒA XÃ HỘI CHỦ NGHĨA VIỆT NAM
A2: TRƯỜNG CAO ĐẲNG KỸ THUẬT LÝ TỰ TRỌNG TP. HỒ CHÍ MINH | G2: Độc lập - Tự do - Hạnh phúc
A3: ‾‾‾‾‾‾‾‾‾‾‾‾‾‾‾‾‾‾‾‾‾‾‾‾‾‾‾‾‾‾‾‾‾‾
A4: BẢNG ĐIỂM HỌC PHẦN THỰC HÀNH
B6: HỌC PHẦN: | G6: Số Tín chỉ: | K6: LỚP: | M6: =IF(B11="","",IF(ISNA(VLOOKUP(B11,'DS LOP CAO DANG'!$B$2:$F$2157,5,FALSE))=TRUE,"",VLOOKUP(B11,'DS LOP CAO DANG'!$B$2:$F$2157,5,FALSE))) -> 15CĐ-ĐL3
C7: HỌC KỲ: | D7: I | G7: NĂM HỌC: | J7: 2015 - 2016
A8: TT | B8: MSSV | C8: Họ tên sinh viên | E8: Điểm bảo lưu | F8: Điểm các bài thực hành | O8: Điểm HP | P8: XL lần I
F9: BS1 | G9: BS2 | H9: BS3 | I9: BS4 | J9: BS5 | K9: BS6 | L9: BS7 | M9: BS8 | N9: BS9
A11: =IF(B11="",1,SUBTOTAL(3,$B$11:B11)) -> 1 | B11: 15002966 | C11: =IF(B11="","",IF(ISNA(VLOOKUP($B11,'DS LOP CAO DANG'!$B$2:$D$2157,2,FALSE))=TRUE,"",VLOOKUP($B11,'DS LOP CAO DANG'!$B$2:$D$2157,2,FALSE))) -> Đỗ Hoàng | D11: =IF(C11="","",IF(ISNA(VLOOKUP($B11,'DS LOP CAO DANG'!$B$2:$D$2157,3,FALSE))=TRUE,"",VLOOKUP($B11,'DS LOP CAO DANG'!$B$2:$D$2157,3,FALSE))) -> Anh | O11: =IF(B11="","",IF(OR($C$6="",$J$6="",$M$6="",$J$101=""),"",IF(ISNUMBER(E11)=TRUE,E11,IF(COUNT(F11:N11)=0,"",ROUND(SUM(F11:N11)/COUNT(F11:N11),1))))) | P11: =IF(B11="","",IF(OR($C$6="",$J$6="",$M$6=""),"",IF(O11="","KXL",IF(O11<4,"Kém",IF(O11<5.4,"TBY",IF(O11<7,"TB",IF(O11<8.4,"Khá","Giỏi")))))))
A12: =IF(B12="","",SUBTOTAL(3,$B$11:B12)) -> 2 | B12: 15003219 | C12: =IF(B12="","",IF(ISNA(VLOOKUP($B12,'DS LOP CAO DANG'!$B$2:$D$2157,2,FALSE))=TRUE,"",VLOOKUP($B12,'DS LOP CAO DANG'!$B$2:$D$2157,2,FALSE))) -> Ngô Hoàng | D12: =IF(C12="","",IF(ISNA(VLOOKUP($B12,'DS LOP CAO DANG'!$B$2:$D$2157,3,FALSE))=TRUE,"",VLOOKUP($B12,'DS LOP CAO DANG'!$B$2:$D$2157,3,FALSE))) -> Anh | O12: =IF(B12="","",IF(OR($C$6="",$J$6="",$M$6="",$J$101=""),"",IF(ISNUMBER(E12)=TRUE,E12,IF(COUNT(F12:N12)=0,"",ROUND(SUM(F12:N12)/COUNT(F12:N12),1))))) | P12: =IF(B12="","",IF(OR($C$6="",$J$6="",$M$6=""),"",IF(O12="","KXL",IF(O12<4,"Kém",IF(O12<5.4,"TBY",IF(O12<7,"TB",IF(O12<8.4,"Khá","Giỏi")))))))
A13: =IF(B13="","",SUBTOTAL(3,$B$11:B13)) -> 3 | B13: 15003305 | C13: =IF(B13="","",IF(ISNA(VLOOKUP($B13,'DS LOP CAO DANG'!$B$2:$D$2157,2,FALSE))=TRUE,"",VLOOKUP($B13,'DS LOP CAO DANG'!$B$2:$D$2157,2,FALSE))) -> Huỳnh Thái | D13: =IF(C13="","",IF(ISNA(VLOOKUP($B13,'DS LOP CAO DANG'!$B$2:$D$2157,3,FALSE))=TRUE,"",VLOOKUP($B13,'DS LOP CAO DANG'!$B$2:$D$2157,3,FALSE))) -> Châu | O13: =IF(B13="","",IF(OR($C$6="",$J$6="",$M$6="",$J$101=""),"",IF(ISNUMBER(E13)=TRUE,E13,IF(COUNT(F13:N13)=0,"",ROUND(SUM(F13:N13)/COUNT(F13:N13),1))))) | P13: =IF(B13="","",IF(OR($C$6="",$J$6="",$M$6=""),"",IF(O13="","KXL",IF(O13<4,"Kém",IF(O13<5.4,"TBY",IF(O13<7,"TB",IF(O13<8.4,"Khá","Giỏi")))))))
A14: =IF(B14="","",SUBTOTAL(3,$B$11:B14)) -> 4 | B14: 15003020 | C14: =IF(B14="","",IF(ISNA(VLOOKUP($B14,'DS LOP CAO DANG'!$B$2:$D$2157,2,FALSE))=TRUE,"",VLOOKUP($B14,'DS LOP CAO DANG'!$B$2:$D$2157,2,FALSE))) -> Mai Thanh | D14: =IF(C14="","",IF(ISNA(VLOOKUP($B14,'DS LOP CAO DANG'!$B$2:$D$2157,3,FALSE))=TRUE,"",VLOOKUP($B14,'DS LOP CAO DANG'!$B$2:$D$2157,3,FALSE))) -> Cường | O14: =IF(B14="","",IF(OR($C$6="",$J$6="",$M$6="",$J$101=""),"",IF(ISNUMBER(E14)=TRUE,E14,IF(COUNT(F14:N14)=0,"",ROUND(SUM(F14:N14)/COUNT(F14:N14),1))))) | P14: =IF(B14="","",IF(OR($C$6="",$J$6="",$M$6=""),"",IF(O14="","KXL",IF(O14<4,"Kém",IF(O14<5.4,"TBY",IF(O14<7,"TB",IF(O14<8.4,"Khá","Giỏi")))))))
A15: =IF(B15="","",SUBTOTAL(3,$B$11:B15)) -> 5 | B15: 15002313 | C15: =IF(B15="","",IF(ISNA(VLOOKUP($B15,'DS LOP CAO DANG'!$B$2:$D$2157,2,FALSE))=TRUE,"",VLOOKUP($B15,'DS LOP CAO DANG'!$B$2:$D$2157,2,FALSE))) -> Tăng Quốc | D15: =IF(C15="","",IF(ISNA(VLOOKUP($B15,'DS LOP CAO DANG'!$B$2:$D$2157,3,FALSE))=TRUE,"",VLOOKUP($B15,'DS LOP CAO DANG'!$B$2:$D$2157,3,FALSE))) -> Cường | O15: =IF(B15="","",IF(OR($C$6="",$J$6="",$M$6="",$J$101=""),"",IF(ISNUMBER(E15)=TRUE,E15,IF(COUNT(F15:N15)=0,"",ROUND(SUM(F15:N15)/COUNT(F15:N15),1))))) | P15: =IF(B15="","",IF(OR($C$6="",$J$6="",$M$6=""),"",IF(O15="","KXL",IF(O15<4,"Kém",IF(O15<5.4,"TBY",IF(O15<7,"TB",IF(O15<8.4,"Khá","Giỏi")))))))
A16: =IF(B16="","",SUBTOTAL(3,$B$11:B16)) -> 6 | B16: 15003391 | C16: =IF(B16="","",IF(ISNA(VLOOKUP($B16,'DS LOP CAO DANG'!$B$2:$D$2157,2,FALSE))=TRUE,"",VLOOKUP($B16,'DS LOP CAO DANG'!$B$2:$D$2157,2,FALSE))) -> Nguyễn Hoàng | D16: =IF(C16="","",IF(ISNA(VLOOKUP($B16,'DS LOP CAO DANG'!$B$2:$D$2157,3,FALSE))=TRUE,"",VLOOKUP($B16,'DS LOP CAO DANG'!$B$2:$D$2157,3,FALSE))) -> Đăng | O16: =IF(B16="","",IF(OR($C$6="",$J$6="",$M$6="",$J$101=""),"",IF(ISNUMBER(E16)=TRUE,E16,IF(COUNT(F16:N16)=0,"",ROUND(SUM(F16:N16)/COUNT(F16:N16),1))))) | P16: =IF(B16="","",IF(OR($C$6="",$J$6="",$M$6=""),"",IF(O16="","KXL",IF(O16<4,"Kém",IF(O16<5.4,"TBY",IF(O16<7,"TB",IF(O16<8.4,"Khá","Giỏi")))))))
A17: =IF(B17="","",SUBTOTAL(3,$B$11:B17)) -> 7 | B17: 15002869 | C17: =IF(B17="","",IF(ISNA(VLOOKUP($B17,'DS LOP CAO DANG'!$B$2:$D$2157,2,FALSE))=TRUE,"",VLOOKUP($B17,'DS LOP CAO DANG'!$B$2:$D$2157,2,FALSE))) -> Nguyễn Hữu Minh | D17: =IF(C17="","",IF(ISNA(VLOOKUP($B17,'DS LOP CAO DANG'!$B$2:$D$2157,3,FALSE))=TRUE,"",VLOOKUP($B17,'DS LOP CAO DANG'!$B$2:$D$2157,3,FALSE))) -> Đăng | O17: =IF(B17="","",IF(OR($C$6="",$J$6="",$M$6="",$J$101=""),"",IF(ISNUMBER(E17)=TRUE,E17,IF(COUNT(F17:N17)=0,"",ROUND(SUM(F17:N17)/COUNT(F17:N17),1))))) | P17: =IF(B17="","",IF(OR($C$6="",$J$6="",$M$6=""),"",IF(O17="","KXL",IF(O17<4,"Kém",IF(O17<5.4,"TBY",IF(O17<7,"TB",IF(O17<8.4,"Khá","Giỏi")))))))
A18: =IF(B18="","",SUBTOTAL(3,$B$11:B18)) -> 8 | B18: 15003023 | C18: =IF(B18="","",IF(ISNA(VLOOKUP($B18,'DS LOP CAO DANG'!$B$2:$D$2157,2,FALSE))=TRUE,"",VLOOKUP($B18,'DS LOP CAO DANG'!$B$2:$D$2157,2,FALSE))) -> Trương Công | D18: =IF(C18="","",IF(ISNA(VLOOKUP($B18,'DS LOP CAO DANG'!$B$2:$D$2157,3,FALSE))=TRUE,"",VLOOKUP($B18,'DS LOP CAO DANG'!$B$2:$D$2157,3,FALSE))) -> Định | O18: =IF(B18="","",IF(OR($C$6="",$J$6="",$M$6="",$J$101=""),"",IF(ISNUMBER(E18)=TRUE,E18,IF(COUNT(F18:N18)=0,"",ROUND(SUM(F18:N18)/COUNT(F18:N18),1))))) | P18: =IF(B18="","",IF(OR($C$6="",$J$6="",$M$6=""),"",IF(O18="","KXL",IF(O18<4,"Kém",IF(O18<5.4,"TBY",IF(O18<7,"TB",IF(O18<8.4,"Khá","Giỏi")))))))
A19: =IF(B19="","",SUBTOTAL(3,$B$11:B19)) -> 9 | B19: 15002284 | C19: =IF(B19="","",IF(ISNA(VLOOKUP($B19,'DS LOP CAO DANG'!$B$2:$D$2157,2,FALSE))=TRUE,"",VLOOKUP($B19,'DS LOP CAO DANG'!$B$2:$D$2157,2,FALSE))) -> Nguyễn Tiến | D19: =IF(C19="","",IF(ISNA(VLOOKUP($B19,'DS LOP CAO DANG'!$B$2:$D$2157,3,FALSE))=TRUE,"",VLOOKUP($B19,'DS LOP CAO DANG'!$B$2:$D$2157,3,FALSE))) -> Dũng | O19: =IF(B19="","",IF(OR($C$6="",$J$6="",$M$6="",$J$101=""),"",IF(ISNUMBER(E19)=TRUE,E19,IF(COUNT(F19:N19)=0,"",ROUND(SUM(F19:N19)/COUNT(F19:N19),1))))) | P19: =IF(B19="","",IF(OR($C$6="",$J$6="",$M$6=""),"",IF(O19="","KXL",IF(O19<4,"Kém",IF(O19<5.4,"TBY",IF(O19<7,"TB",IF(O19<8.4,"Khá","Giỏi")))))))
A20: =IF(B20="","",SUBTOTAL(3,$B$11:B20)) -> 10 | B20: 15003043 | C20: =IF(B20="","",IF(ISNA(VLOOKUP($B20,'DS LOP CAO DANG'!$B$2:$D$2157,2,FALSE))=TRUE,"",VLOOKUP($B20,'DS LOP CAO DANG'!$B$2:$D$2157,2,FALSE))) -> Nguyễn Thanh | D20: =IF(C20="","",IF(ISNA(VLOOKUP($B20,'DS LOP CAO DANG'!$B$2:$D$2157,3,FALSE))=TRUE,"",VLOOKUP($B20,'DS LOP CAO DANG'!$B$2:$D$2157,3,FALSE))) -> Giang | O20: =IF(B20="","",IF(OR($C$6="",$J$6="",$M$6="",$J$101=""),"",IF(ISNUMBER(E20)=TRUE,E20,IF(COUNT(F20:N20)=0,"",ROUND(SUM(F20:N20)/COUNT(F20:N20),1))))) | P20: =IF(B20="","",IF(OR($C$6="",$J$6="",$M$6=""),"",IF(O20="","KXL",IF(O20<4,"Kém",IF(O20<5.4,"TBY",IF(O20<7,"TB",IF(O20<8.4,"Khá","Giỏi")))))))
A21: =IF(B21="","",SUBTOTAL(3,$B$11:B21)) -> 11 | B21: 15002318 | C21: =IF(B21="","",IF(ISNA(VLOOKUP($B21,'DS LOP CAO DANG'!$B$2:$D$2157,2,FALSE))=TRUE,"",VLOOKUP($B21,'DS LOP CAO DANG'!$B$2:$D$2157,2,FALSE))) -> Lê Ngọc | D21: =IF(C21="","",IF(ISNA(VLOOKUP($B21,'DS LOP CAO DANG'!$B$2:$D$2157,3,FALSE))=TRUE,"",VLOOKUP($B21,'DS LOP CAO DANG'!$B$2:$D$2157,3,FALSE))) -> Hải | O21: =IF(B21="","",IF(OR($C$6="",$J$6="",$M$6="",$J$101=""),"",IF(ISNUMBER(E21)=TRUE,E21,IF(COUNT(F21:N21)=0,"",ROUND(SUM(F21:N21)/COUNT(F21:N21),1))))) | P21: =IF(B21="","",IF(OR($C$6="",$J$6="",$M$6=""),"",IF(O21="","KXL",IF(O21<4,"Kém",IF(O21<5.4,"TBY",IF(O21<7,"TB",IF(O21<8.4,"Khá","Giỏi")))))))
A22: =IF(B22="","",SUBTOTAL(3,$B$11:B22)) -> 12 | B22: 15003319 | C22: =IF(B22="","",IF(ISNA(VLOOKUP($B22,'DS LOP CAO DANG'!$B$2:$D$2157,2,FALSE))=TRUE,"",VLOOKUP($B22,'DS LOP CAO DANG'!$B$2:$D$2157,2,FALSE))) -> Nguyễn An | D22: =IF(C22="","",IF(ISNA(VLOOKUP($B22,'DS LOP CAO DANG'!$B$2:$D$2157,3,FALSE))=TRUE,"",VLOOKUP($B22,'DS LOP CAO DANG'!$B$2:$D$2157,3,FALSE))) -> Hiếu | O22: =IF(B22="","",IF(OR($C$6="",$J$6="",$M$6="",$J$101=""),"",IF(ISNUMBER(E22)=TRUE,E22,IF(COUNT(F22:N22)=0,"",ROUND(SUM(F22:N22)/COUNT(F22:N22),1))))) | P22: =IF(B22="","",IF(OR($C$6="",$J$6="",$M$6=""),"",IF(O22="","KXL",IF(O22<4,"Kém",IF(O22<5.4,"TBY",IF(O22<7,"TB",IF(O22<8.4,"Khá","Giỏi")))))))
A23: =IF(B23="","",SUBTOTAL(3,$B$11:B23)) -> 13 | B23: 15002721 | C23: =IF(B23="","",IF(ISNA(VLOOKUP($B23,'DS LOP CAO DANG'!$B$2:$D$2157,2,FALSE))=TRUE,"",VLOOKUP($B23,'DS LOP CAO DANG'!$B$2:$D$2157,2,FALSE))) -> Nguyễn Quang | D23: =IF(C23="","",IF(ISNA(VLOOKUP($B23,'DS LOP CAO DANG'!$B$2:$D$2157,3,FALSE))=TRUE,"",VLOOKUP($B23,'DS LOP CAO DANG'!$B$2:$D$2157,3,FALSE))) -> Hiếu | O23: =IF(B23="","",IF(OR($C$6="",$J$6="",$M$6="",$J$101=""),"",IF(ISNUMBER(E23)=TRUE,E23,IF(COUNT(F23:N23)=0,"",ROUND(SUM(F23:N23)/COUNT(F23:N23),1))))) | P23: =IF(B23="","",IF(OR($C$6="",$J$6="",$M$6=""),"",IF(O23="","KXL",IF(O23<4,"Kém",IF(O23<5.4,"TBY",IF(O23<7,"TB",IF(O23<8.4,"Khá","Giỏi")))))))
... A75: =IF(B75="","",SUBTOTAL(3,$B$11:B75)) -> 65 | B75: 15003338 | C75: =IF(B75="","",IF(ISNA(VLOOKUP($B75,'DS LOP CAO DANG'!$B$2:$D$2157,2,FALSE))=TRUE,"",VLOOKUP($B75,'DS LOP CAO DANG'!$B$2:$D$2157,2,FALSE))) -> Nguyễn Văn | D75: =IF(C75="","",IF(ISNA(VLOOKUP($B75,'DS LOP CAO DANG'!$B$2:$D$2157,3,FALSE))=TRUE,"",VLOOKUP($B75,'DS LOP CAO DANG'!$B$2:$D$2157,3,FALSE))) -> Vương | O75: =IF(B75="","",IF(OR($C$6="",$J$6="",$M$6="",$J$101=""),"",IF(ISNUMBER(E75)=TRUE,E75,IF(COUNT(F75:N75)=0,"",ROUND(SUM(F75:N75)/COUNT(F75:N75),1))))) | P75: =IF(B75="","",IF(OR($C$6="",$J$6="",$M$6=""),"",IF(O75="","KXL",IF(O75<4,"Kém",IF(O75<5.4,"TBY",IF(O75<7,"TB",IF(O75<8.4,"Khá","Giỏi")))))))
A76: =IF(B76="","",SUBTOTAL(3,$B$11:B76)) -> 66 | B76: 15002909 | C76: =IF(B76="","",IF(ISNA(VLOOKUP($B76,'DS LOP CAO DANG'!$B$2:$D$2157,2,FALSE))=TRUE,"",VLOOKUP($B76,'DS LOP CAO DANG'!$B$2:$D$2157,2,FALSE))) -> Dương Triều | D76: =IF(C76="","",IF(ISNA(VLOOKUP($B76,'DS LOP CAO DANG'!$B$2:$D$2157,3,FALSE))=TRUE,"",VLOOKUP($B76,'DS LOP CAO DANG'!$B$2:$D$2157,3,FALSE))) -> Vỹ | O76: =IF(B76="","",IF(OR($C$6="",$J$6="",$M$6="",$J$101=""),"",IF(ISNUMBER(E76)=TRUE,E76,IF(COUNT(F76:N76)=0,"",ROUND(SUM(F76:N76)/COUNT(F76:N76),1)))))
A77: =IF(B77="","",SUBTOTAL(3,$B$11:B77)) | C77: =IF(B77="","",IF(ISNA(VLOOKUP($B77,'DS LOP CAO DANG'!$B$2:$D$2157,2,FALSE))=TRUE,"",VLOOKUP($B77,'DS LOP CAO DANG'!$B$2:$D$2157,2,FALSE))) | D77: =IF(C77="","",IF(ISNA(VLOOKUP($B77,'DS LOP CAO DANG'!$B$2:$D$2157,3,FALSE))=TRUE,"",VLOOKUP($B77,'DS LOP CAO DANG'!$B$2:$D$2157,3,FALSE))) | O77: =IF(B77="","",IF(OR($C$6="",$J$6="",$M$6="",$J$101=""),"",IF(ISNUMBER(E77)=TRUE,E77,IF(COUNT(F77:N77)=0,"",ROUND(SUM(F77:N77)/COUNT(F77:N77),1)))))
A78: =IF(B78="","",SUBTOTAL(3,$B$11:B78)) | C78: =IF(B78="","",IF(ISNA(VLOOKUP($B78,'DS LOP CAO DANG'!$B$2:$D$2157,2,FALSE))=TRUE,"",VLOOKUP($B78,'DS LOP CAO DANG'!$B$2:$D$2157,2,FALSE))) | D78: =IF(C78="","",IF(ISNA(VLOOKUP($B78,'DS LOP CAO DANG'!$B$2:$D$2157,3,FALSE))=TRUE,"",VLOOKUP($B78,'DS LOP CAO DANG'!$B$2:$D$2157,3,FALSE))) | O78: =IF(B78="","",IF(OR($C$6="",$J$6="",$M$6="",$J$101=""),"",IF(ISNUMBER(E78)=TRUE,E78,IF(COUNT(F78:N78)=0,"",ROUND(SUM(F78:N78)/COUNT(F78:N78),1)))))
A79: =IF(B79="","",SUBTOTAL(3,$B$11:B79)) | C79: =IF(B79="","",IF(ISNA(VLOOKUP($B79,'DS LOP CAO DANG'!$B$2:$D$2157,2,FALSE))=TRUE,"",VLOOKUP($B79,'DS LOP CAO DANG'!$B$2:$D$2157,2,FALSE))) | D79: =IF(C79="","",IF(ISNA(VLOOKUP($B79,'DS LOP CAO DANG'!$B$2:$D$2157,3,FALSE))=TRUE,"",VLOOKUP($B79,'DS LOP CAO DANG'!$B$2:$D$2157,3,FALSE))) | O79: =IF(B79="","",IF(OR($C$6="",$J$6="",$M$6="",$J$101=""),"",IF(ISNUMBER(E79)=TRUE,E79,IF(COUNT(F79:N79)=0,"",ROUND(SUM(F79:N79)/COUNT(F79:N79),1)))))
A80: =IF(B80="","",SUBTOTAL(3,$B$11:B80)) | C80: =IF(B80="","",IF(ISNA(VLOOKUP($B80,'DS LOP CAO DANG'!$B$2:$D$2157,2,FALSE))=TRUE,"",VLOOKUP($B80,'DS LOP CAO DANG'!$B$2:$D$2157,2,FALSE))) | D80: =IF(C80="","",IF(ISNA(VLOOKUP($B80,'DS LOP CAO DANG'!$B$2:$D$2157,3,FALSE))=TRUE,"",VLOOKUP($B80,'DS LOP CAO DANG'!$B$2:$D$2157,3,FALSE))) | O80: =IF(B80="","",IF(OR($C$6="",$J$6="",$M$6="",$J$101=""),"",IF(ISNUMBER(E80)=TRUE,E80,IF(COUNT(F80:N80)=0,"",ROUND(SUM(F80:N80)/COUNT(F80:N80),1)))))
A81: =IF(B81="","",SUBTOTAL(3,$B$11:B81)) | C81: =IF(B81="","",IF(ISNA(VLOOKUP($B81,'DS LOP CAO DANG'!$B$2:$D$2157,2,FALSE))=TRUE,"",VLOOKUP($B81,'DS LOP CAO DANG'!$B$2:$D$2157,2,FALSE))) | D81: =IF(C81="","",IF(ISNA(VLOOKUP($B81,'DS LOP CAO DANG'!$B$2:$D$2157,3,FALSE))=TRUE,"",VLOOKUP($B81,'DS LOP CAO DANG'!$B$2:$D$2157,3,FALSE))) | O81: =IF(B81="","",IF(OR($C$6="",$J$6="",$M$6="",$J$101=""),"",IF(ISNUMBER(E81)=TRUE,E81,IF(COUNT(F81:N81)=0,"",ROUND(SUM(F81:N81)/COUNT(F81:N81),1)))))
A82: =IF(B82="","",SUBTOTAL(3,$B$11:B82)) | C82: =IF(B82="","",IF(ISNA(VLOOKUP($B82,'DS LOP CAO DANG'!$B$2:$D$2157,2,FALSE))=TRUE,"",VLOOKUP($B82,'DS LOP CAO DANG'!$B$2:$D$2157,2,FALSE))) | D82: =IF(C82="","",IF(ISNA(VLOOKUP($B82,'DS LOP CAO DANG'!$B$2:$D$2157,3,FALSE))=TRUE,"",VLOOKUP($B82,'DS LOP CAO DANG'!$B$2:$D$2157,3,FALSE))) | O82: =IF(B82="","",IF(OR($C$6="",$J$6="",$M$6="",$J$101=""),"",IF(ISNUMBER(E82)=TRUE,E82,IF(COUNT(F82:N82)=0,"",ROUND(SUM(F82:N82)/COUNT(F82:N82),1)))))
A83: =IF(B83="","",SUBTOTAL(3,$B$11:B83)) | C83: =IF(B83="","",IF(ISNA(VLOOKUP($B83,'DS LOP CAO DANG'!$B$2:$D$2157,2,FALSE))=TRUE,"",VLOOKUP($B83,'DS LOP CAO DANG'!$B$2:$D$2157,2,FALSE))) | D83: =IF(C83="","",IF(ISNA(VLOOKUP($B83,'DS LOP CAO DANG'!$B$2:$D$2157,3,FALSE))=TRUE,"",VLOOKUP($B83,'DS LOP CAO DANG'!$B$2:$D$2157,3,FALSE))) | O83: =IF(B83="","",IF(OR($C$6="",$J$6="",$M$6="",$J$101=""),"",IF(ISNUMBER(E83)=TRUE,E83,IF(COUNT(F83:N83)=0,"",ROUND(SUM(F83:N83)/COUNT(F83:N83),1)))))
A84: =IF(B84="","",SUBTOTAL(3,$B$11:B84)) | C84: =IF(B84="","",IF(ISNA(VLOOKUP($B84,'DS LOP CAO DANG'!$B$2:$D$2157,2,FALSE))=TRUE,"",VLOOKUP($B84,'DS LOP CAO DANG'!$B$2:$D$2157,2,FALSE))) | D84: =IF(C84="","",IF(ISNA(VLOOKUP($B84,'DS LOP CAO DANG'!$B$2:$D$2157,3,FALSE))=TRUE,"",VLOOKUP($B84,'DS LOP CAO DANG'!$B$2:$D$2157,3,FALSE))) | O84: =IF(B84="","",IF(OR($C$6="",$J$6="",$M$6="",$J$101=""),"",IF(ISNUMBER(E84)=TRUE,E84,IF(COUNT(F84:N84)=0,"",ROUND(SUM(F84:N84)/COUNT(F84:N84),1)))))
A85: =IF(B85="","",SUBTOTAL(3,$B$11:B85)) | C85: =IF(B85="","",IF(ISNA(VLOOKUP($B85,'DS LOP CAO DANG'!$B$2:$D$2157,2,FALSE))=TRUE,"",VLOOKUP($B85,'DS LOP CAO DANG'!$B$2:$D$2157,2,FALSE))) | D85: =IF(C85="","",IF(ISNA(VLOOKUP($B85,'DS LOP CAO DANG'!$B$2:$D$2157,3,FALSE))=TRUE,"",VLOOKUP($B85,'DS LOP CAO DANG'!$B$2:$D$2157,3,FALSE))) | O85: =IF(B85="","",IF(OR($C$6="",$J$6="",$M$6="",$J$101=""),"",IF(ISNUMBER(E85)=TRUE,E85,IF(COUNT(F85:N85)=0,"",ROUND(SUM(F85:N85)/COUNT(F85:N85),1)))))
A86: Yêu cầu : Khoa niêm yết cho sinh viên, lưu Giáo vụ Khoa và nộp bản chính cho Phòng TS - Đào tạo - GTVL.
B87: ="Tổng danh sách có" -> Tổng danh sách có | F87: =": "&IF(MAX($A$11:$A$85)=1,0,MAX($A$11:$A$85))&" SV" -> : 66 SV
B88: ="Tổng số SV có điểm Giỏi từ 8,5 đ đến 10 đ" -> Tổng số SV có điểm Giỏi từ 8,5 đ đến 10 đ | F88: =": "&COUNTIF($P$11:$P$85,"Giỏi")&" SV" -> : 0 SV | H88: ="("&ROUND(COUNTIF($P$11:$P$75,"Giỏi")*100/MAX($A$11:$A$75),2)&"%" &")" -> (0%) | J88: ="Tổng số SV có điểm >= 4 đ : "&COUNTIF(O11:O75,">=4")&" SV"&" ("&ROUND(COUNTIF(O11:O75,">=4")*100/MAX($A$11:$A$75),2)&"%" &")" -> Tổng số SV có điểm >= 4 đ : 0 SV (0%)
B89: ="Tổng số SV có điểm Khá từ 7 đ đến <8,5 đ" -> Tổng số SV có điểm Khá từ 7 đ đến <8,5 đ | F89: =": "&COUNTIF($P$11:$P$85,"Khá")&" SV" -> : 0 SV | H89: ="("&ROUND(COUNTIF($P$11:$P$75,"Khá")*100/MAX($A$11:$A$75),2)&"%" &")" -> (0%)
B90: ="Tổng số SV có điểm Trung bình từ 5,5 đ đến <7 đ" -> Tổng số SV có điểm Trung bình từ 5,5 đ đến <7 đ | F90: =": "&COUNTIF($P$11:$P$85,"TB")&" SV" -> : 0 SV | H90: ="("&ROUND(COUNTIF($P$11:$P$75,"TB")*100/MAX($A$11:$A$75),2)&"%" &")" -> (0%)
B91: ="Tổng số SV có điểm Trung bình yếu từ 4 đ đến <5,5 đ" -> Tổng số SV có điểm Trung bình yếu từ 4 đ đến <5,5 đ | F91: =": "&COUNTIF($P$11:$P$85,"TBY")&" SV" -> : 0 SV | H91: ="("&ROUND(COUNTIF($P$11:$P$75,"TBY")*100/MAX($A$11:$A$75),2)&"%" &")" -> (0%) | J91: ="Tổng số SV có điểm < 4 đ : "&COUNTIF(O11:O75,"<4")&" SV"&" ("&ROUND(COUNTIF(O11:O75,"<4")*100/MAX($A$11:$A$75),2)&"%" &")" -> Tổng số SV có điểm < 4 đ : 0 SV (0%)
B92: ="Tổng số SV có điểm kém <4 đ" -> Tổng số SV có điểm kém <4 đ | F92: =": "&COUNTIF($P$11:$P$85,"Kém")&" SV" -> : 0 SV | H92: ="("&ROUND(COUNTIF($P$11:$P$75,"Kém")*100/MAX($A$11:$A$75),2)&"%"&")" -> (0%)
B93: ="Tổng số SV không xếp loại vì chưa đủ điều kiện" -> Tổng số SV không xếp loại vì chưa đủ điều kiện | F93: =": "&COUNTIF($P$11:$P$85,"KXL")&" SV" -> : 0 SV | H93: ="("&ROUND(COUNTIF($P$11:$P$75,"KXL")*100/MAX($A$11:$A$75),2)&"%"&")" -> (0%)
E94: Thành phố Hồ Chí Minh, ngày tháng năm
A95: TRƯỞNG KHOA | D95: TRƯỞNG BỘ MÔN | J95: GIÁO VIÊN GIẢNG DẠY

Sheet DS LOP HỌC LAI
A1: TRƯỜNG CAO ĐẲNG KỸ THUẬT LÝ TỰ TRỌNG TP. HỒ CHÍ MINH | G1: CỘNG HÒA XÃ HỘI CHỦ NGHĨA VIỆT NAM Độc lập - Tự do - Hạnh phúc
A2: PHÒNG TS-ĐT-GTVL
F3: Thành phố Hồ Chí Minh, ngày 12 tháng 5 năm 2015
A4: DANH SÁCH SINH VIÊN CAO ĐẲNG HỌC LẠI CÁC HỌC PHẦN
A5: Học kỳ I Năm học 2015 - 2016
A6: TT | B6: MSSV | C6: Họ và tên | E6: Lớp | F6: Lớp học lại | G6: Học phần học lại | H6: Số TÍN CHỈ | J6: Điểm học phần
H7: LT | I7: TH | J7: Chính | K7: Phụ
A8: 1 | B8: 12D2010170 | C8: NGUYỄN MINH | D8: TIẾN | E8: 13CĐ-CK3 | F8: 15CĐ-CK8 | G8: AN TOÀN VÀ MTCN | H8: 2
A9: 2 | B9: 12D3010059 | C9: TRƯƠNG QUANG | D9: KHÁNH | E9: 13CĐ-ĐT2 | F9: 15CĐ-CK3 | G9: ANH VĂN 1 | H9: 3
A10: 3 | B10: 14D201P079 | C10: NGUYỄN VŨ ĐÔNG | D10: ĐỨC | E10: 14CĐ-TP1 | F10: 15CĐ-CK3 | G10: ANH VĂN 1 | H10: 3
A11: 4 | B11: 14000727 | C11: TRƯƠNG CÔNG | D11: ĐẠT | E11: 14CĐ-CK3 | F11: 15CĐ-CK4 | G11: ANH VĂN 1 | H11: 3
A12: 5 | B12: 13D2050077 | C12: LÊ VĂN | D12: HƯNG | E12: 13CĐ-Ô1 | F12: 15CĐ-CK9 | G12: ANH VĂN 1 | H12: 3
A13: 6 | B13: 13D201P059 | C13: NGUYỄN DUY | D13: PHƯƠNG | E13: 13CĐ-TP1 | F13: 15CĐ-CNTT6 | G13: ANH VĂN 1 | H13: 3
A14: 7 | B14: 14D2010010 | C14: TẠ THANH | D14: LONG | E14: 14CĐ-CK1 | F14: 15CĐ-Ô2 | G14: ANH VĂN 1 | H14: 3
A15: 8 | B15: 14D2010115 | C15: TRƯƠNG VĂN | D15: QUANG | E15: 14CĐ-CK1 | F15: 15CĐ-Ô2 | G15: ANH VĂN 1 | H15: 3
A16: 9 | B16: 12D201P071 | C16: HUỲNH MINH | D16: TRUNG | E16: 12CĐ-TP1 | F16: 15CĐ-CNTT2 | G16: CƠ SỞ DỮ LIỆU | H16: 2
A17: 10 | B17: 13D201P020 | C17: TĂNG LẬP | D17: ĐỨC | E17: 13CĐ-TP2 | F17: 15CĐ-CNTT2 | G17: CƠ SỞ DỮ LIỆU | H17: 2
A18: 11 | B18: 11D0040009 | C18: NGUYỄN CHÍ | D18: CƯỜNG | E18: 12CĐ-TP1 | F18: 15CĐ-CNTT3 | G18: CƠ SỞ DỮ LIỆU | H18: 2
A19: 12 | B19: 13D2050083 | C19: LÊ NGỌC | D19: HUY | E19: 13CĐ-Ô2 | F19: 15CĐ-MTT1 | G19: GD THỂ CHẤT 1 | I19: 1
A20: 13 | B20: 13D2010001 | C20: HUỲNH TRẦN CÔNG | D20: AN | E20: 13CĐ-CK2 | F20: 15CĐ-Ô1 | G20: HH-VẼ KỸ THUẬT | H20: 3
A21: 14 | B21: 13D2010047 | C21: NGUYỄN CÔNG | D21: HẢI | E21: 13CĐ-CK2 | F21: 15CĐ-Ô1 | G21: HH-VẼ KỸ THUẬT | H21: 3
A22: 15 | B22: 13D2010204 | C22: PHẠM CÔNG | D22: THỊNH | E22: 13CĐ-CK2 | F22: 15CĐ-Ô1 | G22: HH-VẼ KỸ THUẬT | H22: 3
A23: 16 | B23: 11D0030022 | C23: TRẦN BẢO | D23: DUY | E23: 12CĐ-Ô1 | F23: 15CĐ-Ô2 | G23: HH-VẼ KỸ THUẬT | H23: 3
A24: 17 | B24: 11D0030087 | C24: NGUYỄN HOÀNG | D24: PHONG | E24: 12CĐ-Ô1 | F24: 15CĐ-Ô2 | G24: HH-VẼ KỸ THUẬT | H24: 3
A25: 18 | B25: 13D2050027 | C25: TẠ QUỐC | D25: DUY | E25: 13CĐ-Ô1 | F25: 15CĐ-Ô2 | G25: HH-VẼ KỸ THUẬT | H25: 3
A26: 19 | B26: 12D2050086 | C26: TRẦN MINH | D26: TRUNG | E26: 12CĐ-Ô1 | F26: 15CĐ-Ô3 | G26: HH-VẼ KỸ THUẬT | H26: 3
A27: 20 | B27: 13D2010031 | C27: CAO NGUYỄN MẪN | D27: ĐẠT | E27: 14CĐ-CK3 | F27: 15CĐ-Ô6 | G27: HH-VẼ KỸ THUẬT | H27: 3
A28: 21 | B28: 14000872 | C28: HỒ QUỐC | D28: DINH | E28: 14CĐ-Ô2 | F28: 15CĐ-Ô6 | G28: HH-VẼ KỸ THUẬT | H28: 3
A29: 22 | B29: 14D2050112 | C29: NGUYỄN VĂN ANH | D29: KHOA | E29: 14CĐ-Ô2 | F29: 15CĐ-Ô6 | G29: HH-VẼ KỸ THUẬT | H29: 3
A30: 23 | B30: 14000914 | C30: NGUYỄN NGỌC | D30: TRIẾT | E30: 14CĐ-Ô2 | F30: 15CĐ-Ô6 | G30: HH-VẼ KỸ THUẬT | H30: 3
A31: 24 | B31: 14D2090173 | C31: LÊ THÀNH | D31: QUYÊN | E31: 14CĐ-Ô3 | F31: 15CĐ-Ô6 | G31: HH-VẼ KỸ THUẬT | H31: 3
A32: 25 | B32: 14CĐ-Ô3 | C32: MAI DUY | D32: TRUNG | E32: 14CĐ-Ô3 | F32: 15CĐ-Ô6 | G32: HH-VẼ KỸ THUẬT | H32: 3
A33: 26 | B33: 14CĐ-Ô4 | C33: NGUYỄN HỮU | D33: THÀNH | E33: 14CĐ-Ô4 | F33: 15CĐ-Ô9 | G33: HH-VẼ KỸ THUẬT | H33: 3
A34: 27 | B34: 14CĐ-Ô4 | C34: TRẦN NGỌC | D34: THẠCH | E34: 14CĐ-Ô4 | F34: 15CĐ-CK2 | G34: HÓA HỌC ĐC 1 | H34: 2
A35: 28 | B35: 14CĐ-Ô4 | C35: NGUYỄN HỮU | D35: THÀNH | E35: 14CĐ-Ô4 | F35: 15CĐ-CK2 | G35: HÓA HỌC ĐC 1 | H35: 2
A36: 29 | B36: 13D2010159 | C36: PHAN NGỌC | D36: PHƯỚC | E36: 13CĐ-CK2 | F36: 15CĐ-CK3 | G36: HÓA HỌC ĐC 1 | H36: 2
A37: 30 | B37: 14000736 | C37: THÀNH PHÚ DUY | D37: KHANG | E37: 14CĐ-CK3 | F37: 15CĐ-CK3 | G37: HÓA HỌC ĐC 1 | H37: 2
A38: 31 | B38: 14D2010081 | C38: NGUYỄN TÙNG | D38: LÂM | E38: 14CĐ-CK3 | F38: 15CĐ-CK3 | G38: HÓA HỌC ĐC 1 | H38: 2
A39: 32 | B39: 14000904 | C39: NGUYỄN TẤN | D39: TÀI | E39: 14CĐ-Ô2 | F39: 15CĐ-CK5 | G39: HÓA HỌC ĐC 1 | H39: 2
A40: 33 | B40: 14D2010144 | C40: LÊ TRUNG | D40: TÍN | E40: 14CĐ-CK3 | F40: 15CĐ-CK6 | G40: HÓA HỌC ĐC 1 | H40: 2
A41: 34 | B41: 14CĐ-CK3 | C41: TRẦN KHIÊM | D41: TRÍ | E41: 14CĐ-CK3 | F41: 15CĐ-CK6 | G41: HÓA HỌC ĐC 1 | H41: 2
A42: 35 | B42: 14D2010138 | C42: HỒ VĂN | D42: THUẬN | E42: 14CĐ-CK3 | F42: 15CĐ-CK9 | G42: HÓA HỌC ĐC 1 | H42: 2
A43: 36 | B43: 14D301Đ031 | C43: NGUYỄN VĂN | D43: BÌNH | E43: 14CĐ-Đ2 | F43: 15CĐ-ĐĐT1 | G43: HÓA HỌC ĐC 1 | H43: 2
A44: 37 | B44: 14000579 | C44: ĐÀM VIỆT | D44: TUẤN | E44: 14CĐ-Đ2 | F44: 15CĐ-ĐĐT3 | G44: HÓA HỌC ĐC 1 | H44: 2
A45: 38 | B45: 13D301Đ152 | C45: PHẠM CAO HỮU | D45: TÌNH | E45: 13CĐ-Đ2 | F45: 15CĐ-ĐĐT4 | G45: HÓA HỌC ĐC 1 | H45: 2
A46: 39 | B46: 14D301Đ051 | C46: NGUYỄN TRỌNG | D46: HỮU | E46: 14CĐ-Đ2 | F46: 15CĐ-ĐĐT7 | G46: HÓA HỌC ĐC 1 | H46: 2
A47: 40 | B47: 14000585 | C47: TRƯƠNG LĂM | D47: VĨNH | E47: 14CĐ-Đ2 | F47: 15CĐ-ĐĐT7 | G47: HÓA HỌC ĐC 1 | H47: 2
A48: 41 | B48: 13D2040025 | C48: PHAN THỊ MỸ | D48: NGA | E48: 13CĐ-M | F48: 15CĐ-MTT3 | G48: HÓA HỌC ĐC 1 | H48: 2
A49: 42 | B49: 13D2040046 | C49: LƯU THỊ THỦY | D49: TIÊN | E49: 13CĐ-M | F49: 15CĐ-MTT3 | G49: HÓA HỌC ĐC 1 | H49: 2
A50: 43 | B50: 14CĐ-Ô3 | C50: NGUYỄN NGỌC | D50: HÀO | E50: 14CĐ-Ô3 | F50: 15CĐ-Ô2 | G50: HÓA HỌC ĐC 1 | H50: 2
A51: 44 | B51: 14D2050098 | C51: HUỲNH TRUNG | D51: HIẾU | E51: 14CĐ-Ô3 | F51: 15CĐ-Ô2 | G51: HÓA HỌC ĐC 1 | H51: 2
A52: 45 | B52: 14D2051083 | C52: QUÁCH NGÔ CHÍ | D52: TÀI | E52: 14CĐ-Ô3 | F52: 15CĐ-Ô2 | G52: HÓA HỌC ĐC 1 | H52: 2
A53: 46 | B53: 14CĐ-Ô3 | C53: MAI DUY | D53: TRUNG | E53: 14CĐ-Ô3 | F53: 15CĐ-Ô2 | G53: HÓA HỌC ĐC 1 | H53: 2
A54: 47 | B54: 14D2050233 | C54: LÊ ĐÌNH | D54: TÚ | E54: 14CĐ-Ô3 | F54: 15CĐ-Ô2 | G54: HÓA HỌC ĐC 1 | H54: 2
A55: 48 | B55: 14CĐ-Ô3 | C55: PHAN THANH | D55: TÙNG | E55: 14CĐ-Ô3 | F55: 15CĐ-Ô2 | G55: HÓA HỌC ĐC 1 | H55: 2
A56: 49 | B56: 14D2050112 | C56: NGUYỄN VĂN ANH | D56: KHOA | E56: 14CĐ-Ô2 | F56: 15CĐ-Ô6 | G56: HÓA HỌC ĐC 1 | H56: 2
A57: 50 | B57: 11D0030397 | C57: TRƯƠNG VĂN | D57: TIỂN | E57: 12CĐ-Ô2 | F57: 15CĐ-Ô9 | G57: HÓA HỌC ĐC 1 | H57: 2
A58: 51 | B58: 14000681 | C58: ĐÀNG NĂNG XUÂN | D58: ĐỊNH | E58: 14CĐ-CK2 | F58: 15CĐ-Ô9 | G58: HÓA HỌC ĐC 1 | H58: 2
A59: 52 | B59: 12D301Đ140 | C59: VÕ VĂN | D59: THƯƠNG | E59: 12CĐ-Đ2 | F59: 15CĐ-ĐĐT2 | G59: MẠCH ĐIỆN | H59: 3
A60: 53 | B60: 12D301Đ160 | C60: NGUYỄN CÔNG | D60: TUẤN | E60: 12CĐ-Đ2 | F60: 15CĐ-ĐĐT4 | G60: MẠCH ĐIỆN | H60: 3
A61: 54 | B61: 11D0010126 | C61: NGUYỄN VĂN | D61: HẢI | E61: 12CĐ-Đ1 | F61: 15CĐ-ĐĐT7 | G61: MẠCH ĐIỆN | H61: 3
A62: 55 | B62: 14D301Đ069 | C62: NGUYỄN ĐỨC | D62: SANG | E62: 14CĐ-Đ2 | F62: 15CĐ-ĐĐT2 | G62: MẠCH ĐIỆN TỬ | H62: 2
A63: 56 | B63: 14D301Đ082 | C63: HÀ MINH | D63: TRÍ | E63: 14CĐ-Đ2 | F63: 15CĐ-ĐĐT2 | G63: MẠCH ĐIỆN TỬ | H63: 2
A64: 57 | B64: 14D301Đ086 | C64: VÕ VĂN | D64: TRƯNG | E64: 14CĐ-Đ2 | F64: 15CĐ-ĐĐT2 | G64: MẠCH ĐIỆN TỬ | H64: 2
A65: 58 | B65: 14D301Đ091 | C65: HỒ HỮU | D65: VÂN | E65: 14CĐ-Đ2 | F65: 15CĐ-ĐĐT2 | G65: MẠCH ĐIỆN TỬ | H65: 2
A66: 59 | B66: 14000579 | C66: ĐÀM VIỆT | D66: TUẤN | E66: 14CĐ-Đ2 | F66: 15CĐ-ĐĐT3 | G66: MẠCH ĐIỆN TỬ | H66: 2
A67: 60 | B67: 14000539 | C67: NGUYỄN THANH | D67: ÂN | E67: 14CĐ-Đ2 | F67: 15CĐ-ĐĐT9 | G67: MẠCH ĐIỆN TỬ | H67: 2
A68: 61 | B68: 14000540 | C68: ĐỖ HỒNG | D68: BẠCH | E68: 14CĐ-Đ2 | F68: 15CĐ-ĐĐT9 | G68: MẠCH ĐIỆN TỬ | H68: 2
A69: 62 | B69: 14CĐ-Đ2 | C69: NGUYỄN KIỀU VŨ | D69: DU | E69: 14CĐ-Đ2 | F69: 15CĐ-ĐĐT9 | G69: MẠCH ĐIỆN TỬ | H69: 2
A70: 63 | B70: 14D301Đ043 | C70: LÊ CHÁNH | D70: HIỆP | E70: 14CĐ-Đ2 | F70: 15CĐ-ĐĐT9 | G70: MẠCH ĐIỆN TỬ | H70: 2
A71: 64 | B71: 14D301Đ063 | C71: BÙI QUỐC | D71: PHONG | E71: 14CĐ-Đ2 | F71: 15CĐ-ĐĐT9 | G71: MẠCH ĐIỆN TỬ | H71: 2
A72: 65 | B72: 14D301Đ083 | C72: NGUYỄN HUỲNH | D72: TRIẾT | E72: 14CĐ-Đ2 | F72: 15CĐ-ĐĐT9 | G72: MẠCH ĐIỆN TỬ | H72: 2
A73: 66 | B73: 12D2010093 | C73: NGUYỄN ĐÌNH | D73: LỮ | E73: 13CĐ-CK4 | F73: 15CĐ-CK9 | G73: NHẬP MÔN TIN HỌC | H73: 2 | I73: 1
A74: 67 | B74: 13D201P072 | C74: LÊ SỸ | D74: ĐỊNH | E74: 13CĐ-TP1 | F74: 15CĐ-CNTT3 | G74: NHẬP MÔN TIN HỌC | H74: 2 | I74: 1
A75: 68 | B75: 14D201P041 | C75: NGÔ THỊ | D75: PHÚC | E75: 14CĐ-TP2 | F75: 15CĐ-CNTT3 | G75: NHẬP MÔN TIN HỌC | H75: 2 | I75: 1
A76: 69 | B76: 13D2010017 | C76: TRẦN BẢO | D76: CHINH | E76: 13CĐ-CK1 | F76: 15CĐ-ĐĐT1 | G76: NHẬP MÔN TIN HỌC | H76: 2 | I76: 1
A77: 70 | B77: 13D3010135 | C77: NGUYỄN MINH | D77: TOÀN | E77: 13CĐ-ĐT1 | F77: 15CĐ-ĐĐT2 | G77: NHẬP MÔN TIN HỌC | H77: 2 | I77: 1
A78: 71 | B78: 13D2060001 | C78: TRẦN NGỌC | D78: ANH | E78: 13CĐ-NL1 | F78: 15CĐ-ĐĐT6 | G78: NHẬP MÔN TIN HỌC | H78: 2 | I78: 1
A79: 72 | B79: 13D2060025 | C79: LÊ HOÀNG | D79: LINH | E79: 13CĐ-NL1 | F79: 15CĐ-ĐĐT6 | G79: NHẬP MÔN TIN HỌC | H79: 2 | I79: 1
A80: 73 | B80: 13D2060047 | C80: VÕ THÀNH | D80: QUYÊN | E80: 13CĐ-NL1 | F80: 15CĐ-ĐĐT6 | G80: NHẬP MÔN TIN HỌC | H80: 2 | I80: 1
A81: 74 | B81: 13D2060049 | C81: ĐỖ NGỌC | D81: SỊN | E81: 13CĐ-NL1 | F81: 15CĐ-ĐĐT6 | G81: NHẬP MÔN TIN HỌC | H81: 2 | I81: 1
A82: 75 | B82: 13D3010178 | C82: ĐINH TIẾN | D82: HƯNG | E82: 13CĐ-ĐT2 | F82: 15CĐ-ĐĐT9 | G82: NHẬP MÔN TIN HỌC | H82: 2 | I82: 1
A83: 76 | B83: 14D301Đ059 | C83: BÍCH THANH | D83: NA | E83: 14CĐ-Đ2 | F83: 15CĐ-ĐĐT9 | G83: NHẬP MÔN TIN HỌC | H83: 2 | I83: 1
A84: 77 | B84: 14D201P079 | C84: NGUYỄN VŨ ĐÔNG | D84: ĐỨC | E84: 14CĐ-TP1 | F84: 15CĐ-ĐĐT9 | G84: NHẬP MÔN TIN HỌC | H84: 2 | I84: 1
A85: 78 | B85: 14CĐ-CK3 | C85: TRẦN KHIÊM | D85: TRÍ | E85: 14CĐ-CK3 | F85: 15CĐ-CK7 | G85: NNLCB CỦA CNMLN 1 | H85: 2
A86: 79 | B86: 13D201P059 | C86: NGUYỄN DUY | D86: PHƯƠNG | E86: 13CĐ-TP1 | F86: 15CĐ-CNTT6 | G86: NNLCB CỦA CNMLN 1 | H86: 2
A87: 80 | B87: 13D2050027 | C87: TẠ QUỐC | D87: DUY | E87: 13CĐ-Ô1 | F87: 15CĐ-CK5 | G87: PHÁP LUẬT ĐC | H87: 2
A88: 81 | B88: 13D201P108 | C88: PHẠM HOÀNG | D88: MINH | E88: 13CĐ-TP1 | F88: 15CĐ-CK5 | G88: PHÁP LUẬT ĐC | H88: 2
A89: 82 | B89: 13D201P049 | C89: PHẠM TUẤN | D89: MỸ | E89: 13CĐ-TP1 | F89: 15CĐ-CK5 | G89: PHÁP LUẬT ĐC | H89: 2
A90: 83 | B90: 13D201P057 | C90: HUỲNH NGỌC HOÀNG | D90: PHÚC | E90: 13CĐ-TP1 | F90: 15CĐ-CK5 | G90: PHÁP LUẬT ĐC | H90: 2
A91: 84 | B91: 13D201P059 | C91: NGUYỄN DUY | D91: PHƯƠNG | E91: 13CĐ-TP1 | F91: 15CĐ-CK5 | G91: PHÁP LUẬT ĐC | H91: 2
A92: 85 | B92: 13D201P075 | C92: LÊ ĐÌNH | D92: THẮNG | E92: 13CĐ-TP1 | F92: 15CĐ-CK5 | G92: PHÁP LUẬT ĐC | H92: 2
A93: 86 | B93: 14CĐ-CK3 | C93: TRẦN KHIÊM | D93: TRÍ | E93: 14CĐ-CK3 | F93: 15CĐ-CK7 | G93: PHÁP LUẬT ĐC | H93: 2
A94: 87 | B94: 14D2010005 | C94: PHAN GIÁP | D94: HẢI | E94: 14CĐ-CK1 | F94: 15CĐ-CK9 | G94: PHÁP LUẬT ĐC | H94: 2
A95: 88 | B95: 14D2010103 | C95: TRẦN VĂN | D95: NHỰT | E95: 14CĐ-CK1 | F95: 15CĐ-CK9 | G95: PHÁP LUẬT ĐC | H95: 2
A96: 89 | B96: 14D2010017 | C96: LÊ VĂN | D96: SANG | E96: 14CĐ-CK1 | F96: 15CĐ-CK9 | G96: PHÁP LUẬT ĐC | H96: 2
... A98: 91 | B98: 11D0060162 | C98: NGUYỄN THANH | D98: TÂN | E98: 11CĐ-ĐT3 | F98: 15CĐ-ĐĐT9 | G98: PHÁP LUẬT ĐC | H98: 2
A99: 92 | B99: 11D0030051 | C99: LÊ ĐỨC | D99: HUY | E99: 13CĐ-Ô3 | F99: 15CĐ-Ô3 | G99: THỰC TẬP KT LÁI XE | I99: 1
A100: 93 | B100: 13D2050171 | C100: NGUYỄN MINH | D100: TÂM | E100: 13CĐ-Ô1 | F100: 15CĐ-Ô8 | G100: THỰC TẬP KT LÁI XE | I100: 1
A101: 94 | B101: 12D2050084 | C101: NGUYỄN MINH | D101: TRÍ | E101: 13CĐ-Ô1 | F101: 15CĐ-Ô8 | G101: THỰC TẬP KT LÁI XE | I101: 1
...

Sheet HP LY THUYET HOC LAI
A1: UBND THÀNH PHỐ HỒ CHÍ MINH | G1: CỘNG HÒA XÃ HỘI CHỦ NGHĨA VIỆT NAM
A2: TRƯỜNG CAO ĐẲNG KỸ THUẬT LÝ TỰ TRỌNG TP. HỒ CHÍ MINH | G2: Độc lập - Tự do - Hạnh phúc
A3: ‾‾‾‾‾‾‾‾‾‾‾‾‾‾‾‾‾‾‾‾‾‾‾‾‾‾‾‾‾‾‾‾‾‾
A4: BẢNG ĐIỂM HỌC PHẦN LÝ THUYẾT (HỌC TRƯỚC- HỌC LẠI)
A5: =IF(OR(I91="",I6="",C6=""),"Điểm tổng kết chỉ hiển thị sau khi nhập tên HỌC PHẦN, Số tính chỉ và Họ tên giảng viên đầy đủ","") -> Điểm tổng kết chỉ hiển thị sau khi nhập tên HỌC PHẦN, Số tính chỉ và Họ tên giảng viên đầy đủ
B6: HỌC PHẦN: | G6: Số Tín chỉ: | J6: LỚP:
C7: HỌC KỲ: | D7: I | F7: NĂM HỌC: | I7: 2015 - 2016
A8: TT | B8: MSSV | C8: Họ tên sinh viên | E8: LBT1 | F8: THL1 | G8: LBT2 | H8: THL2 | I8: LBT3 | J8: THL3 | K8: GHP | L8: THI CHÍNH | M8: Điểm HP Chính | N8: XL lần I | O8: THI PHỤ | P8: Điểm HP Phụ
E10: 0.2 | K10: 0.3 | L10: 0.5 | O10: 0.5
A11: =IF(B11="",1,SUBTOTAL(3,$B$11:B11)) -> 1 | M11: =IF(B11="","",IF(OR($C$6="",$I$6="",$K$6="",$I$91=""),"",IF(COUNT(E11:L11)=0,"",IF(COUNT(E11:J11)=0,ROUND(0.3*K11+0.5*L11,1),ROUND(0.2*(SUM(E11:J11)/COUNT(E11:J11))+0.3*K11+0.5*L11,1))))) | N11: =IF(B11="","",IF(OR($C$6="",$I$6="",$K$6=""),"",IF(M11="","KXL",IF(M11<4,"Kém",IF(M11<5.4,"TBY",IF(M11<7,"TB",IF(M11<8.4,"Khá","Giỏi"))))))) | P11: =IF(B11="","",IF(OR($C$6="",$I$6="",$K$6="",$I$91=""),"",IF(ISNUMBER(G11)=TRUE,"",IF(COUNT(E11:L11)=0,"",IF(O11="","",IF(COUNT(E11:J11)=0,ROUND(0.3*K11+0.5*O11,1),ROUND(0.2*(SUM(E11:J11)/COUNT(E11:J11))+0.3*K11+0.5*O11,1)))))))
A12: =IF(B12="","",SUBTOTAL(3,$B$11:B12)) | M12: =IF(B12="","",IF(OR($C$6="",$I$6="",$K$6="",$I$91=""),"",IF(COUNT(E12:L12)=0,"",IF(COUNT(E12:J12)=0,ROUND(0.3*K12+0.5*L12,1),ROUND(0.2*(SUM(E12:J12)/COUNT(E12:J12))+0.3*K12+0.5*L12,1))))) | N12: =IF(B12="","",IF(OR($C$6="",$I$6="",$K$6=""),"",IF(M12="","KXL",IF(M12<4,"Kém",IF(M12<5.4,"TBY",IF(M12<7,"TB",IF(M12<8.4,"Khá","Giỏi"))))))) | P12: =IF(B12="","",IF(OR($C$6="",$I$6="",$K$6="",$I$91=""),"",IF(ISNUMBER(G12)=TRUE,"",IF(COUNT(E12:L12)=0,"",IF(O12="","",IF(COUNT(E12:J12)=0,ROUND(0.3*K12+0.5*O12,1),ROUND(0.2*(SUM(E12:J12)/COUNT(E12:J12))+0.3*K12+0.5*O12,1)))))))
A13: =IF(B13="","",SUBTOTAL(3,$B$11:B13)) | M13: =IF(B13="","",IF(OR($C$6="",$I$6="",$K$6="",$I$91=""),"",IF(COUNT(E13:L13)=0,"",IF(COUNT(E13:J13)=0,ROUND(0.3*K13+0.5*L13,1),ROUND(0.2*(SUM(E13:J13)/COUNT(E13:J13))+0.3*K13+0.5*L13,1))))) | N13: =IF(B13="","",IF(OR($C$6="",$I$6="",$K$6=""),"",IF(M13="","KXL",IF(M13<4,"Kém",IF(M13<5.4,"TBY",IF(M13<7,"TB",IF(M13<8.4,"Khá","Giỏi"))))))) | P13: =IF(B13="","",IF(OR($C$6="",$I$6="",$K$6="",$I$91=""),"",IF(ISNUMBER(G13)=TRUE,"",IF(COUNT(E13:L13)=0,"",IF(O13="","",IF(COUNT(E13:J13)=0,ROUND(0.3*K13+0.5*O13,1),ROUND(0.2*(SUM(E13:J13)/COUNT(E13:J13))+0.3*K13+0.5*O13,1)))))))
A14: =IF(B14="","",SUBTOTAL(3,$B$11:B14)) | M14: =IF(B14="","",IF(OR($C$6="",$I$6="",$K$6="",$I$91=""),"",IF(COUNT(E14:L14)=0,"",IF(COUNT(E14:J14)=0,ROUND(0.3*K14+0.5*L14,1),ROUND(0.2*(SUM(E14:J14)/COUNT(E14:J14))+0.3*K14+0.5*L14,1))))) | N14: =IF(B14="","",IF(OR($C$6="",$I$6="",$K$6=""),"",IF(M14="","KXL",IF(M14<4,"Kém",IF(M14<5.4,"TBY",IF(M14<7,"TB",IF(M14<8.4,"Khá","Giỏi"))))))) | P14: =IF(B14="","",IF(OR($C$6="",$I$6="",$K$6="",$I$91=""),"",IF(ISNUMBER(G14)=TRUE,"",IF(COUNT(E14:L14)=0,"",IF(O14="","",IF(COUNT(E14:J14)=0,ROUND(0.3*K14+0.5*O14,1),ROUND(0.2*(SUM(E14:J14)/COUNT(E14:J14))+0.3*K14+0.5*O14,1)))))))
A15: =IF(B15="","",SUBTOTAL(3,$B$11:B15)) | M15: =IF(B15="","",IF(OR($C$6="",$I$6="",$K$6="",$I$91=""),"",IF(COUNT(E15:L15)=0,"",IF(COUNT(E15:J15)=0,ROUND(0.3*K15+0.5*L15,1),ROUND(0.2*(SUM(E15:J15)/COUNT(E15:J15))+0.3*K15+0.5*L15,1))))) | N15: =IF(B15="","",IF(OR($C$6="",$I$6="",$K$6=""),"",IF(M15="","KXL",IF(M15<4,"Kém",IF(M15<5.4,"TBY",IF(M15<7,"TB",IF(M15<8.4,"Khá","Giỏi"))))))) | P15: =IF(B15="","",IF(OR($C$6="",$I$6="",$K$6="",$I$91=""),"",IF(ISNUMBER(G15)=TRUE,"",IF(COUNT(E15:L15)=0,"",IF(O15="","",IF(COUNT(E15:J15)=0,ROUND(0.3*K15+0.5*O15,1),ROUND(0.2*(SUM(E15:J15)/COUNT(E15:J15))+0.3*K15+0.5*O15,1)))))))
A16: =IF(B16="","",SUBTOTAL(3,$B$11:B16)) | M16: =IF(B16="","",IF(OR($C$6="",$I$6="",$K$6="",$I$91=""),"",IF(COUNT(E16:L16)=0,"",IF(COUNT(E16:J16)=0,ROUND(0.3*K16+0.5*L16,1),ROUND(0.2*(SUM(E16:J16)/COUNT(E16:J16))+0.3*K16+0.5*L16,1))))) | N16: =IF(B16="","",IF(OR($C$6="",$I$6="",$K$6=""),"",IF(M16="","KXL",IF(M16<4,"Kém",IF(M16<5.4,"TBY",IF(M16<7,"TB",IF(M16<8.4,"Khá","Giỏi"))))))) | P16: =IF(B16="","",IF(OR($C$6="",$I$6="",$K$6="",$I$91=""),"",IF(ISNUMBER(G16)=TRUE,"",IF(COUNT(E16:L16)=0,"",IF(O16="","",IF(COUNT(E16:J16)=0,ROUND(0.3*K16+0.5*O16,1),ROUND(0.2*(SUM(E16:J16)/COUNT(E16:J16))+0.3*K16+0.5*O16,1)))))))
A17: =IF(B17="","",SUBTOTAL(3,$B$11:B17)) | M17: =IF(B17="","",IF(OR($C$6="",$I$6="",$K$6="",$I$91=""),"",IF(COUNT(E17:L17)=0,"",IF(COUNT(E17:J17)=0,ROUND(0.3*K17+0.5*L17,1),ROUND(0.2*(SUM(E17:J17)/COUNT(E17:J17))+0.3*K17+0.5*L17,1))))) | N17: =IF(B17="","",IF(OR($C$6="",$I$6="",$K$6=""),"",IF(M17="","KXL",IF(M17<4,"Kém",IF(M17<5.4,"TBY",IF(M17<7,"TB",IF(M17<8.4,"Khá","Giỏi"))))))) | P17: =IF(B17="","",IF(OR($C$6="",$I$6="",$K$6="",$I$91=""),"",IF(ISNUMBER(G17)=TRUE,"",IF(COUNT(E17:L17)=0,"",IF(O17="","",IF(COUNT(E17:J17)=0,ROUND(0.3*K17+0.5*O17,1),ROUND(0.2*(SUM(E17:J17)/COUNT(E17:J17))+0.3*K17+0.5*O17,1)))))))
A18: =IF(B18="","",SUBTOTAL(3,$B$11:B18)) | M18: =IF(B18="","",IF(OR($C$6="",$I$6="",$K$6="",$I$91=""),"",IF(COUNT(E18:L18)=0,"",IF(COUNT(E18:J18)=0,ROUND(0.3*K18+0.5*L18,1),ROUND(0.2*(SUM(E18:J18)/COUNT(E18:J18))+0.3*K18+0.5*L18,1))))) | N18: =IF(B18="","",IF(OR($C$6="",$I$6="",$K$6=""),"",IF(M18="","KXL",IF(M18<4,"Kém",IF(M18<5.4,"TBY",IF(M18<7,"TB",IF(M18<8.4,"Khá","Giỏi"))))))) | P18: =IF(B18="","",IF(OR($C$6="",$I$6="",$K$6="",$I$91=""),"",IF(ISNUMBER(G18)=TRUE,"",IF(COUNT(E18:L18)=0,"",IF(O18="","",IF(COUNT(E18:J18)=0,ROUND(0.3*K18+0.5*O18,1),ROUND(0.2*(SUM(E18:J18)/COUNT(E18:J18))+0.3*K18+0.5*O18,1)))))))
A19: =IF(B19="","",SUBTOTAL(3,$B$11:B19)) | M19: =IF(B19="","",IF(OR($C$6="",$I$6="",$K$6="",$I$91=""),"",IF(COUNT(E19:L19)=0,"",IF(COUNT(E19:J19)=0,ROUND(0.3*K19+0.5*L19,1),ROUND(0.2*(SUM(E19:J19)/COUNT(E19:J19))+0.3*K19+0.5*L19,1))))) | N19: =IF(B19="","",IF(OR($C$6="",$I$6="",$K$6=""),"",IF(M19="","KXL",IF(M19<4,"Kém",IF(M19<5.4,"TBY",IF(M19<7,"TB",IF(M19<8.4,"Khá","Giỏi"))))))) | P19: =IF(B19="","",IF(OR($C$6="",$I$6="",$K$6="",$I$91=""),"",IF(ISNUMBER(G19)=TRUE,"",IF(COUNT(E19:L19)=0,"",IF(O19="","",IF(COUNT(E19:J19)=0,ROUND(0.3*K19+0.5*O19,1),ROUND(0.2*(SUM(E19:J19)/COUNT(E19:J19))+0.3*K19+0.5*O19,1)))))))
A20: =IF(B20="","",SUBTOTAL(3,$B$11:B20)) | M20: =IF(B20="","",IF(OR($C$6="",$I$6="",$K$6="",$I$91=""),"",IF(COUNT(E20:L20)=0,"",IF(COUNT(E20:J20)=0,ROUND(0.3*K20+0.5*L20,1),ROUND(0.2*(SUM(E20:J20)/COUNT(E20:J20))+0.3*K20+0.5*L20,1))))) | N20: =IF(B20="","",IF(OR($C$6="",$I$6="",$K$6=""),"",IF(M20="","KXL",IF(M20<4,"Kém",IF(M20<5.4,"TBY",IF(M20<7,"TB",IF(M20<8.4,"Khá","Giỏi"))))))) | P20: =IF(B20="","",IF(OR($C$6="",$I$6="",$K$6="",$I$91=""),"",IF(ISNUMBER(G20)=TRUE,"",IF(COUNT(E20:L20)=0,"",IF(O20="","",IF(COUNT(E20:J20)=0,ROUND(0.3*K20+0.5*O20,1),ROUND(0.2*(SUM(E20:J20)/COUNT(E20:J20))+0.3*K20+0.5*O20,1)))))))
A21: =IF(B21="","",SUBTOTAL(3,$B$11:B21)) | M21: =IF(B21="","",IF(OR($C$6="",$I$6="",$K$6="",$I$91=""),"",IF(COUNT(E21:L21)=0,"",IF(COUNT(E21:J21)=0,ROUND(0.3*K21+0.5*L21,1),ROUND(0.2*(SUM(E21:J21)/COUNT(E21:J21))+0.3*K21+0.5*L21,1))))) | N21: =IF(B21="","",IF(OR($C$6="",$I$6="",$K$6=""),"",IF(M21="","KXL",IF(M21<4,"Kém",IF(M21<5.4,"TBY",IF(M21<7,"TB",IF(M21<8.4,"Khá","Giỏi"))))))) | P21: =IF(B21="","",IF(OR($C$6="",$I$6="",$K$6="",$I$91=""),"",IF(ISNUMBER(G21)=TRUE,"",IF(COUNT(E21:L21)=0,"",IF(O21="","",IF(COUNT(E21:J21)=0,ROUND(0.3*K21+0.5*O21,1),ROUND(0.2*(SUM(E21:J21)/COUNT(E21:J21))+0.3*K21+0.5*O21,1)))))))
A22: =IF(B22="","",SUBTOTAL(3,$B$11:B22)) | M22: =IF(B22="","",IF(OR($C$6="",$I$6="",$K$6="",$I$91=""),"",IF(COUNT(E22:L22)=0,"",IF(COUNT(E22:J22)=0,ROUND(0.3*K22+0.5*L22,1),ROUND(0.2*(SUM(E22:J22)/COUNT(E22:J22))+0.3*K22+0.5*L22,1))))) | N22: =IF(B22="","",IF(OR($C$6="",$I$6="",$K$6=""),"",IF(M22="","KXL",IF(M22<4,"Kém",IF(M22<5.4,"TBY",IF(M22<7,"TB",IF(M22<8.4,"Khá","Giỏi"))))))) | P22: =IF(B22="","",IF(OR($C$6="",$I$6="",$K$6="",$I$91=""),"",IF(ISNUMBER(G22)=TRUE,"",IF(COUNT(E22:L22)=0,"",IF(O22="","",IF(COUNT(E22:J22)=0,ROUND(0.3*K22+0.5*O22,1),ROUND(0.2*(SUM(E22:J22)/COUNT(E22:J22))+0.3*K22+0.5*O22,1)))))))
A23: =IF(B23="","",SUBTOTAL(3,$B$11:B23)) | M23: =IF(B23="","",IF(OR($C$6="",$I$6="",$K$6="",$I$91=""),"",IF(COUNT(E23:L23)=0,"",IF(COUNT(E23:J23)=0,ROUND(0.3*K23+0.5*L23,1),ROUND(0.2*(SUM(E23:J23)/COUNT(E23:J23))+0.3*K23+0.5*L23,1))))) | N23: =IF(B23="","",IF(OR($C$6="",$I$6="",$K$6=""),"",IF(M23="","KXL",IF(M23<4,"Kém",IF(M23<5.4,"TBY",IF(M23<7,"TB",IF(M23<8.4,"Khá","Giỏi"))))))) | P23: =IF(B23="","",IF(OR($C$6="",$I$6="",$K$6="",$I$91=""),"",IF(ISNUMBER(G23)=TRUE,"",IF(COUNT(E23:L23)=0,"",IF(O23="","",IF(COUNT(E23:J23)=0,ROUND(0.3*K23+0.5*O23,1),ROUND(0.2*(SUM(E23:J23)/COUNT(E23:J23))+0.3*K23+0.5*O23,1)))))))
... A75: =IF(B75="","",SUBTOTAL(3,$B$11:B75)) | M75: =IF(B75="","",IF(OR($C$6="",$I$6="",$K$6="",$I$91=""),"",IF(COUNT(E75:L75)=0,"",IF(COUNT(E75:J75)=0,ROUND(0.3*K75+0.5*L75,1),ROUND(0.2*(SUM(E75:J75)/COUNT(E75:J75))+0.3*K75+0.5*L75,1))))) | N75: =IF(B75="","",IF(OR($C$6="",$I$6="",$K$6=""),"",IF(M75="","KXL",IF(M75<4,"Kém",IF(M75<5.4,"TBY",IF(M75<7,"TB",IF(M75<8.4,"Khá","Giỏi"))))))) | P75: =IF(B75="","",IF(OR($C$6="",$I$6="",$K$6="",$I$91=""),"",IF(ISNUMBER(G75)=TRUE,"",IF(COUNT(E75:L75)=0,"",IF(O75="","",IF(COUNT(E75:J75)=0,ROUND(0.3*K75+0.5*O75,1),ROUND(0.2*(SUM(E75:J75)/COUNT(E75:J75))+0.3*K75+0.5*O75,1)))))))
A76: Yêu cầu : Khoa niêm yết cho sinh viên, lưu Giáo vụ Khoa và nộp bản chính cho Phòng TS - Đào tạo - GTVL.
B77: ="Tổng danh sách có" -> Tổng danh sách có | E77: =": "&IF(MAX($A$11:$A$75)=1,0,MAX($A$11:$A$75))&" SV" -> : 0 SV
B78: ="Tổng số SV có điểm Giỏi từ 8,5 đ đến 10 đ" -> Tổng số SV có điểm Giỏi từ 8,5 đ đến 10 đ | E78: =": "&COUNTIF($N$11:$N$75,"Giỏi")&" SV" -> : 0 SV | G78: ="("&ROUND(COUNTIF($N$11:$N$75,"Giỏi")*100/MAX($A$11:$A$75),2)&"%" &")" -> (0%) | I78: ="Tổng số SV có điểm >= 4 đ : "&COUNTIF(M11:M75,">=4")&" SV"&" ("&ROUND(COUNTIF(M11:M75,">=4")*100/MAX($A$11:$A$75),2)&"%" &")" -> Tổng số SV có điểm >= 4 đ : 0 SV (0%)
B79: ="Tổng số SV có điểm Khá từ 7 đ đến <8,5 đ" -> Tổng số SV có điểm Khá từ 7 đ đến <8,5 đ | E79: =": "&COUNTIF($N$11:$N$75,"Khá")&" SV" -> : 0 SV | G79: ="("&ROUND(COUNTIF($N$11:$N$75,"Khá")*100/MAX($A$11:$A$75),2)&"%" &")" -> (0%)
B80: ="Tổng số SV có điểm Trung bình từ 5,5 đ đến <7 đ" -> Tổng số SV có điểm Trung bình từ 5,5 đ đến <7 đ | E80: =": "&COUNTIF($N$11:$N$75,"TB")&" SV" -> : 0 SV | G80: ="("&ROUND(COUNTIF($N$11:$N$75,"TB")*100/MAX($A$11:$A$75),2)&"%" &")" -> (0%)
B81: ="Tổng số SV có điểm Trung bình yếu từ 4 đ đến <5,5 đ" -> Tổng số SV có điểm Trung bình yếu từ 4 đ đến <5,5 đ | E81: =": "&COUNTIF($N$11:$N$75,"TBY")&" SV" -> : 0 SV | G81: ="("&ROUND(COUNTIF($N$11:$N$75,"TBY")*100/MAX($A$11:$A$75),2)&"%" &")" -> (0%) | I81: ="Tổng số SV có điểm < 4 đ : "&COUNTIF(M11:M75,"<4")&" SV"&" ("&ROUND(COUNTIF(M11:M75,"<4")*100/MAX($A$11:$A$75),2)&"%" &")" -> Tổng số SV có điểm < 4 đ : 0 SV (0%)
B82: ="Tổng số SV có điểm kém <4 đ" -> Tổng số SV có điểm kém <4 đ | E82: =": "&COUNTIF($N$11:$N$75,"Kém")&" SV" -> : 0 SV | G82: ="("&ROUND(COUNTIF($N$11:$N$75,"Kém")*100/MAX($A$11:$A$75),2)&"%"&")" -> (0%)
B83: ="Tổng số SV không xếp loại vì chưa đủ điều kiện" -> Tổng số SV không xếp loại vì chưa đủ điều kiện | E83: =": "&COUNTIF($N$11:$N$75,"KXL")&" SV" -> : 0 SV | G83: ="("&ROUND(COUNTIF($N$11:$N$75,"KXL")*100/MAX($A$11:$A$75),2)&"%"&")" -> (0%)
G84: Thành phố Hồ Chí Minh, ngày tháng năm
A85: TRƯỞNG KHOA | D85: TRƯỞNG BỘ MÔN | I85: GIẢNG VIÊN GIẢNG DẠY

Sheet HP THUC HANH HOC LAI
A1: UBND THÀNH PHỐ HỒ CHÍ MINH | G1: CỘNG HÒA XÃ HỘI CHỦ NGHĨA VIỆT NAM
A2: TRƯỜNG CAO ĐẲNG KỸ THUẬT LÝ TỰ TRỌNG TP. HỒ CHÍ MINH | G2: Độc lập - Tự do - Hạnh phúc
A3: ‾‾‾‾‾‾‾‾‾‾‾‾‾‾‾‾‾‾‾‾‾‾‾‾‾‾‾‾‾‾‾‾‾‾
A4: BẢNG ĐIỂM HỌC PHẦN THỰC HÀNH (HỌC TRƯỚC- HỌC LẠI)
B6: HỌC PHẦN: | F6: Số Tín chỉ: | J6: LỚP:
C7: HỌC KỲ: | D7: I | F7: NĂM HỌC: | I7: 2015 - 2016
A8: TT | B8: MSSV | C8: Họ tên sinh viên | E8: Điểm các bài thực hành | N8: Điểm HP | O8: XL lần I
E9: BS1 | F9: BS2 | G9: BS3 | H9: BS4 | I9: BS5 | J9: BS6 | K9: BS7 | L9: BS8 | M9: BS9
A11: =IF(B11="","",SUBTOTAL(3,$B$11:B11)) | N11: =IF(B11="","",IF(OR($C$6="",$I$6="",$L$6="",$I$91=""),"",IF(COUNT(E11:M11)=0,"",ROUND(SUM(E11:M11)/COUNT(E11:M11),1)))) | O11: =IF(B11="","",IF(OR($C$6="",$I$6="",$L$6=""),"",IF(N11="","KXL",IF(N11<4,"Kém",IF(N11<5.4,"TBY",IF(N11<7,"TB",IF(N11<8.4,"Khá","Giỏi")))))))
A12: =IF(B12="","",SUBTOTAL(3,$B$11:B12)) | N12: =IF(B12="","",IF(OR($C$6="",$I$6="",$L$6="",$I$91=""),"",IF(COUNT(E12:M12)=0,"",ROUND(SUM(E12:M12)/COUNT(E12:M12),1)))) | O12: =IF(B12="","",IF(OR($C$6="",$I$6="",$L$6=""),"",IF(N12="","KXL",IF(N12<4,"Kém",IF(N12<5.4,"TBY",IF(N12<7,"TB",IF(N12<8.4,"Khá","Giỏi")))))))
A13: =IF(B13="","",SUBTOTAL(3,$B$11:B13)) | N13: =IF(B13="","",IF(OR($C$6="",$I$6="",$L$6="",$I$91=""),"",IF(COUNT(E13:M13)=0,"",ROUND(SUM(E13:M13)/COUNT(E13:M13),1)))) | O13: =IF(B13="","",IF(OR($C$6="",$I$6="",$L$6=""),"",IF(N13="","KXL",IF(N13<4,"Kém",IF(N13<5.4,"TBY",IF(N13<7,"TB",IF(N13<8.4,"Khá","Giỏi")))))))
A14: =IF(B14="","",SUBTOTAL(3,$B$11:B14)) | N14: =IF(B14="","",IF(OR($C$6="",$I$6="",$L$6="",$I$91=""),"",IF(COUNT(E14:M14)=0,"",ROUND(SUM(E14:M14)/COUNT(E14:M14),1)))) | O14: =IF(B14="","",IF(OR($C$6="",$I$6="",$L$6=""),"",IF(N14="","KXL",IF(N14<4,"Kém",IF(N14<5.4,"TBY",IF(N14<7,"TB",IF(N14<8.4,"Khá","Giỏi")))))))
A15: =IF(B15="","",SUBTOTAL(3,$B$11:B15)) | N15: =IF(B15="","",IF(OR($C$6="",$I$6="",$L$6="",$I$91=""),"",IF(COUNT(E15:M15)=0,"",ROUND(SUM(E15:M15)/COUNT(E15:M15),1)))) | O15: =IF(B15="","",IF(OR($C$6="",$I$6="",$L$6=""),"",IF(N15="","KXL",IF(N15<4,"Kém",IF(N15<5.4,"TBY",IF(N15<7,"TB",IF(N15<8.4,"Khá","Giỏi")))))))
A16: =IF(B16="","",SUBTOTAL(3,$B$11:B16)) | N16: =IF(B16="","",IF(OR($C$6="",$I$6="",$L$6="",$I$91=""),"",IF(COUNT(E16:M16)=0,"",ROUND(SUM(E16:M16)/COUNT(E16:M16),1)))) | O16: =IF(B16="","",IF(OR($C$6="",$I$6="",$L$6=""),"",IF(N16="","KXL",IF(N16<4,"Kém",IF(N16<5.4,"TBY",IF(N16<7,"TB",IF(N16<8.4,"Khá","Giỏi")))))))
A17: =IF(B17="","",SUBTOTAL(3,$B$11:B17)) | N17: =IF(B17="","",IF(OR($C$6="",$I$6="",$L$6="",$I$91=""),"",IF(COUNT(E17:M17)=0,"",ROUND(SUM(E17:M17)/COUNT(E17:M17),1)))) | O17: =IF(B17="","",IF(OR($C$6="",$I$6="",$L$6=""),"",IF(N17="","KXL",IF(N17<4,"Kém",IF(N17<5.4,"TBY",IF(N17<7,"TB",IF(N17<8.4,"Khá","Giỏi")))))))
A18: =IF(B18="","",SUBTOTAL(3,$B$11:B18)) | N18: =IF(B18="","",IF(OR($C$6="",$I$6="",$L$6="",$I$91=""),"",IF(COUNT(E18:M18)=0,"",ROUND(SUM(E18:M18)/COUNT(E18:M18),1)))) | O18: =IF(B18="","",IF(OR($C$6="",$I$6="",$L$6=""),"",IF(N18="","KXL",IF(N18<4,"Kém",IF(N18<5.4,"TBY",IF(N18<7,"TB",IF(N18<8.4,"Khá","Giỏi")))))))
A19: =IF(B19="","",SUBTOTAL(3,$B$11:B19)) | N19: =IF(B19="","",IF(OR($C$6="",$I$6="",$L$6="",$I$91=""),"",IF(COUNT(E19:M19)=0,"",ROUND(SUM(E19:M19)/COUNT(E19:M19),1)))) | O19: =IF(B19="","",IF(OR($C$6="",$I$6="",$L$6=""),"",IF(N19="","KXL",IF(N19<4,"Kém",IF(N19<5.4,"TBY",IF(N19<7,"TB",IF(N19<8.4,"Khá","Giỏi")))))))
A20: =IF(B20="","",SUBTOTAL(3,$B$11:B20)) | N20: =IF(B20="","",IF(OR($C$6="",$I$6="",$L$6="",$I$91=""),"",IF(COUNT(E20:M20)=0,"",ROUND(SUM(E20:M20)/COUNT(E20:M20),1)))) | O20: =IF(B20="","",IF(OR($C$6="",$I$6="",$L$6=""),"",IF(N20="","KXL",IF(N20<4,"Kém",IF(N20<5.4,"TBY",IF(N20<7,"TB",IF(N20<8.4,"Khá","Giỏi")))))))
A21: =IF(B21="","",SUBTOTAL(3,$B$11:B21)) | N21: =IF(B21="","",IF(OR($C$6="",$I$6="",$L$6="",$I$91=""),"",IF(COUNT(E21:M21)=0,"",ROUND(SUM(E21:M21)/COUNT(E21:M21),1)))) | O21: =IF(B21="","",IF(OR($C$6="",$I$6="",$L$6=""),"",IF(N21="","KXL",IF(N21<4,"Kém",IF(N21<5.4,"TBY",IF(N21<7,"TB",IF(N21<8.4,"Khá","Giỏi")))))))
A22: =IF(B22="","",SUBTOTAL(3,$B$11:B22)) | N22: =IF(B22="","",IF(OR($C$6="",$I$6="",$L$6="",$I$91=""),"",IF(COUNT(E22:M22)=0,"",ROUND(SUM(E22:M22)/COUNT(E22:M22),1)))) | O22: =IF(B22="","",IF(OR($C$6="",$I$6="",$L$6=""),"",IF(N22="","KXL",IF(N22<4,"Kém",IF(N22<5.4,"TBY",IF(N22<7,"TB",IF(N22<8.4,"Khá","Giỏi")))))))
... A75: =IF(B75="","",SUBTOTAL(3,$B$11:B75)) | N75: =IF(B75="","",IF(OR($C$6="",$I$6="",$L$6="",$I$91=""),"",IF(COUNT(E75:M75)=0,"",ROUND(SUM(E75:M75)/COUNT(E75:M75),1)))) | O75: =IF(B75="","",IF(OR($C$6="",$I$6="",$L$6=""),"",IF(N75="","KXL",IF(N75<4,"Kém",IF(N75<5.4,"TBY",IF(N75<7,"TB",IF(N75<8.4,"Khá","Giỏi")))))))
A76: Yêu cầu : Khoa niêm yết cho sinh viên, lưu Giáo vụ Khoa và nộp bản chính cho Phòng TS - Đào tạo - GTVL.
B77: ="Tổng danh sách có" -> Tổng danh sách có | E77: =": "&IF(MAX($A$11:$A$75)=1,0,MAX($A$11:$A$75))&" SV" -> : 0 SV
B78: ="Tổng số SV có điểm Giỏi từ 8,5 đ đến 10 đ" -> Tổng số SV có điểm Giỏi từ 8,5 đ đến 10 đ | E78: =": "&COUNTIF($O$11:$O$75,"Giỏi")&" SV" -> : 0 SV | G78: =IF(B11="","","("&ROUND(COUNTIF($O$11:$O$75,"Giỏi")*100/MAX($A$11:$A$75),2)&"%" &")") | I78: ="Tổng số SV có điểm >= 4 đ : "&IF(B11="","",COUNTIF(N11:N75,">=4")&" SV"&" ("&ROUND(COUNTIF(N11:N75,">=4")*100/MAX($A$11:$A$75),2)&"%" &")") -> Tổng số SV có điểm >= 4 đ :
B79: ="Tổng số SV có điểm Khá từ 7 đ đến <8,5 đ" -> Tổng số SV có điểm Khá từ 7 đ đến <8,5 đ | E79: =": "&COUNTIF($O$11:$O$75,"Khá")&" SV" -> : 0 SV | G79: =IF(B11="","","("&ROUND(COUNTIF($O$11:$O$75,"Khá")*100/MAX($A$11:$A$75),2)&"%" &")")
B80: ="Tổng số SV có điểm Trung bình từ 5,5 đ đến <7 đ" -> Tổng số SV có điểm Trung bình từ 5,5 đ đến <7 đ | E80: =": "&COUNTIF($O$11:$O$75,"TB")&" SV" -> : 0 SV | G80: =IF(B11="","","("&ROUND(COUNTIF($O$11:$O$75,"TB")*100/MAX($A$11:$A$75),2)&"%" &")")
B81: ="Tổng số SV có điểm Trung bình yếu từ 4 đ đến <5,5 đ" -> Tổng số SV có điểm Trung bình yếu từ 4 đ đến <5,5 đ | E81: =": "&COUNTIF($O$11:$O$75,"TBY")&" SV" -> : 0 SV | G81: =IF(B11="","","("&ROUND(COUNTIF($O$11:$O$75,"TBY")*100/MAX($A$11:$A$75),2)&"%" &")") | I81: ="Tổng số SV có điểm < 4 đ : "&IF(B11="","",COUNTIF(N11:N75,"<4")&" SV"&" ("&ROUND(COUNTIF(N11:N75,"<4")*100/MAX($A$11:$A$75),2)&"%" &")") -> Tổng số SV có điểm < 4 đ :
B82: ="Tổng số SV có điểm kém <4 đ" -> Tổng số SV có điểm kém <4 đ | E82: =": "&COUNTIF($O$11:$O$75,"Kém")&" SV" -> : 0 SV | G82: =IF(B11="","","("&ROUND(COUNTIF($O$11:$O$75,"Kém")*100/MAX($A$11:$A$75),2)&"%"&")")
B83: ="Tổng số SV không xếp loại vì chưa đủ điều kiện" -> Tổng số SV không xếp loại vì chưa đủ điều kiện | E83: =": "&COUNTIF($O$11:$O$75,"KXL")&" SV" -> : 0 SV | G83: =IF(B11="","","("&ROUND(COUNTIF($O$11:$O$75,"KXL")*100/MAX($A$11:$A$75),2)&"%"&")")
E84: Thành phố Hồ Chí Minh, ngày tháng năm
A85: TRƯỞNG KHOA | D85: TRƯỞNG BỘ MÔN | I85: GIÁO VIÊN GIẢNG DẠY
