Workbook

Sheet Hướng dẫn
A1: Quy trình nhập điểm Tổng kết Học phần theo tín chỉ
A2: STT | B2: Bảng tính thao tác | C2: Công việc thực hiện
A3: 1 | B3: Vào bảng tính DS LOP CAO DANG | C3: Sort theo tên lớp, sau đó chọn toàn bộ MSSV (mã số sinh viên) của lớp, nhấn phím Ctrl-C để chép mã số SV
A4: 2 | B4: Vào bảng tính HP LY THUYET cho học phần lý thuyết hay HP THUC HANH cho học phần thực hành | C4: Chép MSSV vào cột B tương ứng của bảng điểm học phần (Họ và tên sinh viên sẽ được truyền vào theo MSSV, cột số thứ tự và tên lớp sẽ được điền tự động).
C5: Lưu ý 1: Quý Thầy Cô cần chú ý danh sách học thực tế có thể khác với danh sách lớp cố định.
C6: Lưu ý 2: Trong bảng tính điểm học phần không nhất thiết sắp theo thứ tự, nhưng phải đảm bảo tính chính xác của MSSV.
C7: Nhập tên học phần; số tín chỉ (các ô có nền tương ứng).
C8: Ghi chú: Nhập đúng tên học phần và số đơn vị tín chỉ theo bảng tính TÊN HỌC PHẦN
C9: Nhập các điểm thành phần theo từng cột điểm tương ứng
C10: Lưu ý 3: Khi muốn in bảng điểm học phần, nên bỏ phần màu nền.
C11: Lưu ý 4: Đối với SV bảo lưu chỉ cần nhập điểm bảo lưu vào ô Điểm bảo lưu của từng bảng điểm học phần. Các cột còn lại để trống.
B12: Để thống nhất trong việc quản lý điểm số của HSSV trong toàn trường, sau khi hoàn thành bảng tính, xin Quý Thầy Cô lưu lại file theo định dạng: tenlop_tenhocphan và gửi cho Phòng TS-ĐT-GTVL qua email kqht.lytutrong@gmail.com
B13: Nếu Quý Thầy Cô có vướng mắc gì, xin liên hệ trực tiếp với Phòng Tuyển sinh-Đào tạo-Giới thiệu việc làm.

Sheet TÊN HỌC PHẦN
A1: UBND THÀNH PHỐ HỒ CHÍ MINH | D1: CỘNG HÒA XÃ HỘI CHỦ NGHĨA VIỆT NAM
A2: TRƯỜNG CAO ĐẲNG KỸ THUẬT LÝ TỰ TRỌNG TP. HỒ CHÍ MINH | D2: Độc lập - Tự do - Hạnh phúc
D3: Thành phố Hồ Chí Minh, ngày tháng 12 năm 2015
A4: QUI ĐỊNH SỐ TÍN CHỈ CỦA CÁC HỌC PHẦN TRONG HỌC KỲ I / 2015 - 2016 Bậc đào tạo : Cao đẳng (Khóa 2015) | H4: STC | I4: TSM | J4: LT | K4: TH
A6: TT | B6: LỚP | C6: STT | D6: TÊN HỌC PHẦN | E6: SỐ TÍN CHỈ | G6: GHI CHÚ | I6: =MAX(I8:I60) -> 9 | J6: =MAX(J8:J60) -> 8 | K6: =MAX(K8:K60) -> 2
E7: LÝ THUYẾT | F7: THỰC HÀNH
A8: 1 | B8: 15 CĐ - ĐĐT 1,2,3,4,5,6,7,8,9 | C8: 1 | D8: TOÁN CAO CẤP 1 | E8: 3 | H8: =SUM(E8:F14) -> 17 | I8: =COUNTA(D8:D14) -> 7 | J8: =COUNTA(E8:E14) -> 6
C9: 2 | D9: VẬT LÝ ĐẠI CƯƠNG 1 | E9: 3
C10: 3 | D10: GIÁO DỤC THỂ CHẤT 1 | F10: 1
C11: 4 | D11: HÓA HỌC ĐẠI CƯƠNG 1 | E11: 2
C12: 5 | D12: PHÁP LUẬT ĐẠI CƯƠNG | E12: 2
C13: 6 | D13: NHẬP MÔN TIN HỌC | E13: 2 | F13: 1
C14: 7 | D14: MẠCH ĐIỆN | E14: 3
C15: 8 | D15: AN TOÀN ĐIỆN | E15: 2
C16: 9 | D16: MẠCH ĐIỆN TỬ | E16: 2 | H16: =SUM(E16:F22) -> 16 | I16: =COUNTA(D16:D22) -> 7 | J16: =COUNTA(E16:E22) -> 6
A17: 2 | B17: 15 CĐ - ĐL 1,2,3 | C17: 1 | D17: TOÁN CAO CẤP 1 | E17: 3
C18: 2 | D18: VẬT LÝ ĐẠI CƯƠNG 1 | E18: 3
C19: 3 | D19: GIÁO DỤC THỂ CHẤT 1 | F19: 1
C20: 4 | D20: HÓA HỌC ĐẠI CƯƠNG 1 | E20: 2
C21: 5 | D21: ANH VĂN 1 | E21: 3
C22: 6 | D22: PHÁP LUẬT ĐẠI CƯƠNG | E22: 2
C23: 7 | D23: NHỮNG NGUYÊN LÝ CB CỦA CNMLN 1 | E23: 2 | H23: =SUM(E23:F31) -> 20 | I23: =COUNTA(D23:D31) -> 9 | J23: =COUNTA(E23:E31) -> 8
C24: 8 | D24: AN TOÀN LAO ĐỘNG | E24: 2
C25: 9 | D25: VẼ KỸ THUẬT | E25: 2
A26: 3 | B26: 15 CĐ-CK 1,2,3,4,5,6,7,8,9 | C26: 1 | D26: TOÁN CAO CẤP 1 | E26: 3
C27: 2 | D27: VẬT LÝ ĐẠI CƯƠNG 1 | E27: 3
C28: 3 | D28: GIÁO DỤC THỂ CHẤT 1 | F28: 1
C29: 4 | D29: HÓA HỌC ĐẠI CƯƠNG 1 | E29: 2
C30: 5 | D30: ANH VĂN 1 | E30: 3
C31: 6 | D31: PHÁP LUẬT ĐẠI CƯƠNG | E31: 2
C32: 7 | D32: NHỮNG NGUYÊN LÝ CB CỦA CNMLN 1 | E32: 2
C33: 8 | D33: NHẬP MÔN TIN HỌC | E33: 2 | F33: 1 | H33: =SUM(E33:F40) -> 19 | I33: =COUNTA(D33:D40) -> 8 | J33: =COUNTA(E33:E40) -> 7 | K33: =COUNTA(F33:F40) -> 2
C34: 9 | D34: AN TOÀN VÀ MÔI TRƯỜNG CÔNG NGHIỆP | E34: 2
A35: 4 | B35: 15 CĐ-Ô 1,2,3,4,5,6,7,8,9 | C35: 1 | D35: TOÁN CAO CẤP 1 | E35: 3
C36: 2 | D36: VẬT LÝ ĐẠI CƯƠNG 1 | E36: 3
C37: 3 | D37: GIÁO DỤC THỂ CHẤT 1 | F37: 1
C38: 4 | D38: HÓA HỌC ĐẠI CƯƠNG 1 | E38: 2
C39: 5 | D39: ANH VĂN 1 | E39: 3
C40: 6 | D40: NHỮNG NGUYÊN LÝ CB CỦA CNMLN 1 | E40: 2
C41: 7 | D41: HÌNH HỌA-VẼ KỸ THUẬT | E41: 3
...

Sheet DS LOP CAO DANG
A1: STT | B1: MSSV | C1: Họ | D1: Tên | E1: Ngày sinh | F1: Lớp | G1: Phái | H1: Hệ | I1: ="Khoá 15CĐCN = "&COUNTIF(J:J,"15") -> Khoá 15CĐCN = 2243 | K1: DS ngày 17/12/2015
A2: 1 | B2: 15000635 | C2: Phan Thanh | D2: An | E2: 01/11/1997 | F2: 15CĐ-ĐĐT1 | H2: B | J2: =LEFT(F2,2) -> 15
A3: 2 | B3: 15000276 | C3: Phạm Đức | D3: Bình | E3: 09/12/1993 | F3: 15CĐ-ĐĐT1 | H3: A | J3: =LEFT(F3,2) -> 15
A4: 3 | B4: 15000618 | C4: Dương Thái | D4: Châu | E4: 26/06/1996 | F4: 15CĐ-ĐĐT1 | H4: B | J4: =LEFT(F4,2) -> 15
A5: 4 | B5: 15000448 | C5: Huỳnh Văn | D5: Đặng | E5: 20/06/1997 | F5: 15CĐ-ĐĐT1 | H5: B | J5: =LEFT(F5,2) -> 15
A6: 5 | B6: 15000579 | C6: Cao Văn | D6: Đạt | E6: 25/03/1997 | F6: 15CĐ-ĐĐT1 | H6: B | J6: =LEFT(F6,2) -> 15
A7: 6 | B7: 15000773 | C7: Trần Tiến | D7: Đạt | E7: 01/05/1997 | F7: 15CĐ-ĐĐT1 | H7: A | J7: =LEFT(F7,2) -> 15
A8: 7 | B8: 15000615 | C8: Trương Gia | D8: Đạt | E8: 06/03/1997 | F8: 15CĐ-ĐĐT1 | H8: B | J8: =LEFT(F8,2) -> 15
A9: 8 | B9: 15003055 | C9: Trần Đức | D9: Diệu | E9: 26/06/1997 | F9: 15CĐ-ĐĐT1 | G9: LPKL | H9: B | J9: =LEFT(F9,2) -> 15
A10: 9 | B10: 15000566 | C10: Nguyễn Tấn | D10: Đức | E10: 29/08/1997 | F10: 15CĐ-ĐĐT1 | H10: B | J10: =LEFT(F10,2) -> 15
A11: 10 | B11: 15000645 | C11: Đỗ Hoàng | D11: Duy | E11: 06/04/1997 | F11: 15CĐ-ĐĐT1 | H11: B | J11: =LEFT(F11,2) -> 15
A12: 11 | B12: 15000650 | C12: Nguyễn Đình | D12: Duy | E12: 07/03/1995 | F12: 15CĐ-ĐĐT1 | H12: B | J12: =LEFT(F12,2) -> 15
A13: 12 | B13: 15000664 | C13: Nguyễn Khương | D13: Duy | E13: 10/03/1996 | F13: 15CĐ-ĐĐT1 | H13: B | J13: =LEFT(F13,2) -> 15
A14: 13 | B14: 15000616 | C14: Phan Vủ Trường | D14: Giang | E14: 03/04/1997 | F14: 15CĐ-ĐĐT1 | H14: B | J14: =LEFT(F14,2) -> 15
A15: 14 | B15: 15000191 | C15: Phạm Văn | D15: Hải | E15: 22/01/1993 | F15: 15CĐ-ĐĐT1 | H15: A | J15: =LEFT(F15,2) -> 15
A16: 15 | B16: 15000785 | C16: Đặng Minh | D16: Hiếu | E16: 30/12/1997 | F16: 15CĐ-ĐĐT1 | H16: B | J16: =LEFT(F16,2) -> 15
A17: 16 | B17: 15000572 | C17: Trương Công | D17: Hiếu | E17: 12/01/1997 | F17: 15CĐ-ĐĐT1 | H17: B | J17: =LEFT(F17,2) -> 15
A18: 17 | B18: 15000607 | C18: Lê Tuấn Anh | D18: Hoàng | E18: 01/08/1996 | F18: 15CĐ-ĐĐT1 | H18: B | J18: =LEFT(F18,2) -> 15
A19: 18 | B19: 15000675 | C19: Phạm Văn | D19: Hồng | E19: 06/09/1997 | F19: 15CĐ-ĐĐT1 | H19: B | J19: =LEFT(F19,2) -> 15
A20: 19 | B20: 15000680 | C20: Trương Quốc | D20: Huấn | E20: 19/02/1997 | F20: 15CĐ-ĐĐT1 | H20: B | J20: =LEFT(F20,2) -> 15
A21: 20 | B21: 15003065 | C21: Lý Hoàng | D21: Huy | E21: 03/12/1997 | F21: 15CĐ-ĐĐT1 | H21: B | J21: =LEFT(F21,2) -> 15
... A33: 32 | B33: 15000677 | C33: Phạm Duy | D33: Nam | E33: 03/07/1997 | F33: 15CĐ-ĐĐT1 | H33: B | J33: =LEFT(F33,2) -> 15
A34: 33 | B34: 15003469 | C34: Phan Thanh | D34: Nhật | E34: 15/02/1997 | F34: 15CĐ-ĐĐT1 | G34: LPHT | H34: B | J34: =LEFT(F34,2) -> 15
A35: 34 | B35: 15000423 | C35: Nguyễn Văn | D35: Nhiều | E35: 11/07/1997 | F35: 15CĐ-ĐĐT1 | H35: B | J35: =LEFT(F35,2) -> 15
A36: 35 | B36: 15000776 | C36: Lục Văn | D36: Nhựt | E36: 21/08/1995 | F36: 15CĐ-ĐĐT1 | H36: B | J36: =LEFT(F36,2) -> 15
A37: 36 | B37: 15000652 | C37: Đồng Văn Hoài | D37: Phong | E37: 12/11/1997 | F37: 15CĐ-ĐĐT1 | H37: B | J37: =LEFT(F37,2) -> 15
A38: 37 | B38: 15000743 | C38: Huỳnh Thanh | D38: Phong | E38: 21/06/1997 | F38: 15CĐ-ĐĐT1 | H38: B | J38: =LEFT(F38,2) -> 15
A39: 38 | B39: 15000541 | C39: Trần Triệu | D39: Phú | E39: 05/09/1997 | F39: 15CĐ-ĐĐT1 | H39: B | J39: =LEFT(F39,2) -> 15
A40: 39 | B40: 15000606 | C40: Nguyễn Hà Hoàng | D40: Phúc | E40: 13/05/1997 | F40: 15CĐ-ĐĐT1 | H40: A | J40: =LEFT(F40,2) -> 15
A41: 40 | B41: 15000622 | C41: Võ Phước | D41: Sang | E41: 03/06/1996 | F41: 15CĐ-ĐĐT1 | H41: A | J41: =LEFT(F41,2) -> 15
A42: 41 | B42: 15000611 | C42: Hà Song | D42: Tài | E42: 12/07/1997 | F42: 15CĐ-ĐĐT1 | H42: A | J42: =LEFT(F42,2) -> 15
A43: 42 | B43: 15000714 | C43: Tô Quốc | D43: Tài | E43: 12/08/1997 | F43: 15CĐ-ĐĐT1 | H43: A | J43: =LEFT(F43,2) -> 15
A44: 43 | B44: 15000352 | C44: Vũ A | D44: Thầm | E44: 30/06/1996 | F44: 15CĐ-ĐĐT1 | H44: B | J44: =LEFT(F44,2) -> 15
A45: 44 | B45: 15000568 | C45: Nguyễn Tuấn | D45: Thành | E45: 29/07/1996 | F45: 15CĐ-ĐĐT1 | H45: A | J45: =LEFT(F45,2) -> 15
A46: 45 | B46: 15000751 | C46: Trần | D46: Thiện | E46: 04/09/1997 | F46: 15CĐ-ĐĐT1 | H46: B | J46: =LEFT(F46,2) -> 15
A47: 46 | B47: 15000784 | C47: Huỳnh Thị Xuân | D47: Thời | E47: 11/05/1997 | F47: 15CĐ-ĐĐT1 | G47: Nữ | H47: B | I47: LT | J47: =LEFT(F47,2) -> 15
A48: 47 | B48: 15000580 | C48: Vương Quốc Bảo | D48: Thông | E48: 22/05/1997 | F48: 15CĐ-ĐĐT1 | H48: B | J48: =LEFT(F48,2) -> 15
A49: 48 | B49: 15003482 | C49: Nguyễn Huy | D49: Thược | E49: 20/02/1997 | F49: 15CĐ-ĐĐT1 | H49: B | J49: =LEFT(F49,2) -> 15
A50: 49 | B50: 15000428 | C50: Nguyễn Minh | D50: Tiến | E50: 13/12/1997 | F50: 15CĐ-ĐĐT1 | H50: B | J50: =LEFT(F50,2) -> 15
A51: 50 | B51: 15000501 | C51: Đặng Phước | D51: Toàn | E51: 13/12/1997 | F51: 15CĐ-ĐĐT1 | H51: B | J51: =LEFT(F51,2) -> 15
...

Sheet HP LY THUYET
A1: UBND THÀNH PHỐ HỒ CHÍ MINH | G1: CỘNG HÒA XÃ HỘI CHỦ NGHĨA VIỆT NAM
A2: TRƯỜNG CAO ĐẲNG KỸ THUẬT LÝ TỰ TRỌNG TP. HỒ CHÍ MINH | G2: Độc lập - Tự do - Hạnh phúc
A3: ‾‾‾‾‾‾‾‾‾‾‾‾‾‾‾‾‾‾‾‾‾‾‾‾‾‾‾‾‾‾‾‾‾‾
A4: BẢNG ĐIỂM HỌC PHẦN LÝ THUYẾT
A5: =IF(OR(J101="",J6="",C6=""),"Điểm tổng kết chỉ hiển thị sau khi nhập tên HỌC PHẦN, Số tính chỉ và Họ tên giảng viên đầy đủ","")
B6: HỌC PHẦN: | C6: Vật lí đại cương 1 | H6: Số Tín chỉ: | J6: 3 | K6: LỚP: | L6: =IF(B11="","",IF(ISNA(VLOOKUP(B11,'DS LOP CAO DANG'!$B$2:$F$2157,5,FALSE))=TRUE,"",VLOOKUP(B11,'DS LOP CAO DANG'!$B$2:$F$2157,5,FALSE))) -> 15CĐ-CK1
C7: HỌC KỲ: | D7: I | G7: NĂM HỌC: | J7: 2015 - 2016
A8: TT | B8: MSSV | C8: Họ tên sinh viên | E8: Điểm bảo lưu | F8: LBT1 | G8: THL1 | H8: LBT2 | I8: THL2 | J8: LBT3 | K8: THL3 | L8: GHP | M8: THI CHÍNH | N8: Điểm HP | O8: XL lần I
F10: 0.2 | L10: 0.3 | M10: 0.5
A11: =IF(B11="","",SUBTOTAL(3,$B$11:B11)) -> 1 | B11: 15000277 | C11: =IF(B11="","",IF(ISNA(VLOOKUP($B11,'DS LOP CAO DANG'!$B$2:$D$2157,2,FALSE))=TRUE,"",VLOOKUP($B11,'DS LOP CAO DANG'!$B$2:$D$2157,2,FALSE))) -> Phạm Đức | D11: =IF(C11="","",IF(ISNA(VLOOKUP($B11,'DS LOP CAO DANG'!$B$2:$D$2157,3,FALSE))=TRUE,"",VLOOKUP($B11,'DS LOP CAO DANG'!$B$2:$D$2157,3,FALSE))) -> An | F11: 0 | G11: 0 | L11: 0 | M11: 0 | N11: =IF(B11="","",IF(OR($C$6="",$J$6="",$L$6="",$J$101=""),"",IF(ISNUMBER(E11)=TRUE,E11,IF(COUNT(F11:M11)=0,"",IF(COUNT(F11:K11)=0,ROUND(0.3*L11+0.5*M11,1),ROUND(0.2*(SUM(F11:K11)/COUNT(F11:K11))+0.3*L11+0.5*M11,1)))))) -> 0 | O11: =IF(B11="","",IF(OR($C$6="",$J$6="",$L$6=""),"",IF(N11="","KXL",IF(N11<4,"Kém",IF(N11<5.4,"TBY",IF(N11<7,"TB",IF(N11<8.4,"Khá","Giỏi"))))))) -> Kém
A12: =IF(B12="","",SUBTOTAL(3,$B$11:B12)) -> 2 | B12: 15000699 | C12: =IF(B12="","",IF(ISNA(VLOOKUP($B12,'DS LOP CAO DANG'!$B$2:$D$2157,2,FALSE))=TRUE,"",VLOOKUP($B12,'DS LOP CAO DANG'!$B$2:$D$2157,2,FALSE))) -> Đinh Hoàng Bảo | D12: =IF(C12="","",IF(ISNA(VLOOKUP($B12,'DS LOP CAO DANG'!$B$2:$D$2157,3,FALSE))=TRUE,"",VLOOKUP($B12,'DS LOP CAO DANG'!$B$2:$D$2157,3,FALSE))) -> Anh | F12: 5.5 | G12: 7 | L12: 4 | M12: 4.3 | N12: =IF(B12="","",IF(OR($C$6="",$J$6="",$L$6="",$J$101=""),"",IF(ISNUMBER(E12)=TRUE,E12,IF(COUNT(F12:M12)=0,"",IF(COUNT(F12:K12)=0,ROUND(0.3*L12+0.5*M12,1),ROUND(0.2*(SUM(F12:K12)/COUNT(F12:K12))+0.3*L12+0.5*M12,1)))))) -> 4.6 | O12: =IF(B12="","",IF(OR($C$6="",$J$6="",$L$6=""),"",IF(N12="","KXL",IF(N12<4,"Kém",IF(N12<5.4,"TBY",IF(N12<7,"TB",IF(N12<8.4,"Khá","Giỏi"))))))) -> TBY
A13: =IF(B13="","",SUBTOTAL(3,$B$11:B13)) -> 3 | B13: 15000793 | C13: =IF(B13="","",IF(ISNA(VLOOKUP($B13,'DS LOP CAO DANG'!$B$2:$D$2157,2,FALSE))=TRUE,"",VLOOKUP($B13,'DS LOP CAO DANG'!$B$2:$D$2157,2,FALSE))) -> Nguyễn Đình | D13: =IF(C13="","",IF(ISNA(VLOOKUP($B13,'DS LOP CAO DANG'!$B$2:$D$2157,3,FALSE))=TRUE,"",VLOOKUP($B13,'DS LOP CAO DANG'!$B$2:$D$2157,3,FALSE))) -> Bảo | F13: 0 | G13: 0 | L13: 0 | M13: 0 | N13: =IF(B13="","",IF(OR($C$6="",$J$6="",$L$6="",$J$101=""),"",IF(ISNUMBER(E13)=TRUE,E13,IF(COUNT(F13:M13)=0,"",IF(COUNT(F13:K13)=0,ROUND(0.3*L13+0.5*M13,1),ROUND(0.2*(SUM(F13:K13)/COUNT(F13:K13))+0.3*L13+0.5*M13,1)))))) -> 0 | O13: =IF(B13="","",IF(OR($C$6="",$J$6="",$L$6=""),"",IF(N13="","KXL",IF(N13<4,"Kém",IF(N13<5.4,"TBY",IF(N13<7,"TB",IF(N13<8.4,"Khá","Giỏi"))))))) -> Kém
A14: =IF(B14="","",SUBTOTAL(3,$B$11:B14)) -> 4 | B14: 15000863 | C14: =IF(B14="","",IF(ISNA(VLOOKUP($B14,'DS LOP CAO DANG'!$B$2:$D$2157,2,FALSE))=TRUE,"",VLOOKUP($B14,'DS LOP CAO DANG'!$B$2:$D$2157,2,FALSE))) -> Nguyễn Quốc | D14: =IF(C14="","",IF(ISNA(VLOOKUP($B14,'DS LOP CAO DANG'!$B$2:$D$2157,3,FALSE))=TRUE,"",VLOOKUP($B14,'DS LOP CAO DANG'!$B$2:$D$2157,3,FALSE))) -> Bảo | F14: 8.5 | G14: 9 | L14: 5 | M14: 5 | N14: =IF(B14="","",IF(OR($C$6="",$J$6="",$L$6="",$J$101=""),"",IF(ISNUMBER(E14)=TRUE,E14,IF(COUNT(F14:M14)=0,"",IF(COUNT(F14:K14)=0,ROUND(0.3*L14+0.5*M14,1),ROUND(0.2*(SUM(F14:K14)/COUNT(F14:K14))+0.3*L14+0.5*M14,1)))))) -> 5.8 | O14: =IF(B14="","",IF(OR($C$6="",$J$6="",$L$6=""),"",IF(N14="","KXL",IF(N14<4,"Kém",IF(N14<5.4,"TBY",IF(N14<7,"TB",IF(N14<8.4,"Khá","Giỏi"))))))) -> TB
A15: =IF(B15="","",SUBTOTAL(3,$B$11:B15)) -> 5 | B15: 15000530 | C15: =IF(B15="","",IF(ISNA(VLOOKUP($B15,'DS LOP CAO DANG'!$B$2:$D$2157,2,FALSE))=TRUE,"",VLOOKUP($B15,'DS LOP CAO DANG'!$B$2:$D$2157,2,FALSE))) -> Phan Chí | D15: =IF(C15="","",IF(ISNA(VLOOKUP($B15,'DS LOP CAO DANG'!$B$2:$D$2157,3,FALSE))=TRUE,"",VLOOKUP($B15,'DS LOP CAO DANG'!$B$2:$D$2157,3,FALSE))) -> Bảo | F15: 0 | G15: 0 | L15: 0 | M15: 0 | N15: =IF(B15="","",IF(OR($C$6="",$J$6="",$L$6="",$J$101=""),"",IF(ISNUMBER(E15)=TRUE,E15,IF(COUNT(F15:M15)=0,"",IF(COUNT(F15:K15)=0,ROUND(0.3*L15+0.5*M15,1),ROUND(0.2*(SUM(F15:K15)/COUNT(F15:K15))+0.3*L15+0.5*M15,1)))))) -> 0 | O15: =IF(B15="","",IF(OR($C$6="",$J$6="",$L$6=""),"",IF(N15="","KXL",IF(N15<4,"Kém",IF(N15<5.4,"TBY",IF(N15<7,"TB",IF(N15<8.4,"Khá","Giỏi"))))))) -> Kém
A16: =IF(B16="","",SUBTOTAL(3,$B$11:B16)) -> 6 | B16: 15000564 | C16: =IF(B16="","",IF(ISNA(VLOOKUP($B16,'DS LOP CAO DANG'!$B$2:$D$2157,2,FALSE))=TRUE,"",VLOOKUP($B16,'DS LOP CAO DANG'!$B$2:$D$2157,2,FALSE))) -> Trịnh Đình | D16: =IF(C16="","",IF(ISNA(VLOOKUP($B16,'DS LOP CAO DANG'!$B$2:$D$2157,3,FALSE))=TRUE,"",VLOOKUP($B16,'DS LOP CAO DANG'!$B$2:$D$2157,3,FALSE))) -> Bảo | F16: 7 | G16: 6 | L16: 6 | M16: 5 | N16: =IF(B16="","",IF(OR($C$6="",$J$6="",$L$6="",$J$101=""),"",IF(ISNUMBER(E16)=TRUE,E16,IF(COUNT(F16:M16)=0,"",IF(COUNT(F16:K16)=0,ROUND(0.3*L16+0.5*M16,1),ROUND(0.2*(SUM(F16:K16)/COUNT(F16:K16))+0.3*L16+0.5*M16,1)))))) -> 5.6 | O16: =IF(B16="","",IF(OR($C$6="",$J$6="",$L$6=""),"",IF(N16="","KXL",IF(N16<4,"Kém",IF(N16<5.4,"TBY",IF(N16<7,"TB",IF(N16<8.4,"Khá","Giỏi"))))))) -> TB
A17: =IF(B17="","",SUBTOTAL(3,$B$11:B17)) -> 7 | B17: 15000542 | C17: =IF(B17="","",IF(ISNA(VLOOKUP($B17,'DS LOP CAO DANG'!$B$2:$D$2157,2,FALSE))=TRUE,"",VLOOKUP($B17,'DS LOP CAO DANG'!$B$2:$D$2157,2,FALSE))) -> Trần Thanh | D17: =IF(C17="","",IF(ISNA(VLOOKUP($B17,'DS LOP CAO DANG'!$B$2:$D$2157,3,FALSE))=TRUE,"",VLOOKUP($B17,'DS LOP CAO DANG'!$B$2:$D$2157,3,FALSE))) -> Bình | F17: 8 | G17: 6 | L17: 3 | M17: 0.3 | N17: =IF(B17="","",IF(OR($C$6="",$J$6="",$L$6="",$J$101=""),"",IF(ISNUMBER(E17)=TRUE,E17,IF(COUNT(F17:M17)=0,"",IF(COUNT(F17:K17)=0,ROUND(0.3*L17+0.5*M17,1),ROUND(0.2*(SUM(F17:K17)/COUNT(F17:K17))+0.3*L17+0.5*M17,1)))))) -> 2.5 | O17: =IF(B17="","",IF(OR($C$6="",$J$6="",$L$6=""),"",IF(N17="","KXL",IF(N17<4,"Kém",IF(N17<5.4,"TBY",IF(N17<7,"TB",IF(N17<8.4,"Khá","Giỏi"))))))) -> Kém
A18: =IF(B18="","",SUBTOTAL(3,$B$11:B18)) -> 8 | B18: 15003079 | C18: =IF(B18="","",IF(ISNA(VLOOKUP($B18,'DS LOP CAO DANG'!$B$2:$D$2157,2,FALSE))=TRUE,"",VLOOKUP($B18,'DS LOP CAO DANG'!$B$2:$D$2157,2,FALSE))) -> Võ Sỹ | D18: =IF(C18="","",IF(ISNA(VLOOKUP($B18,'DS LOP CAO DANG'!$B$2:$D$2157,3,FALSE))=TRUE,"",VLOOKUP($B18,'DS LOP CAO DANG'!$B$2:$D$2157,3,FALSE))) -> Bỗng | F18: 8.5 | G18: 10 | L18: 7 | M18: 9 | N18: =IF(B18="","",IF(OR($C$6="",$J$6="",$L$6="",$J$101=""),"",IF(ISNUMBER(E18)=TRUE,E18,IF(COUNT(F18:M18)=0,"",IF(COUNT(F18:K18)=0,ROUND(0.3*L18+0.5*M18,1),ROUND(0.2*(SUM(F18:K18)/COUNT(F18:K18))+0.3*L18+0.5*M18,1)))))) -> 8.5 | O18: =IF(B18="","",IF(OR($C$6="",$J$6="",$L$6=""),"",IF(N18="","KXL",IF(N18<4,"Kém",IF(N18<5.4,"TBY",IF(N18<7,"TB",IF(N18<8.4,"Khá","Giỏi"))))))) -> Giỏi
A19: =IF(B19="","",SUBTOTAL(3,$B$11:B19)) -> 9 | B19: 15000538 | C19: =IF(B19="","",IF(ISNA(VLOOKUP($B19,'DS LOP CAO DANG'!$B$2:$D$2157,2,FALSE))=TRUE,"",VLOOKUP($B19,'DS LOP CAO DANG'!$B$2:$D$2157,2,FALSE))) -> Phạm Đình | D19: =IF(C19="","",IF(ISNA(VLOOKUP($B19,'DS LOP CAO DANG'!$B$2:$D$2157,3,FALSE))=TRUE,"",VLOOKUP($B19,'DS LOP CAO DANG'!$B$2:$D$2157,3,FALSE))) -> Cường | F19: 8 | G19: 7 | L19: 7 | M19: 3.8 | N19: =IF(B19="","",IF(OR($C$6="",$J$6="",$L$6="",$J$101=""),"",IF(ISNUMBER(E19)=TRUE,E19,IF(COUNT(F19:M19)=0,"",IF(COUNT(F19:K19)=0,ROUND(0.3*L19+0.5*M19,1),ROUND(0.2*(SUM(F19:K19)/COUNT(F19:K19))+0.3*L19+0.5*M19,1)))))) -> 5.5 | O19: =IF(B19="","",IF(OR($C$6="",$J$6="",$L$6=""),"",IF(N19="","KXL",IF(N19<4,"Kém",IF(N19<5.4,"TBY",IF(N19<7,"TB",IF(N19<8.4,"Khá","Giỏi"))))))) -> TB
A20: =IF(B20="","",SUBTOTAL(3,$B$11:B20)) -> 10 | B20: 15000686 | C20: =IF(B20="","",IF(ISNA(VLOOKUP($B20,'DS LOP CAO DANG'!$B$2:$D$2157,2,FALSE))=TRUE,"",VLOOKUP($B20,'DS LOP CAO DANG'!$B$2:$D$2157,2,FALSE))) -> Phạm Công | D20: =IF(C20="","",IF(ISNA(VLOOKUP($B20,'DS LOP CAO DANG'!$B$2:$D$2157,3,FALSE))=TRUE,"",VLOOKUP($B20,'DS LOP CAO DANG'!$B$2:$D$2157,3,FALSE))) -> Danh | F20: 9 | G20: 7 | L20: 6 | M20: 5.5 | N20: =IF(B20="","",IF(OR($C$6="",$J$6="",$L$6="",$J$101=""),"",IF(ISNUMBER(E20)=TRUE,E20,IF(COUNT(F20:M20)=0,"",IF(COUNT(F20:K20)=0,ROUND(0.3*L20+0.5*M20,1),ROUND(0.2*(SUM(F20:K20)/COUNT(F20:K20))+0.3*L20+0.5*M20,1)))))) -> 6.2 | O20: =IF(B20="","",IF(OR($C$6="",$J$6="",$L$6=""),"",IF(N20="","KXL",IF(N20<4,"Kém",IF(N20<5.4,"TBY",IF(N20<7,"TB",IF(N20<8.4,"Khá","Giỏi"))))))) -> TB
A21: =IF(B21="","",SUBTOTAL(3,$B$11:B21)) -> 11 | B21: 15003060 | C21: =IF(B21="","",IF(ISNA(VLOOKUP($B21,'DS LOP CAO DANG'!$B$2:$D$2157,2,FALSE))=TRUE,"",VLOOKUP($B21,'DS LOP CAO DANG'!$B$2:$D$2157,2,FALSE))) -> Huỳnh Quang | D21: =IF(C21="","",IF(ISNA(VLOOKUP($B21,'DS LOP CAO DANG'!$B$2:$D$2157,3,FALSE))=TRUE,"",VLOOKUP($B21,'DS LOP CAO DANG'!$B$2:$D$2157,3,FALSE))) -> Điền | F21: 10 | G21: 10 | L21: 5 | M21: 6.5 | N21: =IF(B21="","",IF(OR($C$6="",$J$6="",$L$6="",$J$101=""),"",IF(ISNUMBER(E21)=TRUE,E21,IF(COUNT(F21:M21)=0,"",IF(COUNT(F21:K21)=0,ROUND(0.3*L21+0.5*M21,1),ROUND(0.2*(SUM(F21:K21)/COUNT(F21:K21))+0.3*L21+0.5*M21,1)))))) -> 6.8 | O21: =IF(B21="","",IF(OR($C$6="",$J$6="",$L$6=""),"",IF(N21="","KXL",IF(N21<4,"Kém",IF(N21<5.4,"TBY",IF(N21<7,"TB",IF(N21<8.4,"Khá","Giỏi"))))))) -> TB
A22: =IF(B22="","",SUBTOTAL(3,$B$11:B22)) -> 12 | B22: 15003427 | C22: =IF(B22="","",IF(ISNA(VLOOKUP($B22,'DS LOP CAO DANG'!$B$2:$D$2157,2,FALSE))=TRUE,"",VLOOKUP($B22,'DS LOP CAO DANG'!$B$2:$D$2157,2,FALSE))) -> Đinh Ngọc | D22: =IF(C22="","",IF(ISNA(VLOOKUP($B22,'DS LOP CAO DANG'!$B$2:$D$2157,3,FALSE))=TRUE,"",VLOOKUP($B22,'DS LOP CAO DANG'!$B$2:$D$2157,3,FALSE))) -> Điệp | F22: 10 | G22: 10 | L22: 6 | M22: 5.3 | N22: =IF(B22="","",IF(OR($C$6="",$J$6="",$L$6="",$J$101=""),"",IF(ISNUMBER(E22)=TRUE,E22,IF(COUNT(F22:M22)=0,"",IF(COUNT(F22:K22)=0,ROUND(0.3*L22+0.5*M22,1),ROUND(0.2*(SUM(F22:K22)/COUNT(F22:K22))+0.3*L22+0.5*M22,1)))))) -> 6.5 | O22: =IF(B22="","",IF(OR($C$6="",$J$6="",$L$6=""),"",IF(N22="","KXL",IF(N22<4,"Kém",IF(N22<5.4,"TBY",IF(N22<7,"TB",IF(N22<8.4,"Khá","Giỏi"))))))) -> TB
... A69: =IF(B69="","",SUBTOTAL(3,$B$11:B69)) -> 59 | B69: 15000567 | C69: =IF(B69="","",IF(ISNA(VLOOKUP($B69,'DS LOP CAO DANG'!$B$2:$D$2157,2,FALSE))=TRUE,"",VLOOKUP($B69,'DS LOP CAO DANG'!$B$2:$D$2157,2,FALSE))) -> Nguyễn Hữu | D69: =IF(C69="","",IF(ISNA(VLOOKUP($B69,'DS LOP CAO DANG'!$B$2:$D$2157,3,FALSE))=TRUE,"",VLOOKUP($B69,'DS LOP CAO DANG'!$B$2:$D$2157,3,FALSE))) -> Tuấn | F69: 0 | G69: 0 | L69: 0 | M69: 0 | N69: =IF(B69="","",IF(OR($C$6="",$J$6="",$L$6="",$J$101=""),"",IF(ISNUMBER(E69)=TRUE,E69,IF(COUNT(F69:M69)=0,"",IF(COUNT(F69:K69)=0,ROUND(0.3*L69+0.5*M69,1),ROUND(0.2*(SUM(F69:K69)/COUNT(F69:K69))+0.3*L69+0.5*M69,1)))))) -> 0 | O69: =IF(B69="","",IF(OR($C$6="",$J$6="",$L$6=""),"",IF(N69="","KXL",IF(N69<4,"Kém",IF(N69<5.4,"TBY",IF(N69<7,"TB",IF(N69<8.4,"Khá","Giỏi"))))))) -> Kém
A70: =IF(B70="","",SUBTOTAL(3,$B$11:B70)) | C70: =IF(B70="","",IF(ISNA(VLOOKUP($B70,'DS LOP CAO DANG'!$B$2:$D$2157,2,FALSE))=TRUE,"",VLOOKUP($B70,'DS LOP CAO DANG'!$B$2:$D$2157,2,FALSE))) | D70: =IF(C70="","",IF(ISNA(VLOOKUP($B70,'DS LOP CAO DANG'!$B$2:$D$2157,3,FALSE))=TRUE,"",VLOOKUP($B70,'DS LOP CAO DANG'!$B$2:$D$2157,3,FALSE))) | N70: =IF(B70="","",IF(OR($C$6="",$J$6="",$L$6="",$J$101=""),"",IF(ISNUMBER(E70)=TRUE,E70,IF(COUNT(F70:M70)=0,"",IF(COUNT(F70:K70)=0,ROUND(0.3*L70+0.5*M70,1),ROUND(0.2*(SUM(F70:K70)/COUNT(F70:K70))+0.3*L70+0.5*M70,1)))))) | O70: =IF(B70="","",IF(OR($C$6="",$J$6="",$L$6=""),"",IF(N70="","KXL",IF(N70<4,"Kém",IF(N70<5.4,"TBY",IF(N70<7,"TB",IF(N70<8.4,"Khá","Giỏi")))))))
A71: =IF(B71="","",SUBTOTAL(3,$B$11:B71)) | C71: =IF(B71="","",IF(ISNA(VLOOKUP($B71,'DS LOP CAO DANG'!$B$2:$D$2157,2,FALSE))=TRUE,"",VLOOKUP($B71,'DS LOP CAO DANG'!$B$2:$D$2157,2,FALSE))) | D71: =IF(C71="","",IF(ISNA(VLOOKUP($B71,'DS LOP CAO DANG'!$B$2:$D$2157,3,FALSE))=TRUE,"",VLOOKUP($B71,'DS LOP CAO DANG'!$B$2:$D$2157,3,FALSE))) | N71: =IF(B71="","",IF(OR($C$6="",$J$6="",$L$6="",$J$101=""),"",IF(ISNUMBER(E71)=TRUE,E71,IF(COUNT(F71:M71)=0,"",IF(COUNT(F71:K71)=0,ROUND(0.3*L71+0.5*M71,1),ROUND(0.2*(SUM(F71:K71)/COUNT(F71:K71))+0.3*L71+0.5*M71,1)))))) | O71: =IF(B71="","",IF(OR($C$6="",$J$6="",$L$6=""),"",IF(N71="","KXL",IF(N71<4,"Kém",IF(N71<5.4,"TBY",IF(N71<7,"TB",IF(N71<8.4,"Khá","Giỏi")))))))
A72: =IF(B72="","",SUBTOTAL(3,$B$11:B72)) | C72: =IF(B72="","",IF(ISNA(VLOOKUP($B72,'DS LOP CAO DANG'!$B$2:$D$2157,2,FALSE))=TRUE,"",VLOOKUP($B72,'DS LOP CAO DANG'!$B$2:$D$2157,2,FALSE))) | D72: =IF(C72="","",IF(ISNA(VLOOKUP($B72,'DS LOP CAO DANG'!$B$2:$D$2157,3,FALSE))=TRUE,"",VLOOKUP($B72,'DS LOP CAO DANG'!$B$2:$D$2157,3,FALSE))) | N72: =IF(B72="","",IF(OR($C$6="",$J$6="",$L$6="",$J$101=""),"",IF(ISNUMBER(E72)=TRUE,E72,IF(COUNT(F72:M72)=0,"",IF(COUNT(F72:K72)=0,ROUND(0.3*L72+0.5*M72,1),ROUND(0.2*(SUM(F72:K72)/COUNT(F72:K72))+0.3*L72+0.5*M72,1)))))) | O72: =IF(B72="","",IF(OR($C$6="",$J$6="",$L$6=""),"",IF(N72="","KXL",IF(N72<4,"Kém",IF(N72<5.4,"TBY",IF(N72<7,"TB",IF(N72<8.4,"Khá","Giỏi")))))))
A73: =IF(B73="","",SUBTOTAL(3,$B$11:B73)) | C73: =IF(B73="","",IF(ISNA(VLOOKUP($B73,'DS LOP CAO DANG'!$B$2:$D$2157,2,FALSE))=TRUE,"",VLOOKUP($B73,'DS LOP CAO DANG'!$B$2:$D$2157,2,FALSE))) | D73: =IF(C73="","",IF(ISNA(VLOOKUP($B73,'DS LOP CAO DANG'!$B$2:$D$2157,3,FALSE))=TRUE,"",VLOOKUP($B73,'DS LOP CAO DANG'!$B$2:$D$2157,3,FALSE))) | N73: =IF(B73="","",IF(OR($C$6="",$J$6="",$L$6="",$J$101=""),"",IF(ISNUMBER(E73)=TRUE,E73,IF(COUNT(F73:M73)=0,"",IF(COUNT(F73:K73)=0,ROUND(0.3*L73+0.5*M73,1),ROUND(0.2*(SUM(F73:K73)/COUNT(F73:K73))+0.3*L73+0.5*M73,1)))))) | O73: =IF(B73="","",IF(OR($C$6="",$J$6="",$L$6=""),"",IF(N73="","KXL",IF(N73<4,"Kém",IF(N73<5.4,"TBY",IF(N73<7,"TB",IF(N73<8.4,"Khá","Giỏi")))))))
A74: =IF(B74="","",SUBTOTAL(3,$B$11:B74)) | C74: =IF(B74="","",IF(ISNA(VLOOKUP($B74,'DS LOP CAO DANG'!$B$2:$D$2157,2,FALSE))=TRUE,"",VLOOKUP($B74,'DS LOP CAO DANG'!$B$2:$D$2157,2,FALSE))) | D74: =IF(C74="","",IF(ISNA(VLOOKUP($B74,'DS LOP CAO DANG'!$B$2:$D$2157,3,FALSE))=TRUE,"",VLOOKUP($B74,'DS LOP CAO DANG'!$B$2:$D$2157,3,FALSE))) | N74: =IF(B74="","",IF(OR($C$6="",$J$6="",$L$6="",$J$101=""),"",IF(ISNUMBER(E74)=TRUE,E74,IF(COUNT(F74:M74)=0,"",IF(COUNT(F74:K74)=0,ROUND(0.3*L74+0.5*M74,1),ROUND(0.2*(SUM(F74:K74)/COUNT(F74:K74))+0.3*L74+0.5*M74,1)))))) | O74: =IF(B74="","",IF(OR($C$6="",$J$6="",$L$6=""),"",IF(N74="","KXL",IF(N74<4,"Kém",IF(N74<5.4,"TBY",IF(N74<7,"TB",IF(N74<8.4,"Khá","Giỏi")))))))
A75: =IF(B75="","",SUBTOTAL(3,$B$11:B75)) | C75: =IF(B75="","",IF(ISNA(VLOOKUP($B75,'DS LOP CAO DANG'!$B$2:$D$2157,2,FALSE))=TRUE,"",VLOOKUP($B75,'DS LOP CAO DANG'!$B$2:$D$2157,2,FALSE))) | D75: =IF(C75="","",IF(ISNA(VLOOKUP($B75,'DS LOP CAO DANG'!$B$2:$D$2157,3,FALSE))=TRUE,"",VLOOKUP($B75,'DS LOP CAO DANG'!$B$2:$D$2157,3,FALSE))) | N75: =IF(B75="","",IF(OR($C$6="",$J$6="",$L$6="",$J$101=""),"",IF(ISNUMBER(E75)=TRUE,E75,IF(COUNT(F75:M75)=0,"",IF(COUNT(F75:K75)=0,ROUND(0.3*L75+0.5*M75,1),ROUND(0.2*(SUM(F75:K75)/COUNT(F75:K75))+0.3*L75+0.5*M75,1)))))) | O75: =IF(B75="","",IF(OR($C$6="",$J$6="",$L$6=""),"",IF(N75="","KXL",IF(N75<4,"Kém",IF(N75<5.4,"TBY",IF(N75<7,"TB",IF(N75<8.4,"Khá","Giỏi")))))))
A76: =IF(B76="","",SUBTOTAL(3,$B$11:B76)) | C76: =IF(B76="","",IF(ISNA(VLOOKUP($B76,'DS LOP CAO DANG'!$B$2:$D$2157,2,FALSE))=TRUE,"",VLOOKUP($B76,'DS LOP CAO DANG'!$B$2:$D$2157,2,FALSE))) | D76: =IF(C76="","",IF(ISNA(VLOOKUP($B76,'DS LOP CAO DANG'!$B$2:$D$2157,3,FALSE))=TRUE,"",VLOOKUP($B76,'DS LOP CAO DANG'!$B$2:$D$2157,3,FALSE))) | N76: =IF(B76="","",IF(OR($C$6="",$J$6="",$L$6="",$J$101=""),"",IF(ISNUMBER(E76)=TRUE,E76,IF(COUNT(F76:M76)=0,"",IF(COUNT(F76:K76)=0,ROUND(0.3*L76+0.5*M76,1),ROUND(0.2*(SUM(F76:K76)/COUNT(F76:K76))+0.3*L76+0.5*M76,1))))))
A77: =IF(B77="","",SUBTOTAL(3,$B$11:B77)) | C77: =IF(B77="","",IF(ISNA(VLOOKUP($B77,'DS LOP CAO DANG'!$B$2:$D$2157,2,FALSE))=TRUE,"",VLOOKUP($B77,'DS LOP CAO DANG'!$B$2:$D$2157,2,FALSE))) | D77: =IF(C77="","",IF(ISNA(VLOOKUP($B77,'DS LOP CAO DANG'!$B$2:$D$2157,3,FALSE))=TRUE,"",VLOOKUP($B77,'DS LOP CAO DANG'!$B$2:$D$2157,3,FALSE))) | N77: =IF(B77="","",IF(OR($C$6="",$J$6="",$L$6="",$J$101=""),"",IF(ISNUMBER(E77)=TRUE,E77,IF(COUNT(F77:M77)=0,"",IF(COUNT(F77:K77)=0,ROUND(0.3*L77+0.5*M77,1),ROUND(0.2*(SUM(F77:K77)/COUNT(F77:K77))+0.3*L77+0.5*M77,1))))))
A78: =IF(B78="","",SUBTOTAL(3,$B$11:B78)) | C78: =IF(B78="","",IF(ISNA(VLOOKUP($B78,'DS LOP CAO DANG'!$B$2:$D$2157,2,FALSE))=TRUE,"",VLOOKUP($B78,'DS LOP CAO DANG'!$B$2:$D$2157,2,FALSE))) | D78: =IF(C78="","",IF(ISNA(VLOOKUP($B78,'DS LOP CAO DANG'!$B$2:$D$2157,3,FALSE))=TRUE,"",VLOOKUP($B78,'DS LOP CAO DANG'!$B$2:$D$2157,3,FALSE))) | N78: =IF(B78="","",IF(OR($C$6="",$J$6="",$L$6="",$J$101=""),"",IF(ISNUMBER(E78)=TRUE,E78,IF(COUNT(F78:M78)=0,"",IF(COUNT(F78:K78)=0,ROUND(0.3*L78+0.5*M78,1),ROUND(0.2*(SUM(F78:K78)/COUNT(F78:K78))+0.3*L78+0.5*M78,1))))))
A79: =IF(B79="","",SUBTOTAL(3,$B$11:B79)) | C79: =IF(B79="","",IF(ISNA(VLOOKUP($B79,'DS LOP CAO DANG'!$B$2:$D$2157,2,FALSE))=TRUE,"",VLOOKUP($B79,'DS LOP CAO DANG'!$B$2:$D$2157,2,FALSE))) | D79: =IF(C79="","",IF(ISNA(VLOOKUP($B79,'DS LOP CAO DANG'!$B$2:$D$2157,3,FALSE))=TRUE,"",VLOOKUP($B79,'DS LOP CAO DANG'!$B$2:$D$2157,3,FALSE))) | N79: =IF(B79="","",IF(OR($C$6="",$J$6="",$L$6="",$J$101=""),"",IF(ISNUMBER(E79)=TRUE,E79,IF(COUNT(F79:M79)=0,"",IF(COUNT(F79:K79)=0,ROUND(0.3*L79+0.5*M79,1),ROUND(0.2*(SUM(F79:K79)/COUNT(F79:K79))+0.3*L79+0.5*M79,1))))))
A80: =IF(B80="","",SUBTOTAL(3,$B$11:B80)) | C80: =IF(B80="","",IF(ISNA(VLOOKUP($B80,'DS LOP CAO DANG'!$B$2:$D$2157,2,FALSE))=TRUE,"",VLOOKUP($B80,'DS LOP CAO DANG'!$B$2:$D$2157,2,FALSE))) | D80: =IF(C80="","",IF(ISNA(VLOOKUP($B80,'DS LOP CAO DANG'!$B$2:$D$2157,3,FALSE))=TRUE,"",VLOOKUP($B80,'DS LOP CAO DANG'!$B$2:$D$2157,3,FALSE))) | N80: =IF(B80="","",IF(OR($C$6="",$J$6="",$L$6="",$J$101=""),"",IF(ISNUMBER(E80)=TRUE,E80,IF(COUNT(F80:M80)=0,"",IF(COUNT(F80:K80)=0,ROUND(0.3*L80+0.5*M80,1),ROUND(0.2*(SUM(F80:K80)/COUNT(F80:K80))+0.3*L80+0.5*M80,1))))))
A81: =IF(B81="","",SUBTOTAL(3,$B$11:B81)) | C81: =IF(B81="","",IF(ISNA(VLOOKUP($B81,'DS LOP CAO DANG'!$B$2:$D$2157,2,FALSE))=TRUE,"",VLOOKUP($B81,'DS LOP CAO DANG'!$B$2:$D$2157,2,FALSE))) | D81: =IF(C81="","",IF(ISNA(VLOOKUP($B81,'DS LOP CAO DANG'!$B$2:$D$2157,3,FALSE))=TRUE,"",VLOOKUP($B81,'DS LOP CAO DANG'!$B$2:$D$2157,3,FALSE))) | N81: =IF(B81="","",IF(OR($C$6="",$J$6="",$L$6="",$J$101=""),"",IF(ISNUMBER(E81)=TRUE,E81,IF(COUNT(F81:M81)=0,"",IF(COUNT(F81:K81)=0,ROUND(0.3*L81+0.5*M81,1),ROUND(0.2*(SUM(F81:K81)/COUNT(F81:K81))+0.3*L81+0.5*M81,1))))))
A82: =IF(B82="","",SUBTOTAL(3,$B$11:B82)) | C82: =IF(B82="","",IF(ISNA(VLOOKUP($B82,'DS LOP CAO DANG'!$B$2:$D$2157,2,FALSE))=TRUE,"",VLOOKUP($B82,'DS LOP CAO DANG'!$B$2:$D$2157,2,FALSE))) | D82: =IF(C82="","",IF(ISNA(VLOOKUP($B82,'DS LOP CAO DANG'!$B$2:$D$2157,3,FALSE))=TRUE,"",VLOOKUP($B82,'DS LOP CAO DANG'!$B$2:$D$2157,3,FALSE))) | N82: =IF(B82="","",IF(OR($C$6="",$J$6="",$L$6="",$J$101=""),"",IF(ISNUMBER(E82)=TRUE,E82,IF(COUNT(F82:M82)=0,"",IF(COUNT(F82:K82)=0,ROUND(0.3*L82+0.5*M82,1),ROUND(0.2*(SUM(F82:K82)/COUNT(F82:K82))+0.3*L82+0.5*M82,1))))))
A83: =IF(B83="","",SUBTOTAL(3,$B$11:B83)) | C83: =IF(B83="","",IF(ISNA(VLOOKUP($B83,'DS LOP CAO DANG'!$B$2:$D$2157,2,FALSE))=TRUE,"",VLOOKUP($B83,'DS LOP CAO DANG'!$B$2:$D$2157,2,FALSE))) | D83: =IF(C83="","",IF(ISNA(VLOOKUP($B83,'DS LOP CAO DANG'!$B$2:$D$2157,3,FALSE))=TRUE,"",VLOOKUP($B83,'DS LOP CAO DANG'!$B$2:$D$2157,3,FALSE))) | N83: =IF(B83="","",IF(OR($C$6="",$J$6="",$L$6="",$J$101=""),"",IF(ISNUMBER(E83)=TRUE,E83,IF(COUNT(F83:M83)=0,"",IF(COUNT(F83:K83)=0,ROUND(0.3*L83+0.5*M83,1),ROUND(0.2*(SUM(F83:K83)/COUNT(F83:K83))+0.3*L83+0.5*M83,1))))))
A84: =IF(B84="","",SUBTOTAL(3,$B$11:B84)) | C84: =IF(B84="","",IF(ISNA(VLOOKUP($B84,'DS LOP CAO DANG'!$B$2:$D$2157,2,FALSE))=TRUE,"",VLOOKUP($B84,'DS LOP CAO DANG'!$B$2:$D$2157,2,FALSE))) | D84: =IF(C84="","",IF(ISNA(VLOOKUP($B84,'DS LOP CAO DANG'!$B$2:$D$2157,3,FALSE))=TRUE,"",VLOOKUP($B84,'DS LOP CAO DANG'!$B$2:$D$2157,3,FALSE))) | N84: =IF(B84="","",IF(OR($C$6="",$J$6="",$L$6="",$J$101=""),"",IF(ISNUMBER(E84)=TRUE,E84,IF(COUNT(F84:M84)=0,"",IF(COUNT(F84:K84)=0,ROUND(0.3*L84+0.5*M84,1),ROUND(0.2*(SUM(F84:K84)/COUNT(F84:K84))+0.3*L84+0.5*M84,1))))))
A85: =IF(B85="","",SUBTOTAL(3,$B$11:B85)) | C85: =IF(B85="","",IF(ISNA(VLOOKUP($B85,'DS LOP CAO DANG'!$B$2:$D$2157,2,FALSE))=TRUE,"",VLOOKUP($B85,'DS LOP CAO DANG'!$B$2:$D$2157,2,FALSE))) | D85: =IF(C85="","",IF(ISNA(VLOOKUP($B85,'DS LOP CAO DANG'!$B$2:$D$2157,3,FALSE))=TRUE,"",VLOOKUP($B85,'DS LOP CAO DANG'!$B$2:$D$2157,3,FALSE))) | N85: =IF(B85="","",IF(OR($C$6="",$J$6="",$L$6="",$J$101=""),"",IF(ISNUMBER(E85)=TRUE,E85,IF(COUNT(F85:M85)=0,"",IF(COUNT(F85:K85)=0,ROUND(0.3*L85+0.5*M85,1),ROUND(0.2*(SUM(F85:K85)/COUNT(F85:K85))+0.3*L85+0.5*M85,1))))))
A86: Yêu cầu : Khoa niêm yết cho sinh viên, lưu Giáo vụ Khoa và nộp bản chính cho Phòng TS - Đào tạo - GTVL.
B87: ="Tổng danh sách có" -> Tổng danh sách có | F87: =": "&IF(MAX($A$11:$A$85)=1,0,MAX($A$11:$A$85))&" SV" -> : 59 SV
...

Sheet HP THUC HANH
A1: UBND THÀNH PHỐ HỒ CHÍ MINH | G1: CỘNG HÒA XÃ HỘI CHỦ NGHĨA VIỆT NAM
A2: TRƯỜNG CAO ĐẲNG KỸ THUẬT LÝ TỰ TRỌNG TP. HỒ CHÍ MINH | G2: Độc lập - Tự do - Hạnh phúc
A3: ‾‾‾‾‾‾‾‾‾‾‾‾‾‾‾‾‾‾‾‾‾‾‾‾‾‾‾‾‾‾‾‾‾‾
A4: BẢNG ĐIỂM HỌC PHẦN THỰC HÀNH
B6: HỌC PHẦN: | G6: Số Tín chỉ: | K6: LỚP: | M6: =IF(B11="","",IF(ISNA(VLOOKUP(B11,'DS LOP CAO DANG'!$B$2:$F$2157,5,FALSE))=TRUE,"",VLOOKUP(B11,'DS LOP CAO DANG'!$B$2:$F$2157,5,FALSE))) -> 15CĐ-ĐL3
C7: HỌC KỲ: | D7: I | G7: NĂM HỌC: | J7: 2015 - 2016
A8: TT | B8: MSSV | C8: Họ tên sinh viên | E8: Điểm bảo lưu | F8: Điểm các bài thực hành | O8: Điểm HP | P8: XL lần I
F9: BS1 | G9: BS2 | H9: BS3 | I9: BS4 | J9: BS5 | K9: BS6 | L9: BS7 | M9: BS8 | N9: BS9
A11: =IF(B11="",1,SUBTOTAL(3,$B$11:B11)) -> 1 | B11: 15002966 | C11: =IF(B11="","",IF(ISNA(VLOOKUP($B11,'DS LOP CAO DANG'!$B$2:$D$2157,2,FALSE))=TRUE,"",VLOOKUP($B11,'DS LOP CAO DANG'!$B$2:$D$2157,2,FALSE))) -> Đỗ Hoàng | D11: =IF(C11="","",IF(ISNA(VLOOKUP($B11,'DS LOP CAO DANG'!$B$2:$D$2157,3,FALSE))=TRUE,"",VLOOKUP($B11,'DS LOP CAO DANG'!$B$2:$D$2157,3,FALSE))) -> Anh | O11: =IF(B11="","",IF(OR($C$6="",$J$6="",$M$6="",$J$101=""),"",IF(ISNUMBER(E11)=TRUE,E11,IF(COUNT(F11:N11)=0,"",ROUND(SUM(F11:N11)/COUNT(F11:N11),1))))) | P11: =IF(B11="","",IF(OR($C$6="",$J$6="",$M$6=""),"",IF(O11="","KXL",IF(O11<4,"Kém",IF(O11<5.4,"TBY",IF(O11<7,"TB",IF(O11<8.4,"Khá","Giỏi")))))))
A12: =IF(B12="","",SUBTOTAL(3,$B$11:B12)) -> 2 | B12: 15003219 | C12: =IF(B12="","",IF(ISNA(VLOOKUP($B12,'DS LOP CAO DANG'!$B$2:$D$2157,2,FALSE))=TRUE,"",VLOOKUP($B12,'DS LOP CAO DANG'!$B$2:$D$2157,2,FALSE))) -> Ngô Hoàng | D12: =IF(C12="","",IF(ISNA(VLOOKUP($B12,'DS LOP CAO DANG'!$B$2:$D$2157,3,FALSE))=TRUE,"",VLOOKUP($B12,'DS LOP CAO DANG'!$B$2:$D$2157,3,FALSE))) -> Anh | O12: =IF(B12="","",IF(OR($C$6="",$J$6="",$M$6="",$J$101=""),"",IF(ISNUMBER(E12)=TRUE,E12,IF(COUNT(F12:N12)=0,"",ROUND(SUM(F12:N12)/COUNT(F12:N12),1))))) | P12: =IF(B12="","",IF(OR($C$6="",$J$6="",$M$6=""),"",IF(O12="","KXL",IF(O12<4,"Kém",IF(O12<5.4,"TBY",IF(O12<7,"TB",IF(O12<8.4,"Khá","Giỏi")))))))
A13: =IF(B13="","",SUBTOTAL(3,$B$11:B13)) -> 3 | B13: 15003305 | C13: =IF(B13="","",IF(ISNA(VLOOKUP($B13,'DS LOP CAO DANG'!$B$2:$D$2157,2,FALSE))=TRUE,"",VLOOKUP($B13,'DS LOP CAO DANG'!$B$2:$D$2157,2,FALSE))) -> Huỳnh Thái | D13: =IF(C13="","",IF(ISNA(VLOOKUP($B13,'DS LOP CAO DANG'!$B$2:$D$2157,3,FALSE))=TRUE,"",VLOOKUP($B13,'DS LOP CAO DANG'!$B$2:$D$2157,3,FALSE))) -> Châu | O13: =IF(B13="","",IF(OR($C$6="",$J$6="",$M$6="",$J$101=""),"",IF(ISNUMBER(E13)=TRUE,E13,IF(COUNT(F13:N13)=0,"",ROUND(SUM(F13:N13)/COUNT(F13:N13),1))))) | P13: =IF(B13="","",IF(OR($C$6="",$J$6="",$M$6=""),"",IF(O13="","KXL",IF(O13<4,"Kém",IF(O13<5.4,"TBY",IF(O13<7,"TB",IF(O13<8.4,"Khá","Giỏi")))))))
A14: =IF(B14="","",SUBTOTAL(3,$B$11:B14)) -> 4 | B14: 15003020 | C14: =IF(B14="","",IF(ISNA(VLOOKUP($B14,'DS LOP CAO DANG'!$B$2:$D$2157,2,FALSE))=TRUE,"",VLOOKUP($B14,'DS LOP CAO DANG'!$B$2:$D$2157,2,FALSE))) -> Mai Thanh | D14: =IF(C14="","",IF(ISNA(VLOOKUP($B14,'DS LOP CAO DANG'!$B$2:$D$2157,3,FALSE))=TRUE,"",VLOOKUP($B14,'DS LOP CAO DANG'!$B$2:$D$2157,3,FALSE))) -> Cường | O14: =IF(B14="","",IF(OR($C$6="",$J$6="",$M$6="",$J$101=""),"",IF(ISNUMBER(E14)=TRUE,E14,IF(COUNT(F14:N14)=0,"",ROUND(SUM(F14:N14)/COUNT(F14:N14),1))))) | P14: =IF(B14="","",IF(OR($C$6="",$J$6="",$M$6=""),"",IF(O14="","KXL",IF(O14<4,"Kém",IF(O14<5.4,"TBY",IF(O14<7,"TB",IF(O14<8.4,"Khá","Giỏi")))))))
A15: =IF(B15="","",SUBTOTAL(3,$B$11:B15)) -> 5 | B15: 15002313 | C15: =IF(B15="","",IF(ISNA(VLOOKUP($B15,'DS LOP CAO DANG'!$B$2:$D$2157,2,FALSE))=TRUE,"",VLOOKUP($B15,'DS LOP CAO DANG'!$B$2:$D$2157,2,FALSE))) -> Tăng Quốc | D15: =IF(C15="","",IF(ISNA(VLOOKUP($B15,'DS LOP CAO DANG'!$B$2:$D$2157,3,FALSE))=TRUE,"",VLOOKUP($B15,'DS LOP CAO DANG'!$B$2:$D$2157,3,FALSE))) -> Cường | O15: =IF(B15="","",IF(OR($C$6="",$J$6="",$M$6="",$J$101=""),"",IF(ISNUMBER(E15)=TRUE,E15,IF(COUNT(F15:N15)=0,"",ROUND(SUM(F15:N15)/COUNT(F15:N15),1))))) | P15: =IF(B15="","",IF(OR($C$6="",$J$6="",$M$6=""),"",IF(O15="","KXL",IF(O15<4,"Kém",IF(O15<5.4,"TBY",IF(O15<7,"TB",IF(O15<8.4,"Khá","Giỏi")))))))
A16: =IF(B16="","",SUBTOTAL(3,$B$11:B16)) -> 6 | B16: 15003391 | C16: =IF(B16="","",IF(ISNA(VLOOKUP($B16,'DS LOP CAO DANG'!$B$2:$D$2157,2,FALSE))=TRUE,"",VLOOKUP($B16,'DS LOP CAO DANG'!$B$2:$D$2157,2,FALSE))) -> Nguyễn Hoàng | D16: =IF(C16="","",IF(ISNA(VLOOKUP($B16,'DS LOP CAO DANG'!$B$2:$D$2157,3,FALSE))=TRUE,"",VLOOKUP($B16,'DS LOP CAO DANG'!$B$2:$D$2157,3,FALSE))) -> Đăng | O16: =IF(B16="","",IF(OR($C$6="",$J$6="",$M$6="",$J$101=""),"",IF(ISNUMBER(E16)=TRUE,E16,IF(COUNT(F16:N16)=0,"",ROUND(SUM(F16:N16)/COUNT(F16:N16),1))))) | P16: =IF(B16="","",IF(OR($C$6="",$J$6="",$M$6=""),"",IF(O16="","KXL",IF(O16<4,"Kém",IF(O16<5.4,"TBY",IF(O16<7,"TB",IF(O16<8.4,"Khá","Giỏi")))))))
A17: =IF(B17="","",SUBTOTAL(3,$B$11:B17)) -> 7 | B17: 15002869 | C17: =IF(B17="","",IF(ISNA(VLOOKUP($B17,'DS LOP CAO DANG'!$B$2:$D$2157,2,FALSE))=TRUE,"",VLOOKUP($B17,'DS LOP CAO DANG'!$B$2:$D$2157,2,FALSE))) -> Nguyễn Hữu Minh | D17: =IF(C17="","",IF(ISNA(VLOOKUP($B17,'DS LOP CAO DANG'!$B$2:$D$2157,3,FALSE))=TRUE,"",VLOOKUP($B17,'DS LOP CAO DANG'!$B$2:$D$2157,3,FALSE))) -> Đăng | O17: =IF(B17="","",IF(OR($C$6="",$J$6="",$M$6="",$J$101=""),"",IF(ISNUMBER(E17)=TRUE,E17,IF(COUNT(F17:N17)=0,"",ROUND(SUM(F17:N17)/COUNT(F17:N17),1))))) | P17: =IF(B17="","",IF(OR($C$6="",$J$6="",$M$6=""),"",IF(O17="","KXL",IF(O17<4,"Kém",IF(O17<5.4,"TBY",IF(O17<7,"TB",IF(O17<8.4,"Khá","Giỏi")))))))
A18: =IF(B18="","",SUBTOTAL(3,$B$11:B18)) -> 8 | B18: 15003023 | C18: =IF(B18="","",IF(ISNA(VLOOKUP($B18,'DS LOP CAO DANG'!$B$2:$D$2157,2,FALSE))=TRUE,"",VLOOKUP($B18,'DS LOP CAO DANG'!$B$2:$D$2157,2,FALSE))) -> Trương Công | D18: =IF(C18="","",IF(ISNA(VLOOKUP($B18,'DS LOP CAO DANG'!$B$2:$D$2157,3,FALSE))=TRUE,"",VLOOKUP($B18,'DS LOP CAO DANG'!$B$2:$D$2157,3,FALSE))) -> Định | O18: =IF(B18="","",IF(OR($C$6="",$J$6="",$M$6="",$J$101=""),"",IF(ISNUMBER(E18)=TRUE,E18,IF(COUNT(F18:N18)=0,"",ROUND(SUM(F18:N18)/COUNT(F18:N18),1))))) | P18: =IF(B18="","",IF(OR($C$6="",$J$6="",$M$6=""),"",IF(O18="","KXL",IF(O18<4,"Kém",IF(O18<5.4,"TBY",IF(O18<7,"TB",IF(O18<8.4,"Khá","Giỏi")))))))
A19: =IF(B19="","",SUBTOTAL(3,$B$11:B19)) -> 9 | B19: 15002284 | C19: =IF(B19="","",IF(ISNA(VLOOKUP($B19,'DS LOP CAO DANG'!$B$2:$D$2157,2,FALSE))=TRUE,"",VLOOKUP($B19,'DS LOP CAO DANG'!$B$2:$D$2157,2,FALSE))) -> Nguyễn Tiến | D19: =IF(C19="","",IF(ISNA(VLOOKUP($B19,'DS LOP CAO DANG'!$B$2:$D$2157,3,FALSE))=TRUE,"",VLOOKUP($B19,'DS LOP CAO DANG'!$B$2:$D$2157,3,FALSE))) -> Dũng | O19: =IF(B19="","",IF(OR($C$6="",$J$6="",$M$6="",$J$101=""),"",IF(ISNUMBER(E19)=TRUE,E19,IF(COUNT(F19:N19)=0,"",ROUND(SUM(F19:N19)/COUNT(F19:N19),1))))) | P19: =IF(B19="","",IF(OR($C$6="",$J$6="",$M$6=""),"",IF(O19="","KXL",IF(O19<4,"Kém",IF(O19<5.4,"TBY",IF(O19<7,"TB",IF(O19<8.4,"Khá","Giỏi")))))))
A20: =IF(B20="","",SUBTOTAL(3,$B$11:B20)) -> 10 | B20: 15003043 | C20: =IF(B20="","",IF(ISNA(VLOOKUP($B20,'DS LOP CAO DANG'!$B$2:$D$2157,2,FALSE))=TRUE,"",VLOOKUP($B20,'DS LOP CAO DANG'!$B$2:$D$2157,2,FALSE))) -> Nguyễn Thanh | D20: =IF(C20="","",IF(ISNA(VLOOKUP($B20,'DS LOP CAO DANG'!$B$2:$D$2157,3,FALSE))=TRUE,"",VLOOKUP($B20,'DS LOP CAO DANG'!$B$2:$D$2157,3,FALSE))) -> Giang | O20: =IF(B20="","",IF(OR($C$6="",$J$6="",$M$6="",$J$101=""),"",IF(ISNUMBER(E20)=TRUE,E20,IF(COUNT(F20:N20)=0,"",ROUND(SUM(F20:N20)/COUNT(F20:N20),1))))) | P20: =IF(B20="","",IF(OR($C$6="",$J$6="",$M$6=""),"",IF(O20="","KXL",IF(O20<4,"Kém",IF(O20<5.4,"TBY",IF(O20<7,"TB",IF(O20<8.4,"Khá","Giỏi")))))))
A21: =IF(B21="","",SUBTOTAL(3,$B$11:B21)) -> 11 | B21: 15002318 | C21: =IF(B21="","",IF(ISNA(VLOOKUP($B21,'DS LOP CAO DANG'!$B$2:$D$2157,2,FALSE))=TRUE,"",VLOOKUP($B21,'DS LOP CAO DANG'!$B$2:$D$2157,2,FALSE))) -> Lê Ngọc | D21: =IF(C21="","",IF(ISNA(VLOOKUP($B21,'DS LOP CAO DANG'!$B$2:$D$2157,3,FALSE))=TRUE,"",VLOOKUP($B21,'DS LOP CAO DANG'!$B$2:$D$2157,3,FALSE))) -> Hải | O21: =IF(B21="","",IF(OR($C$6="",$J$6="",$M$6="",$J$101=""),"",IF(ISNUMBER(E21)=TRUE,E21,IF(COUNT(F21:N21)=0,"",ROUND(SUM(F21:N21)/COUNT(F21:N21),1))))) | P21: =IF(B21="","",IF(OR($C$6="",$J$6="",$M$6=""),"",IF(O21="","KXL",IF(O21<4,"Kém",IF(O21<5.4,"TBY",IF(O21<7,"TB",IF(O21<8.4,"Khá","Giỏi")))))))
A22: =IF(B22="","",SUBTOTAL(3,$B$11:B22)) -> 12 | B22: 15003319 | C22: =IF(B22="","",IF(ISNA(VLOOKUP($B22,'DS LOP CAO DANG'!$B$2:$D$2157,2,FALSE))=TRUE,"",VLOOKUP($B22,'DS LOP CAO DANG'!$B$2:$D$2157,2,FALSE))) -> Nguyễn An | D22: =IF(C22="","",IF(ISNA(VLOOKUP($B22,'DS LOP CAO DANG'!$B$2:$D$2157,3,FALSE))=TRUE,"",VLOOKUP($B22,'DS LOP CAO DANG'!$B$2:$D$2157,3,FALSE))) -> Hiếu | O22: =IF(B22="","",IF(OR($C$6="",$J$6="",$M$6="",$J$101=""),"",IF(ISNUMBER(E22)=TRUE,E22,IF(COUNT(F22:N22)=0,"",ROUND(SUM(F22:N22)/COUNT(F22:N22),1))))) | P22: =IF(B22="","",IF(OR($C$6="",$J$6="",$M$6=""),"",IF(O22="","KXL",IF(O22<4,"Kém",IF(O22<5.4,"TBY",IF(O22<7,"TB",IF(O22<8.4,"Khá","Giỏi")))))))
A23: =IF(B23="","",SUBTOTAL(3,$B$11:B23)) -> 13 | B23: 15002721 | C23: =IF(B23="","",IF(ISNA(VLOOKUP($B23,'DS LOP CAO DANG'!$B$2:$D$2157,2,FALSE))=TRUE,"",VLOOKUP($B23,'DS LOP CAO DANG'!$B$2:$D$2157,2,FALSE))) -> Nguyễn Quang | D23: =IF(C23="","",IF(ISNA(VLOOKUP($B23,'DS LOP CAO DANG'!$B$2:$D$2157,3,FALSE))=TRUE,"",VLOOKUP($B23,'DS LOP CAO DANG'!$B$2:$D$2157,3,FALSE))) -> Hiếu | O23: =IF(B23="","",IF(OR($C$6="",$J$6="",$M$6="",$J$101=""),"",IF(ISNUMBER(E23)=TRUE,E23,IF(COUNT(F23:N23)=0,"",ROUND(SUM(F23:N23)/COUNT(F23:N23),1))))) | P23: =IF(B23="","",IF(OR($C$6="",$J$6="",$M$6=""),"",IF(O23="","KXL",IF(O23<4,"Kém",IF(O23<5.4,"TBY",IF(O23<7,"TB",IF(O23<8.4,"Khá","Giỏi")))))))
... A75: =IF(B75="","",SUBTOTAL(3,$B$11:B75)) -> 65 | B75: 15003338 | C75: =IF(B75="","",IF(ISNA(VLOOKUP($B75,'DS LOP CAO DANG'!$B$2:$D$2157,2,FALSE))=TRUE,"",VLOOKUP($B75,'DS LOP CAO DANG'!$B$2:$D$2157,2,FALSE))) -> Nguyễn Văn | D75: =IF(C75="","",IF(ISNA(VLOOKUP($B75,'DS LOP CAO DANG'!$B$2:$D$2157,3,FALSE))=TRUE,"",VLOOKUP($B75,'DS LOP CAO DANG'!$B$2:$D$2157,3,FALSE))) -> Vương | O75: =IF(B75="","",IF(OR($C$6="",$J$6="",$M$6="",$J$101=""),"",IF(ISNUMBER(E75)=TRUE,E75,IF(COUNT(F75:N75)=0,"",ROUND(SUM(F75:N75)/COUNT(F75:N75),1))))) | P75: =IF(B75="","",IF(OR($C$6="",$J$6="",$M$6=""),"",IF(O75="","KXL",IF(O75<4,"Kém",IF(O75<5.4,"TBY",IF(O75<7,"TB",IF(O75<8.4,"Khá","Giỏi")))))))
A76: =IF(B76="","",SUBTOTAL(3,$B$11:B76)) -> 66 | B76: 15002909 | C76: =IF(B76="","",IF(ISNA(VLOOKUP($B76,'DS LOP CAO DANG'!$B$2:$D$2157,2,FALSE))=TRUE,"",VLOOKUP($B76,'DS LOP CAO DANG'!$B$2:$D$2157,2,FALSE))) -> Dương Triều | D76: =IF(C76="","",IF(ISNA(VLOOKUP($B76,'DS LOP CAO DANG'!$B$2:$D$2157,3,FALSE))=TRUE,"",VLOOKUP($B76,'DS LOP CAO DANG'!$B$2:$D$2157,3,FALSE))) -> Vỹ | O76: =IF(B76="","",IF(OR($C$6="",$J$6="",$M$6="",$J$101=""),"",IF(ISNUMBER(E76)=TRUE,E76,IF(COUNT(F76:N76)=0,"",ROUND(SUM(F76:N76)/COUNT(F76:N76),1)))))
A77: =IF(B77="","",SUBTOTAL(3,$B$11:B77)) | C77: =IF(B77="","",IF(ISNA(VLOOKUP($B77,'DS LOP CAO DANG'!$B$2:$D$2157,2,FALSE))=TRUE,"",VLOOKUP($B77,'DS LOP CAO DANG'!$B$2:$D$2157,2,FALSE))) | D77: =IF(C77="","",IF(ISNA(VLOOKUP($B77,'DS LOP CAO DANG'!$B$2:$D$2157,3,FALSE))=TRUE,"",VLOOKUP($B77,'DS LOP CAO DANG'!$B$2:$D$2157,3,FALSE))) | O77: =IF(B77="","",IF(OR($C$6="",$J$6="",$M$6="",$J$101=""),"",IF(ISNUMBER(E77)=TRUE,E77,IF(COUNT(F77:N77)=0,"",ROUND(SUM(F77:N77)/COUNT(F77:N77),1)))))
A78: =IF(B78="","",SUBTOTAL(3,$B$11:B78)) | C78: =IF(B78="","",IF(ISNA(VLOOKUP($B78,'DS LOP CAO DANG'!$B$2:$D$2157,2,FALSE))=TRUE,"",VLOOKUP($B78,'DS LOP CAO DANG'!$B$2:$D$2157,2,FALSE))) | D78: =IF(C78="","",IF(ISNA(VLOOKUP($B78,'DS LOP CAO DANG'!$B$2:$D$2157,3,FALSE))=TRUE,"",VLOOKUP($B78,'DS LOP CAO DANG'!$B$2:$D$2157,3,FALSE))) | O78: =IF(B78="","",IF(OR($C$6="",$J$6="",$M$6="",$J$101=""),"",IF(ISNUMBER(E78)=TRUE,E78,IF(COUNT(F78:N78)=0,"",ROUND(SUM(F78:N78)/COUNT(F78:N78),1)))))
A79: =IF(B79="","",SUBTOTAL(3,$B$11:B79)) | C79: =IF(B79="","",IF(ISNA(VLOOKUP($B79,'DS LOP CAO DANG'!$B$2:$D$2157,2,FALSE))=TRUE,"",VLOOKUP($B79,'DS LOP CAO DANG'!$B$2:$D$2157,2,FALSE))) | D79: =IF(C79="","",IF(ISNA(VLOOKUP($B79,'DS LOP CAO DANG'!$B$2:$D$2157,3,FALSE))=TRUE,"",VLOOKUP($B79,'DS LOP CAO DANG'!$B$2:$D$2157,3,FALSE))) | O79: =IF(B79="","",IF(OR($C$6="",$J$6="",$M$6="",$J$101=""),"",IF(ISNUMBER(E79)=TRUE,E79,IF(COUNT(F79:N79)=0,"",ROUND(SUM(F79:N79)/COUNT(F79:N79),1)))))
A80: =IF(B80="","",SUBTOTAL(3,$B$11:B80)) | C80: =IF(B80="","",IF(ISNA(VLOOKUP($B80,'DS LOP CAO DANG'!$B$2:$D$2157,2,FALSE))=TRUE,"",VLOOKUP($B80,'DS LOP CAO DANG'!$B$2:$D$2157,2,FALSE))) | D80: =IF(C80="","",IF(ISNA(VLOOKUP($B80,'DS LOP CAO DANG'!$B$2:$D$2157,3,FALSE))=TRUE,"",VLOOKUP($B80,'DS LOP CAO DANG'!$B$2:$D$2157,3,FALSE))) | O80: =IF(B80="","",IF(OR($C$6="",$J$6="",$M$6="",$J$101=""),"",IF(ISNUMBER(E80)=TRUE,E80,IF(COUNT(F80:N80)=0,"",ROUND(SUM(F80:N80)/COUNT(F80:N80),1)))))
A81: =IF(B81="","",SUBTOTAL(3,$B$11:B81)) | C81: =IF(B81="","",IF(ISNA(VLOOKUP($B81,'DS LOP CAO DANG'!$B$2:$D$2157,2,FALSE))=TRUE,"",VLOOKUP($B81,'DS LOP CAO DANG'!$B$2:$D$2157,2,FALSE))) | D81: =IF(C81="","",IF(ISNA(VLOOKUP($B81,'DS LOP CAO DANG'!$B$2:$D$2157,3,FALSE))=TRUE,"",VLOOKUP($B81,'DS LOP CAO DANG'!$B$2:$D$2157,3,FALSE))) | O81: =IF(B81="","",IF(OR($C$6="",$J$6="",$M$6="",$J$101=""),"",IF(ISNUMBER(E81)=TRUE,E81,IF(COUNT(F81:N81)=0,"",ROUND(SUM(F81:N81)/COUNT(F81:N81),1)))))
A82: =IF(B82="","",SUBTOTAL(3,$B$11:B82)) | C82: =IF(B82="","",IF(ISNA(VLOOKUP($B82,'DS LOP CAO DANG'!$B$2:$D$2157,2,FALSE))=TRUE,"",VLOOKUP($B82,'DS LOP CAO DANG'!$B$2:$D$2157,2,FALSE))) | D82: =IF(C82="","",IF(ISNA(VLOOKUP($B82,'DS LOP CAO DANG'!$B$2:$D$2157,3,FALSE))=TRUE,"",VLOOKUP($B82,'DS LOP CAO DANG'!$B$2:$D$2157,3,FALSE))) | O82: =IF(B82="","",IF(OR($C$6="",$J$6="",$M$6="",$J$101=""),"",IF(ISNUMBER(E82)=TRUE,E82,IF(COUNT(F82:N82)=0,"",ROUND(SUM(F82:N82)/COUNT(F82:N82),1)))))
A83: =IF(B83="","",SUBTOTAL(3,$B$11:B83)) | C83: =IF(B83="","",IF(ISNA(VLOOKUP($B83,'DS LOP CAO DANG'!$B$2:$D$2157,2,FALSE))=TRUE,"",VLOOKUP($B83,'DS LOP CAO DANG'!$B$2:$D$2157,2,FALSE))) | D83: =IF(C83="","",IF(ISNA(VLOOKUP($B83,'DS LOP CAO DANG'!$B$2:$D$2157,3,FALSE))=TRUE,"",VLOOKUP($B83,'DS LOP CAO DANG'!$B$2:$D$2157,3,FALSE))) | O83: =IF(B83="","",IF(OR($C$6="",$J$6="",$M$6="",$J$101=""),"",IF(ISNUMBER(E83)=TRUE,E83,IF(COUNT(F83:N83)=0,"",ROUND(SUM(F83:N83)/COUNT(F83:N83),1)))))
A84: =IF(B84="","",SUBTOTAL(3,$B$11:B84)) | C84: =IF(B84="","",IF(ISNA(VLOOKUP($B84,'DS LOP CAO DANG'!$B$2:$D$2157,2,FALSE))=TRUE,"",VLOOKUP($B84,'DS LOP CAO DANG'!$B$2:$D$2157,2,FALSE))) | D84: =IF(C84="","",IF(ISNA(VLOOKUP($B84,'DS LOP CAO DANG'!$B$2:$D$2157,3,FALSE))=TRUE,"",VLOOKUP($B84,'DS LOP CAO DANG'!$B$2:$D$2157,3,FALSE))) | O84: =IF(B84="","",IF(OR($C$6="",$J$6="",$M$6="",$J$101=""),"",IF(ISNUMBER(E84)=TRUE,E84,IF(COUNT(F84:N84)=0,"",ROUND(SUM(F84:N84)/COUNT(F84:N84),1)))))
A85: =IF(B85="","",SUBTOTAL(3,$B$11:B85)) | C85: =IF(B85="","",IF(ISNA(VLOOKUP($B85,'DS LOP CAO DANG'!$B$2:$D$2157,2,FALSE))=TRUE,"",VLOOKUP($B85,'DS LOP CAO DANG'!$B$2:$D$2157,2,FALSE))) | D85: =IF(C85="","",IF(ISNA(VLOOKUP($B85,'DS LOP CAO DANG'!$B$2:$D$2157,3,FALSE))=TRUE,"",VLOOKUP($B85,'DS LOP CAO DANG'!$B$2:$D$2157,3,FALSE))) | O85: =IF(B85="","",IF(OR($C$6="",$J$6="",$M$6="",$J$101=""),"",IF(ISNUMBER(E85)=TRUE,E85,IF(COUNT(F85:N85)=0,"",ROUND(SUM(F85:N85)/COUNT(F85:N85),1)))))
A86: Yêu cầu : Khoa niêm yết cho sinh viên, lưu Giáo vụ Khoa và nộp bản chính cho Phòng TS - Đào tạo - GTVL.
B87: ="Tổng danh sách có" -> Tổng danh sách có | F87: =": "&IF(MAX($A$11:$A$85)=1,0,MAX($A$11:$A$85))&" SV" -> : 66 SV
B88: ="Tổng số SV có điểm Giỏi từ 8,5 đ đến 10 đ" -> Tổng số SV có điểm Giỏi từ 8,5 đ đến 10 đ | F88: =": "&COUNTIF($P$11:$P$85,"Giỏi")&" SV" -> : 0 SV | H88: ="("&ROUND(COUNTIF($P$11:$P$75,"Giỏi")*100/MAX($A$11:$A$75),2)&"%" &")" -> (0%) | J88: ="Tổng số SV có điểm >= 4 đ : "&COUNTIF(O11:O75,">=4")&" SV"&" ("&ROUND(COUNTIF(O11:O75,">=4")*100/MAX($A$11:$A$75),2)&"%" &")" -> Tổng số SV có điểm >= 4 đ : 0 SV (0%)
B89: ="Tổng số SV có điểm Khá từ 7 đ đến <8,5 đ" -> Tổng số SV có điểm Khá từ 7 đ đến <8,5 đ | F89: =": "&COUNTIF($P$11:$P$85,"Khá")&" SV" -> : 0 SV | H89: ="("&ROUND(COUNTIF($P$11:$P$75,"Khá")*100/MAX($A$11:$A$75),2)&"%" &")" -> (0%)
B90: ="Tổng số SV có điểm Trung bình từ 5,5 đ đến <7 đ" -> Tổng số SV có điểm Trung bình từ 5,5 đ đến <7 đ | F90: =": "&COUNTIF($P$11:$P$85,"TB")&" SV" -> : 0 SV | H90: ="("&ROUND(COUNTIF($P$11:$P$75,"TB")*100/MAX($A$11:$A$75),2)&"%" &")" -> (0%)
B91: ="Tổng số SV có điểm Trung bình yếu từ 4 đ đến <5,5 đ" -> Tổng số SV có điểm Trung bình yếu từ 4 đ đến <5,5 đ | F91: =": "&COUNTIF($P$11:$P$85,"TBY")&" SV" -> : 0 SV | H91: ="("&ROUND(COUNTIF($P$11:$P$75,"TBY")*100/MAX($A$11:$A$75),2)&"%" &")" -> (0%) | J91: ="Tổng số SV có điểm < 4 đ : "&COUNTIF(O11:O75,"<4")&" SV"&" ("&ROUND(COUNTIF(O11:O75,"<4")*100/MAX($A$11:$A$75),2)&"%" &")" -> Tổng số SV có điểm < 4 đ : 0 SV (0%)
B92: ="Tổng số SV có điểm kém <4 đ" -> Tổng số SV có điểm kém <4 đ | F92: =": "&COUNTIF($P$11:$P$85,"Kém")&" SV" -> : 0 SV | H92: ="("&ROUND(COUNTIF($P$11:$P$75,"Kém")*100/MAX($A$11:$A$75),2)&"%"&")" -> (0%)
B93: ="Tổng số SV không xếp loại vì chưa đủ điều kiện" -> Tổng số SV không xếp loại vì chưa đủ điều kiện | F93: =": "&COUNTIF($P$11:$P$85,"KXL")&" SV" -> : 0 SV | H93: ="("&ROUND(COUNTIF($P$11:$P$75,"KXL")*100/MAX($A$11:$A$75),2)&"%"&")" -> (0%)
...

Sheet DS LOP HỌC LAI
A1: TRƯỜNG CAO ĐẲNG KỸ THUẬT LÝ TỰ TRỌNG TP. HỒ CHÍ MINH | G1: CỘNG HÒA XÃ HỘI CHỦ NGHĨA VIỆT NAM Độc lập - Tự do - Hạnh phúc
A2: PHÒNG TS-ĐT-GTVL
F3: Thành phố Hồ Chí Minh, ngày 12 tháng 5 năm 2015
A4: DANH SÁCH SINH VIÊN CAO ĐẲNG HỌC LẠI CÁC HỌC PHẦN
A5: Học kỳ I Năm học 2015 - 2016
A6: TT | B6: MSSV | C6: Họ và tên | E6: Lớp | F6: Lớp học lại | G6: Học phần học lại | H6: Số TÍN CHỈ | J6: Điểm học phần
H7: LT | I7: TH | J7: Chính | K7: Phụ
A8: 1 | B8: 12D2010170 | C8: NGUYỄN MINH | D8: TIẾN | E8: 13CĐ-CK3 | F8: 15CĐ-CK8 | G8: AN TOÀN VÀ MTCN | H8: 2
A9: 2 | B9: 12D3010059 | C9: TRƯƠNG QUANG | D9: KHÁNH | E9: 13CĐ-ĐT2 | F9: 15CĐ-CK3 | G9: ANH VĂN 1 | H9: 3
A10: 3 | B10: 14D201P079 | C10: NGUYỄN VŨ ĐÔNG | D10: ĐỨC | E10: 14CĐ-TP1 | F10: 15CĐ-CK3 | G10: ANH VĂN 1 | H10: 3
A11: 4 | B11: 14000727 | C11: TRƯƠNG CÔNG | D11: ĐẠT | E11: 14CĐ-CK3 | F11: 15CĐ-CK4 | G11: ANH VĂN 1 | H11: 3
A12: 5 | B12: 13D2050077 | C12: LÊ VĂN | D12: HƯNG | E12: 13CĐ-Ô1 | F12: 15CĐ-CK9 | G12: ANH VĂN 1 | H12: 3
A13: 6 | B13: 13D201P059 | C13: NGUYỄN DUY | D13: PHƯƠNG | E13: 13CĐ-TP1 | F13: 15CĐ-CNTT6 | G13: ANH VĂN 1 | H13: 3
A14: 7 | B14: 14D2010010 | C14: TẠ THANH | D14: LONG | E14: 14CĐ-CK1 | F14: 15CĐ-Ô2 | G14: ANH VĂN 1 | H14: 3
A15: 8 | B15: 14D2010115 | C15: TRƯƠNG VĂN | D15: QUANG | E15: 14CĐ-CK1 | F15: 15CĐ-Ô2 | G15: ANH VĂN 1 | H15: 3
A16: 9 | B16: 12D201P071 | C16: HUỲNH MINH | D16: TRUNG | E16: 12CĐ-TP1 | F16: 15CĐ-CNTT2 | G16: CƠ SỞ DỮ LIỆU | H16: 2
A17: 10 | B17: 13D201P020 | C17: TĂNG LẬP | D17: ĐỨC | E17: 13CĐ-TP2 | F17: 15CĐ-CNTT2 | G17: CƠ SỞ DỮ LIỆU | H17: 2
A18: 11 | B18: 11D0040009 | C18: NGUYỄN CHÍ | D18: CƯỜNG | E18: 12CĐ-TP1 | F18: 15CĐ-CNTT3 | G18: CƠ SỞ DỮ LIỆU | H18: 2
A19: 12 | B19: 13D2050083 | C19: LÊ NGỌC | D19: HUY | E19: 13CĐ-Ô2 | F19: 15CĐ-MTT1 | G19: GD THỂ CHẤT 1 | I19: 1
A20: 13 | B20: 13D2010001 | C20: HUỲNH TRẦN CÔNG | D20: AN | E20: 13CĐ-CK2 | F20: 15CĐ-Ô1 | G20: HH-VẼ KỸ THUẬT | H20: 3
A21: 14 | B21: 13D2010047 | C21: NGUYỄN CÔNG | D21: HẢI | E21: 13CĐ-CK2 | F21: 15CĐ-Ô1 | G21: HH-VẼ KỸ THUẬT | H21: 3
A22: 15 | B22: 13D2010204 | C22: PHẠM CÔNG | D22: THỊNH | E22: 13CĐ-CK2 | F22: 15CĐ-Ô1 | G22: HH-VẼ KỸ THUẬT | H22: 3
A23: 16 | B23: 11D0030022 | C23: TRẦN BẢO | D23: DUY | E23: 12CĐ-Ô1 | F23: 15CĐ-Ô2 | G23: HH-VẼ KỸ THUẬT | H23: 3
A24: 17 | B24: 11D0030087 | C24: NGUYỄN HOÀNG | D24: PHONG | E24: 12CĐ-Ô1 | F24: 15CĐ-Ô2 | G24: HH-VẼ KỸ THUẬT | H24: 3
A25: 18 | B25: 13D2050027 | C25: TẠ QUỐC | D25: DUY | E25: 13CĐ-Ô1 | F25: 15CĐ-Ô2 | G25: HH-VẼ KỸ THUẬT | H25: 3
A26: 19 | B26: 12D2050086 | C26: TRẦN MINH | D26: TRUNG | E26: 12CĐ-Ô1 | F26: 15CĐ-Ô3 | G26: HH-VẼ KỸ THUẬT | H26: 3
A27: 20 | B27: 13D2010031 | C27: CAO NGUYỄN MẪN | D27: ĐẠT | E27: 14CĐ-CK3 | F27: 15CĐ-Ô6 | G27: HH-VẼ KỸ THUẬT | H27: 3
A28: 21 | B28: 14000872 | C28: HỒ QUỐC | D28: DINH | E28: 14CĐ-Ô2 | F28: 15CĐ-Ô6 | G28: HH-VẼ KỸ THUẬT | H28: 3
A29: 22 | B29: 14D2050112 | C29: NGUYỄN VĂN ANH | D29: KHOA | E29: 14CĐ-Ô2 | F29: 15CĐ-Ô6 | G29: HH-VẼ KỸ THUẬT | H29: 3
A30: 23 | B30: 14000914 | C30: NGUYỄN NGỌC | D30: TRIẾT | E30: 14CĐ-Ô2 | F30: 15CĐ-Ô6 | G30: HH-VẼ KỸ THUẬT | H30: 3
A31: 24 | B31: 14D2090173 | C31: LÊ THÀNH | D31: QUYÊN | E31: 14CĐ-Ô3 | F31: 15CĐ-Ô6 | G31: HH-VẼ KỸ THUẬT | H31: 3
A32: 25 | B32: 14CĐ-Ô3 | C32: MAI DUY | D32: TRUNG | E32: 14CĐ-Ô3 | F32: 15CĐ-Ô6 | G32: HH-VẼ KỸ THUẬT | H32: 3
A33: 26 | B33: 14CĐ-Ô4 | C33: NGUYỄN HỮU | D33: THÀNH | E33: 14CĐ-Ô4 | F33: 15CĐ-Ô9 | G33: HH-VẼ KỸ THUẬT | H33: 3
A34: 27 | B34: 14CĐ-Ô4 | C34: TRẦN NGỌC | D34: THẠCH | E34: 14CĐ-Ô4 | F34: 15CĐ-CK2 | G34: HÓA HỌC ĐC 1 | H34: 2
A35: 28 | B35: 14CĐ-Ô4 | C35: NGUYỄN HỮU | D35: THÀNH | E35: 14CĐ-Ô4 | F35: 15CĐ-CK2 | G35: HÓA HỌC ĐC 1 | H35: 2
A36: 29 | B36: 13D2010159 | C36: PHAN NGỌC | D36: PHƯỚC | E36: 13CĐ-CK2 | F36: 15CĐ-CK3 | G36: HÓA HỌC ĐC 1 | H36: 2
A37: 30 | B37: 14000736 | C37: THÀNH PHÚ DUY | D37: KHANG | E37: 14CĐ-CK3 | F37: 15CĐ-CK3 | G37: HÓA HỌC ĐC 1 | H37: 2
A38: 31 | B38: 14D2010081 | C38: NGUYỄN TÙNG | D38: LÂM | E38: 14CĐ-CK3 | F38: 15CĐ-CK3 | G38: HÓA HỌC ĐC 1 | H38: 2
A39: 32 | B39: 14000904 | C39: NGUYỄN TẤN | D39: TÀI | E39: 14CĐ-Ô2 | F39: 15CĐ-CK5 | G39: HÓA HỌC ĐC 1 | H39: 2
A40: 33 | B40: 14D2010144 | C40: LÊ TRUNG | D40: TÍN | E40: 14CĐ-CK3 | F40: 15CĐ-CK6 | G40: HÓA HỌC ĐC 1 | H40: 2
...

Sheet HP LY THUYET HOC LAI
A1: UBND THÀNH PHỐ HỒ CHÍ MINH | G1: CỘNG HÒA XÃ HỘI CHỦ NGHĨA VIỆT NAM
A2: TRƯỜNG CAO ĐẲNG KỸ THUẬT LÝ TỰ TRỌNG TP. HỒ CHÍ MINH | G2: Độc lập - Tự do - Hạnh phúc
A3: ‾‾‾‾‾‾‾‾‾‾‾‾‾‾‾‾‾‾‾‾‾‾‾‾‾‾‾‾‾‾‾‾‾‾
A4: BẢNG ĐIỂM HỌC PHẦN LÝ THUYẾT (HỌC TRƯỚC- HỌC LẠI)
A5: =IF(OR(I91="",I6="",C6=""),"Điểm tổng kết chỉ hiển thị sau khi nhập tên HỌC PHẦN, Số tính chỉ và Họ tên giảng viên đầy đủ","") -> Điểm tổng kết chỉ hiển thị sau khi nhập tên HỌC PHẦN, Số tính chỉ và Họ tên giảng viên đầy đủ
B6: HỌC PHẦN: | G6: Số Tín chỉ: | J6: LỚP:
C7: HỌC KỲ: | D7: I | F7: NĂM HỌC: | I7: 2015 - 2016
A8: TT | B8: MSSV | C8: Họ tên sinh viên | E8: LBT1 | F8: THL1 | G8: LBT2 | H8: THL2 | I8: LBT3 | J8: THL3 | K8: GHP | L8: THI CHÍNH | M8: Điểm HP Chính | N8: XL lần I | O8: THI PHỤ | P8: Điểm HP Phụ
E10: 0.2 | K10: 0.3 | L10: 0.5 | O10: 0.5
A11: =IF(B11="",1,SUBTOTAL(3,$B$11:B11)) -> 1 | M11: =IF(B11="","",IF(OR($C$6="",$I$6="",$K$6="",$I$91=""),"",IF(COUNT(E11:L11)=0,"",IF(COUNT(E11:J11)=0,ROUND(0.3*K11+0.5*L11,1),ROUND(0.2*(SUM(E11:J11)/COUNT(E11:J11))+0.3*K11+0.5*L11,1))))) | N11: =IF(B11="","",IF(OR($C$6="",$I$6="",$K$6=""),"",IF(M11="","KXL",IF(M11<4,"Kém",IF(M11<5.4,"TBY",IF(M11<7,"TB",IF(M11<8.4,"Khá","Giỏi"))))))) | P11: =IF(B11="","",IF(OR($C$6="",$I$6="",$K$6="",$I$91=""),"",IF(ISNUMBER(G11)=TRUE,"",IF(COUNT(E11:L11)=0,"",IF(O11="","",IF(COUNT(E11:J11)=0,ROUND(0.3*K11+0.5*O11,1),ROUND(0.2*(SUM(E11:J11)/COUNT(E11:J11))+0.3*K11+0.5*O11,1)))))))
A12: =IF(B12="","",SUBTOTAL(3,$B$11:B12)) | M12: =IF(B12="","",IF(OR($C$6="",$I$6="",$K$6="",$I$91=""),"",IF(COUNT(E12:L12)=0,"",IF(COUNT(E12:J12)=0,ROUND(0.3*K12+0.5*L12,1),ROUND(0.2*(SUM(E12:J12)/COUNT(E12:J12))+0.3*K12+0.5*L12,1))))) | N12: =IF(B12="","",IF(OR($C$6="",$I$6="",$K$6=""),"",IF(M12="","KXL",IF(M12<4,"Kém",IF(M12<5.4,"TBY",IF(M12<7,"TB",IF(M12<8.4,"Khá","Giỏi"))))))) | P12: =IF(B12="","",IF(OR($C$6="",$I$6="",$K$6="",$I$91=""),"",IF(ISNUMBER(G12)=TRUE,"",IF(COUNT(E12:L12)=0,"",IF(O12="","",IF(COUNT(E12:J12)=0,ROUND(0.3*K12+0.5*O12,1),ROUND(0.2*(SUM(E12:J12)/COUNT(E12:J12))+0.3*K12+0.5*O12,1)))))))
A13: =IF(B13="","",SUBTOTAL(3,$B$11:B13)) | M13: =IF(B13="","",IF(OR($C$6="",$I$6="",$K$6="",$I$91=""),"",IF(COUNT(E13:L13)=0,"",IF(COUNT(E13:J13)=0,ROUND(0.3*K13+0.5*L13,1),ROUND(0.2*(SUM(E13:J13)/COUNT(E13:J13))+0.3*K13+0.5*L13,1))))) | N13: =IF(B13="","",IF(OR($C$6="",$I$6="",$K$6=""),"",IF(M13="","KXL",IF(M13<4,"Kém",IF(M13<5.4,"TBY",IF(M13<7,"TB",IF(M13<8.4,"Khá","Giỏi"))))))) | P13: =IF(B13="","",IF(OR($C$6="",$I$6="",$K$6="",$I$91=""),"",IF(ISNUMBER(G13)=TRUE,"",IF(COUNT(E13:L13)=0,"",IF(O13="","",IF(COUNT(E13:J13)=0,ROUND(0.3*K13+0.5*O13,1),ROUND(0.2*(SUM(E13:J13)/COUNT(E13:J13))+0.3*K13+0.5*O13,1)))))))
A14: =IF(B14="","",SUBTOTAL(3,$B$11:B14)) | M14: =IF(B14="","",IF(OR($C$6="",$I$6="",$K$6="",$I$91=""),"",IF(COUNT(E14:L14)=0,"",IF(COUNT(E14:J14)=0,ROUND(0.3*K14+0.5*L14,1),ROUND(0.2*(SUM(E14:J14)/COUNT(E14:J14))+0.3*K14+0.5*L14,1))))) | N14: =IF(B14="","",IF(OR($C$6="",$I$6="",$K$6=""),"",IF(M14="","KXL",IF(M14<4,"Kém",IF(M14<5.4,"TBY",IF(M14<7,"TB",IF(M14<8.4,"Khá","Giỏi"))))))) | P14: =IF(B14="","",IF(OR($C$6="",$I$6="",$K$6="",$I$91=""),"",IF(ISNUMBER(G14)=TRUE,"",IF(COUNT(E14:L14)=0,"",IF(O14="","",IF(COUNT(E14:J14)=0,ROUND(0.3*K14+0.5*O14,1),ROUND(0.2*(SUM(E14:J14)/COUNT(E14:J14))+0.3*K14+0.5*O14,1)))))))
A15: =IF(B15="","",SUBTOTAL(3,$B$11:B15)) | M15: =IF(B15="","",IF(OR($C$6="",$I$6="",$K$6="",$I$91=""),"",IF(COUNT(E15:L15)=0,"",IF(COUNT(E15:J15)=0,ROUND(0.3*K15+0.5*L15,1),ROUND(0.2*(SUM(E15:J15)/COUNT(E15:J15))+0.3*K15+0.5*L15,1))))) | N15: =IF(B15="","",IF(OR($C$6="",$I$6="",$K$6=""),"",IF(M15="","KXL",IF(M15<4,"Kém",IF(M15<5.4,"TBY",IF(M15<7,"TB",IF(M15<8.4,"Khá","Giỏi"))))))) | P15: =IF(B15="","",IF(OR($C$6="",$I$6="",$K$6="",$I$91=""),"",IF(ISNUMBER(G15)=TRUE,"",IF(COUNT(E15:L15)=0,"",IF(O15="","",IF(COUNT(E15:J15)=0,ROUND(0.3*K15+0.5*O15,1),ROUND(0.2*(SUM(E15:J15)/COUNT(E15:J15))+0.3*K15+0.5*O15,1)))))))
A16: =IF(B16="","",SUBTOTAL(3,$B$11:B16)) | M16: =IF(B16="","",IF(OR($C$6="",$I$6="",$K$6="",$I$91=""),"",IF(COUNT(E16:L16)=0,"",IF(COUNT(E16:J16)=0,ROUND(0.3*K16+0.5*L16,1),ROUND(0.2*(SUM(E16:J16)/COUNT(E16:J16))+0.3*K16+0.5*L16,1))))) | N16: =IF(B16="","",IF(OR($C$6="",$I$6="",$K$6=""),"",IF(M16="","KXL",IF(M16<4,"Kém",IF(M16<5.4,"TBY",IF(M16<7,"TB",IF(M16<8.4,"Khá","Giỏi"))))))) | P16: =IF(B16="","",IF(OR($C$6="",$I$6="",$K$6="",$I$91=""),"",IF(ISNUMBER(G16)=TRUE,"",IF(COUNT(E16:L16)=0,"",IF(O16="","",IF(COUNT(E16:J16)=0,ROUND(0.3*K16+0.5*O16,1),ROUND(0.2*(SUM(E16:J16)/COUNT(E16:J16))+0.3*K16+0.5*O16,1)))))))
A17: =IF(B17="","",SUBTOTAL(3,$B$11:B17)) | M17: =IF(B17="","",IF(OR($C$6="",$I$6="",$K$6="",$I$91=""),"",IF(COUNT(E17:L17)=0,"",IF(COUNT(E17:J17)=0,ROUND(0.3*K17+0.5*L17,1),ROUND(0.2*(SUM(E17:J17)/COUNT(E17:J17))+0.3*K17+0.5*L17,1))))) | N17: =IF(B17="","",IF(OR($C$6="",$I$6="",$K$6=""),"",IF(M17="","KXL",IF(M17<4,"Kém",IF(M17<5.4,"TBY",IF(M17<7,"TB",IF(M17<8.4,"Khá","Giỏi"))))))) | P17: =IF(B17="","",IF(OR($C$6="",$I$6="",$K$6="",$I$91=""),"",IF(ISNUMBER(G17)=TRUE,"",IF(COUNT(E17:L17)=0,"",IF(O17="","",IF(COUNT(E17:J17)=0,ROUND(0.3*K17+0.5*O17,1),ROUND(0.2*(SUM(E17:J17)/COUNT(E17:J17))+0.3*K17+0.5*O17,1)))))))
A18: =IF(B18="","",SUBTOTAL(3,$B$11:B18)) | M18: =IF(B18="","",IF(OR($C$6="",$I$6="",$K$6="",$I$91=""),"",IF(COUNT(E18:L18)=0,"",IF(COUNT(E18:J18)=0,ROUND(0.3*K18+0.5*L18,1),ROUND(0.2*(SUM(E18:J18)/COUNT(E18:J18))+0.3*K18+0.5*L18,1))))) | N18: =IF(B18="","",IF(OR($C$6="",$I$6="",$K$6=""),"",IF(M18="","KXL",IF(M18<4,"Kém",IF(M18<5.4,"TBY",IF(M18<7,"TB",IF(M18<8.4,"Khá","Giỏi"))))))) | P18: =IF(B18="","",IF(OR($C$6="",$I$6="",$K$6="",$I$91=""),"",IF(ISNUMBER(G18)=TRUE,"",IF(COUNT(E18:L18)=0,"",IF(O18="","",IF(COUNT(E18:J18)=0,ROUND(0.3*K18+0.5*O18,1),ROUND(0.2*(SUM(E18:J18)/COUNT(E18:J18))+0.3*K18+0.5*O18,1)))))))
A19: =IF(B19="","",SUBTOTAL(3,$B$11:B19)) | M19: =IF(B19="","",IF(OR($C$6="",$I$6="",$K$6="",$I$91=""),"",IF(COUNT(E19:L19)=0,"",IF(COUNT(E19:J19)=0,ROUND(0.3*K19+0.5*L19,1),ROUND(0.2*(SUM(E19:J19)/COUNT(E19:J19))+0.3*K19+0.5*L19,1))))) | N19: =IF(B19="","",IF(OR($C$6="",$I$6="",$K$6=""),"",IF(M19="","KXL",IF(M19<4,"Kém",IF(M19<5.4,"TBY",IF(M19<7,"TB",IF(M19<8.4,"Khá","Giỏi"))))))) | P19: =IF(B19="","",IF(OR($C$6="",$I$6="",$K$6="",$I$91=""),"",IF(ISNUMBER(G19)=TRUE,"",IF(COUNT(E19:L19)=0,"",IF(O19="","",IF(COUNT(E19:J19)=0,ROUND(0.3*K19+0.5*O19,1),ROUND(0.2*(SUM(E19:J19)/COUNT(E19:J19))+0.3*K19+0.5*O19,1)))))))
A20: =IF(B20="","",SUBTOTAL(3,$B$11:B20)) | M20: =IF(B20="","",IF(OR($C$6="",$I$6="",$K$6="",$I$91=""),"",IF(COUNT(E20:L20)=0,"",IF(COUNT(E20:J20)=0,ROUND(0.3*K20+0.5*L20,1),ROUND(0.2*(SUM(E20:J20)/COUNT(E20:J20))+0.3*K20+0.5*L20,1))))) | N20: =IF(B20="","",IF(OR($C$6="",$I$6="",$K$6=""),"",IF(M20="","KXL",IF(M20<4,"Kém",IF(M20<5.4,"TBY",IF(M20<7,"TB",IF(M20<8.4,"Khá","Giỏi"))))))) | P20: =IF(B20="","",IF(OR($C$6="",$I$6="",$K$6="",$I$91=""),"",IF(ISNUMBER(G20)=TRUE,"",IF(COUNT(E20:L20)=0,"",IF(O20="","",IF(COUNT(E20:J20)=0,ROUND(0.3*K20+0.5*O20,1),ROUND(0.2*(SUM(E20:J20)/COUNT(E20:J20))+0.3*K20+0.5*O20,1)))))))
A21: =IF(B21="","",SUBTOTAL(3,$B$11:B21)) | M21: =IF(B21="","",IF(OR($C$6="",$I$6="",$K$6="",$I$91=""),"",IF(COUNT(E21:L21)=0,"",IF(COUNT(E21:J21)=0,ROUND(0.3*K21+0.5*L21,1),ROUND(0.2*(SUM(E21:J21)/COUNT(E21:J21))+0.3*K21+0.5*L21,1))))) | N21: =IF(B21="","",IF(OR($C$6="",$I$6="",$K$6=""),"",IF(M21="","KXL",IF(M21<4,"Kém",IF(M21<5.4,"TBY",IF(M21<7,"TB",IF(M21<8.4,"Khá","Giỏi"))))))) | P21: =IF(B21="","",IF(OR($C$6="",$I$6="",$K$6="",$I$91=""),"",IF(ISNUMBER(G21)=TRUE,"",IF(COUNT(E21:L21)=0,"",IF(O21="","",IF(COUNT(E21:J21)=0,ROUND(0.3*K21+0.5*O21,1),ROUND(0.2*(SUM(E21:J21)/COUNT(E21:J21))+0.3*K21+0.5*O21,1)))))))
